BEGIN:VCALENDAR
VERSION:2.0
PRODID:-//IWF 2026 Atlanta — Local Booth Builder &amp; Rentals - ECPv6.15.13.1//NONSGML v1.0//EN
CALSCALE:GREGORIAN
METHOD:PUBLISH
X-WR-CALNAME:IWF 2026 Atlanta — Local Booth Builder &amp; Rentals
X-ORIGINAL-URL:https://iwf2026.com
X-WR-CALDESC:Events for IWF 2026 Atlanta — Local Booth Builder &amp; Rentals
REFRESH-INTERVAL;VALUE=DURATION:PT1H
X-Robots-Tag:noindex
X-PUBLISHED-TTL:PT1H
BEGIN:VTIMEZONE
TZID:UTC
BEGIN:STANDARD
TZOFFSETFROM:+0000
TZOFFSETTO:+0000
TZNAME:UTC
DTSTART:20250101T000000
END:STANDARD
END:VTIMEZONE
BEGIN:VEVENT
DTSTART;TZID=UTC:20260608T090000
DTEND;TZID=UTC:20260610T235959
DTSTAMP:20260419T160100
CREATED:20251023T083925Z
LAST-MODIFIED:20251023T083925Z
UID:26079-1780909200-1781135999@iwf2026.com
SUMMARY:WORLD PROCESSING TOMATO CONGRESS 2026
DESCRIPTION:WORLD PROCESSING TOMATO CONGRESS 2026 — Exhibitor Guide & Custom Booth Options\nAbout WORLD PROCESSING TOMATO CONGRESS 2026\nWORLD PROCESSING TOMATO CONGRESS 2026 booth rental is essential for exhibitors looking to make an impactful impression. Join industry leaders in Monterey and discover opportunities that connect\, collaborate\, and shape the future of the processing tomato industry. This premier event takes place from 2026-07-05 to 2026-07-07\, at Monterey Conference Center\, One Portola Plaza Monterey\, CA 93940 United States. Visith the official website for more details. \n\nKey Details: Jul 5–7\, 9:00 AM–5:00 PM\nLocation: Monterey Conference Center\nAddress: One Portola Plaza Monterey\, CA 93940\nCountry: United States\n\nIndustries & Audience: Food Processing Industries\, Agriculture – Agricultural Machinery \nVenue & Location\nThe event will be held at Monterey Conference Center\, located at One Portola Plaza Monterey\, CA 93940\, United States. The venue offers excellent logistics for exhibitors\, including move-in windows and dock access for our efficient setup process. For any inquiries\, please feel free to reach out via phone. \nMonterey CA: Our Services\nIn Monterey\, we DESIGN\, PRODUCE\, INSTALL & DISMANTLE turnkey booth rentals tailored to your needs. Our services encompass concept/design\, modular frames\, branded SEG graphics\, and on-site I&D. Our commitment to quality ensures your booth captures the essence of your brand while delivering an engaging experience for attendees. \nCustom Booth Models\nExplore our Snap Exhibitions Custom Booth Models\, perfect for the varied attendees in the Food Processing Industries and Agriculture sectors. Popular booth sizes include: \n\n10×10: Ideal for startups and small scale presentations.\n10×20: Great for mid-sized companies looking to showcase diverse products.\n20×20: Perfect for larger brands pursuing a dynamic presence.\n\nEach option supports our full-service exhibit support to guarantee a seamless exhibition experience. If you’re ready to make your event stand out\, contact our team and let us help you create something extraordinary! \nFAQ\n\nWhat are the dates and hours for WORLD PROCESSING TOMATO CONGRESS 2026? The event runs from Jul 5–7\, 2026\, from 9:00 AM to 5:00 PM.\nWhat is WORLD PROCESSING TOMATO CONGRESS 2026 booth rental? It is an essential service for exhibitors to secure a premium space that enables impactful presentations at the event.\nWhat recommended booth sizes are suitable for Food Processing Industries? Booths in the sizes of 10×10\, 10×20\, and 20×20 are especially popular and effective for brands in this category.\nWhy is an aluminum booth better than wood? Aluminum booths are lighter\, easier to transport\, and offer a modern aesthetic compared to traditional wooden booths.\nWhat can I expect from Monterey as a trade show city? Monterey offers a vibrant atmosphere with excellent logistics and support for trade shows\, ensuring a great experience for exhibitors.\nHow can SNAP EXHIBITIONS help me create the perfect booth? We provide comprehensive services including design\, production\, installation\, and dismantle ensuring everything is executed flawlessly.\n\nIn conclusion\, securing a WORLD PROCESSING TOMATO CONGRESS 2026 booth rental boosts your visibility and connection in the processing tomato industry. To elevate your exhibit experience\, contact our team today!
URL:https://iwf2026.com/event/world-processing-tomato-congress-2026/
CATEGORIES:Agriculture - Agricultural Machinery,Food Processing Industries
END:VEVENT
BEGIN:VEVENT
DTSTART;TZID=UTC:20270427T090000
DTEND;TZID=UTC:20270429T235959
DTSTAMP:20260419T160100
CREATED:20251023T052742Z
LAST-MODIFIED:20251023T052742Z
UID:25837-1808816400-1809043199@iwf2026.com
SUMMARY:INTERNATIONAL POWDER & BULK SOLIDS 2027
DESCRIPTION:INTERNATIONAL POWDER & BULK SOLIDS 2027 booth rental — Essential Guide\nAbout INTERNATIONAL POWDER & BULK SOLIDS 2027\nVenue & Location\nRosemont IL: Our Services\nCustom Booth Models\nFAQ\n\nAbout INTERNATIONAL POWDER & BULK SOLIDS 2027\nINTERNATIONAL POWDER & BULK SOLIDS 2027 invites exhibitors and visitors alike to explore the forefront of the Powder & Bulk Solids industries. This essential exhibition showcases suppliers from multiple sectors\, including Chemical\, Pharmaceutical\, Food\, Beverage\, Cosmetics\, Plastics\, Fabricated Primary Metals\, Cement\, Paints & Pigments\, Grain\, Mining. Attendees will gain invaluable insights into innovative solutions that drive success and efficiency in their operations. \nKey Details: May 24–26\, 2027\, 9:00 AM–5:00 PM\, Hyatt Regency O’Hare\, 9300 Bryn Mawr Avenue\, Rosemont\, IL\, United States. Learn more about the event details at Event Website. \nJoin fellow professionals from your industry to discover the latest technologies and network with key players in the market. \n\n\nVenue & Location\nThe event will take place at the Hyatt Regency O’Hare\, located at 9300 Bryn Mawr Avenue\, Rosemont\, IL\, United States. The venue provides central access and ample logistics support with adequate move-in windows and dock access for exhibitors. \n\n\nRosemont IL: Our Services\nIn Rosemont\, IL\, we DESIGN\, PRODUCE\, INSTALL & DISMANTLE turnkey booth rentals. Our offerings include comprehensive concept/design solutions\, modular frames\, branded SEG graphics\, reception/storage\, and on-site I&D services. We ensure a seamless experience that merges creativity and practicality for all exhibitors. \n\n\nCustom Booth Models\nWe provide a variety of popular booth sizes including 10×10\, 10×20\, and 20×20 that are perfectly suited for the needs of professionals in the Powder\, Granules and Bulk Solids\, Logistics & Transportation Engineering – Handling Operations – Storage\, Trucks and Utility Vehicles\, Chemical Process\, Agriculture – Agricultural Machinery sectors. Each footprint is designed to enhance visibility and interaction at exhibitions. \nFor great examples\, check our Snap Exhibitions Custom Booth Models. Our team provides full-service exhibit support\, and if you’re ready to take the next step\, please contact our team. \n\n\nFAQ\nWhat is INTERNATIONAL POWDER & BULK SOLIDS 2027 booth rental?\nINTERNATIONAL POWDER & BULK SOLIDS 2027 booth rental provides exhibitors with all-inclusive solutions for presenting their products effectively at the event. \nWhat are the event hours for INTERNATIONAL POWDER & BULK SOLIDS 2027?\nThe event runs from May 24–26\, 2027\, daily from 9:00 AM to 5:00 PM. \nWhat booth sizes do you recommend for the Powder & Bulk Solids sector?\nWe recommend 10×10 or 10×20 booths for optimal engagement and visibility. \nWhy is an aluminum booth better than wood?\nAluminum booths are lighter and more durable than wood\, and they provide greater versatility and cost-effectiveness for temporary setups. \nWhat can I expect at the Hyatt Regency O’Hare for this event?\nThe Hyatt Regency O’Hare offers excellent facilities\, ample space for networking\, and a hospitable environment for all attendees. \nHow can SNAP EXHIBITIONS help me make everything perfect about my booth?\nSNAP EXHIBITIONS guarantees a seamless process through our comprehensive services tailored to your specific booth needs\, ensuring a successful exhibition experience. \n\nINTERNATIONAL POWDER & BULK SOLIDS 2027 booth rental is your path to exhibiting success. We invite you to contact our team for a personalized consultation today!
URL:https://iwf2026.com/event/international-powder-bulk-solids-2027/
CATEGORIES:Agriculture - Agricultural Machinery,Chemical Process,Granules and Bulk Solids,Logistics & Transportation Engineering - Handling Operations - Storage,Powder,Trucks and Utility Vehicles
END:VEVENT
END:VCALENDAR