BEGIN:VCALENDAR
VERSION:2.0
PRODID:-//IWF 2026 Atlanta — Local Booth Builder &amp; Rentals - ECPv6.15.13.1//NONSGML v1.0//EN
CALSCALE:GREGORIAN
METHOD:PUBLISH
X-ORIGINAL-URL:https://iwf2026.com
X-WR-CALDESC:Events for IWF 2026 Atlanta — Local Booth Builder &amp; Rentals
REFRESH-INTERVAL;VALUE=DURATION:PT1H
X-Robots-Tag:noindex
X-PUBLISHED-TTL:PT1H
BEGIN:VTIMEZONE
TZID:UTC
BEGIN:STANDARD
TZOFFSETFROM:+0000
TZOFFSETTO:+0000
TZNAME:UTC
DTSTART:20250101T000000
END:STANDARD
END:VTIMEZONE
BEGIN:VEVENT
DTSTART;TZID=UTC:20260422T090000
DTEND;TZID=UTC:20260424T235959
DTSTAMP:20260419T124528
CREATED:20251023T052554Z
LAST-MODIFIED:20251023T052554Z
UID:25832-1776848400-1777075199@iwf2026.com
SUMMARY:DEALERPOINT 2026
DESCRIPTION:DEALERPOINT 2026 booth rental — Ultimate Exhibitor Guide & Custom Booth Options\nAbout DEALERPOINT 2026\nDEALERPOINT 2026 booth rental offers a golden opportunity for auto retail solution providers to connect with key dealership owners and decision makers. This important event\, held from Dec 20–21\, 2026\, 9:00 AM–5:00 PM at the Hyatt Regency Grand Cypress Resort\, Orlando\, FL\, United States\, provides a structured and efficient environment allowing valuable relationships to form and flourish. Attendees will gain insights and forge connections crucial for business growth. \n\nKey Details: Dec 20–21\, 9:00 AM–5:00 PM\nLocation: Hyatt Regency Grand Cypress Resort\nAddress: 1 Grand Cypress Blvd\, Orlando\, FL 32836\, USA\nWebsite: digitaldealer.com/dealerpoint\n\nIndustries & Audience: General Automobile\, Automotive Engineering – Systems & Components\, Workshop & Service Station Equipment\, Marketing & Selling. \nVenue & Location\nThe event will take place in the exquisite Hyatt Regency Grand Cypress Resort\, located at 1 Grand Cypress Blvd\, Orlando\, FL\, USA. The venue provides excellent logistics\, ensuring convenient move-in and dock access for our exhibitors\, fostering an effortless setup. \nOrlando\, FL: Our Services\nWe DESIGN\, PRODUCE\, INSTALL & DISMANTLE turnkey booth rentals in Orlando\, FL. Our scope includes concept/design\, modular frames\, branded SEG graphics\, reception/storage\, and TV mounts. We ensure a seamless booth experience from start to finish. \nCustom Booth Models\nExplore our Snap Exhibitions Custom Booth Models\, featuring various popular footprints like 10×10\, 10×20\, and 20×20. Each option is carefully designed to fit the needs of businesses in the listed sectors\, providing impactful spaces that capture attention. \nOur expertise extends to full-service exhibit support\, ensuring every exhibitor has a successful showing. For details or custom inquiries\, contact our team. \nFAQ\nQ: What is DEALERPOINT 2026 booth rental?A: DEALERPOINT 2026 booth rental provides businesses in the auto industry with a unique chance to showcase their offerings to key decision-makers in the sector. \nQ: What are the event dates and hours?A: The event will be held on Dec 20–21\, 2026\, from 9:00 AM to 5:00 PM. \nQ: What booth sizes do you recommend for the automotive sectors?A: Popular booth sizes for the automotive industry include 10×10 for smaller displays\, 10×20 for mid-range showcases\, and 20×20 for larger presentations. \nQ: Why is an aluminum booth better than wood?A: Aluminum booths are more durable\, easier to transport\, and provide a modern aesthetic\, making them ideal for trade shows. \nQ: What services does Snap Exhibitions offer in Orlando?A: We provide comprehensive booth rental services\, including design\, production\, installation\, and dismantling\, tailored to enhance your trade show experience. \nQ: How can SNAP EXHIBITIONS help me make everything perfect about my booth?A: We specialize in turnkey booth rentals\, ensuring that every detail is addressed throughout the planning and execution of your exhibition. \nIn conclusion\, if you’re looking for DEALERPOINT 2026 booth rental solutions\, look no further! For a seamless experience and to ensure your exhibition shines\, follow up and contact us today!
URL:https://iwf2026.com/event/dealerpoint-2026/
CATEGORIES:Automotive Engineering - Systems & Components,General Automobile,Marketing & Selling,Workshop & Service Station Equipment
END:VEVENT
BEGIN:VEVENT
DTSTART;TZID=UTC:20260504T090000
DTEND;TZID=UTC:20260506T235959
DTSTAMP:20260419T124528
CREATED:20251023T052230Z
LAST-MODIFIED:20251023T052230Z
UID:25824-1777885200-1778111999@iwf2026.com
SUMMARY:CERAMICS EXPO 2026
DESCRIPTION:CERAMICS EXPO 2026 Booth Rental — Ultimate Guide\nAbout CERAMICS EXPO 2026\nThe CERAMICS EXPO 2026 booth rental provides companies in the ceramic industry with a chance to connect\, learn\, and grow. From September 1–3\, 2026\, at the Huntington Convention Center of Cleveland\, this exhibition offers exhibitors a platform to showcase innovative products and services. \nVisitors will benefit from valuable insights into the latest industry developments\, including sourcing next-generation materials and forging new business connections. \n Key Details:\n September 1–3\, 2026\, 9:00 AM–5:00 PM\n Huntington Convention Center of Cleveland\n 300 Lakeside Ave E\, Cleveland\, OH 44113\, United States\n For more information\, visit the official site. \nIndustries & Audience: Advanced Materials\, Stone\, Marble & Ceramics\, Sciences for Engineers – Research & Development\, Aeronautics – Space\, Automotive Engineering – Systems & Components\, Decoration\, Home & Office Design\, Furniture\, Lighting \nVenue & Location\nThe event will take place at the Huntington Convention Center of Cleveland\, located at 300 Lakeside Ave E\, Cleveland\, OH 44113\, United States. Attendees will enjoy convenient access to a variety of logistics\, including move-in windows and dock access. \nCleveland OH: Our Services\nAt Snap Exhibitions\, we DESIGN\, PRODUCE\, INSTALL & DISMANTLE turnkey booth rentals in Cleveland\, OH. Our complete service includes concept design\, modular frames\, branded SEG graphics\, reception/storage areas\, and on-site installation and dismantling support. \nCustom Booth Models\nExplore our Snap Exhibitions Custom Booth Models which are designed to cater to the needs of various exhibitors. Popular footprints include: \n\n10×10 Booths: Ideal for new brands looking to enter the market and make a strong impression.\n10×20 Booths: Great for displaying a wider range of products while maintaining an intimate setting.\n20×20 Booths: Perfect for established businesses wanting to showcase multiple products and attract significant attention.\n\nAll our booth models offer flexibility and can be customized to fit the needs of exhibitors participating in the categories listed. \nWe provide full-service exhibit support\, ensuring that your booth stands out and effectively communicates your brand message. \nFAQ\n\nWhat is the CERAMICS EXPO 2026 booth rental? A rental service that allows exhibitors to showcase their offerings efficiently.\nWhat are the event hours and dates? The event will occur from September 1–3\, 2026\, from 9:00 AM to 5:00 PM.\nWhat booth sizes are recommended for the ceramic industry? Typically\, 10×10 or 10×20 booths are popular for showcasing products effectively.\nWhy is an aluminum booth better than wood? Aluminum offers enhanced durability and a modern look\, reducing maintenance needs.\nWhat is special about the Huntington Convention Center of Cleveland? It provides excellent facilities and accessibility for exhibitors and visitors alike.\nHow SNAP EXHIBITIONS can help make everything perfect about their booth? We ensure a seamless process from design to dismantling\, guaranteeing a successful exhibition experience.\n\nWith the CERAMICS EXPO 2026 booth rental\, we are dedicated to making your participation as impactful as possible. For further information\, contact our team today!
URL:https://iwf2026.com/event/ceramics-expo-2026/
CATEGORIES:Advanced Materials,Aeronautics - Space,Automotive Engineering - Systems & Components,Decoration,Furniture,Home & Office Design,Lighting,Marble & Ceramics,Sciences for Engineers - Research & Development,Stone
END:VEVENT
BEGIN:VEVENT
DTSTART;TZID=UTC:20260505T090000
DTEND;TZID=UTC:20260506T235959
DTSTAMP:20260419T124528
CREATED:20251022T201113Z
LAST-MODIFIED:20251022T201113Z
UID:25642-1777971600-1778111999@iwf2026.com
SUMMARY:FASTENER FAIR USA 2026
DESCRIPTION:FASTENER FAIR USA 2026 booth rental — Ultimate Exhibitor Guide & Custom Booth Options\nAbout FASTENER FAIR USA 2026\nVenue & Location\nCharlotte NC: Our Services\nCustom Booth Models\nFAQ\nFASTENER FAIR USA 2026 booth rental is your chance to showcase cutting-edge products and innovations from the fastener industry. Taking place at the Charlotte Convention Center\, this event is a prime opportunity for professionals in automotive\, aerospace\, construction\, and more to network and discover the latest advancements. From the latest fastening technologies to domestic appliance innovations\, attendees can expect a diverse exhibition. \nKey Details: Mar 01–02\, 2026\, 9:00 AM–5:00 PM\, Charlotte Convention Center\, 501 South College Street\, Charlotte\, NC 28202\, United States. \nIndustries & Audience: Mechanical Components\, Automotive Engineering – Systems & Components\, Aeronautics – Space\, Wood Working Industries\, Household Appliances – Domestic Appliance Technology. \nFASTENER FAIR USA 2026 booth rental — Essential Details\nAs exhibitors\, your goal is to attract attention with your booth at FASTENER FAIR USA 2026. Efficiently displaying your products\, engaging visitors\, and networking are critical to maximizing your return on investment. Choosing the right size and design for your booth is essential to making the best first impression. With our turnkey booth rentals\, we ensure exhibitors have a seamless experience. \nVenue & Location\nThe Charlotte Convention Center is located at 501 South College Street\, Charlotte\, NC 28202\, United States. This venue offers excellent logistics for exhibitors\, including manageable move-in windows and accessible dock areas. We ensure our booth installations are executed flawlessly to make your experience as smooth as possible. \nCharlotte NC: Our Services\nIn Charlotte\, NC\, we DESIGN\, PRODUCE\, INSTALL & DISMANTLE turnkey booth rentals. Our comprehensive offerings include concept design\, modular frames\, branded SEG graphics\, reception/storage areas\, TV mounts\, and on-site installation and dismantling. We are dedicated to bringing your vision to life in the fastener industry. \nCustom Booth Models\nWe offer a variety of popular booth footprints such as 10×10\, 10×20\, and 20×20 setups that are perfectly suited for trade shows like FASTENER FAIR USA 2026. Each footprint is designed to maximize your engagement with visitors\, allowing you to effectively present your offerings. Explore our Snap Exhibitions Custom Booth Models for inspirations and find the perfect fit for your needs. For full-service exhibit support\, look no further. \nFAQ\n\nWhat is FASTENER FAIR USA 2026 booth rental?\nFASTENER FAIR USA 2026 booth rental provides exhibitors with a space to display their fastening solutions and network with industry experts.\nWhen are the event hours for FASTENER FAIR USA 2026?\nThe event will run from March 1 to 2\, 2026\, from 9:00 AM to 5:00 PM each day.\nWhat recommended booth sizes work best for industries at FASTENER FAIR USA 2026?\nPopular booths like 10×20 and 20×20 offer ample space for showcasing products effectively\, catering to various industries.\nWhy is an aluminum booth better than wood?\nAluminum is lighter\, more durable\, and easier to transport\, making it a better choice for modular booths compared to wood.\nWhat services does SNAP Exhibitions provide in Charlotte?\nWe offer comprehensive turnkey booth rentals\, design services\, and full installation to ensure stress-free participation.\nHow can SNAP EXHIBITIONS help make everything perfect about their booth?\nWe handle the entire process from design to dismantling\, ensuring a smooth experience for your booth at the event.\n\nFASTENER FAIR USA 2026 booth rental is the key to showcasing your business effectively. Trust us to design and execute a stunning space that attracts visitors. Contact our team today to learn how we can make your experience seamless!
URL:https://iwf2026.com/event/fastener-fair-usa-2026/
CATEGORIES:Aeronautics - Space,Automotive Engineering - Systems & Components,Household Appliances - Domestic Appliance Technology,Mechanical Components,Wood Working Industries
END:VEVENT
BEGIN:VEVENT
DTSTART;TZID=UTC:20260511T090000
DTEND;TZID=UTC:20260514T235959
DTSTAMP:20260419T124528
CREATED:20251023T082737Z
LAST-MODIFIED:20251023T082737Z
UID:26048-1778490000-1778803199@iwf2026.com
SUMMARY:AUVSI'S XPONENTIAL 2026
DESCRIPTION:AUVSI’S XPONENTIAL 2026 booth rental — Ultimate Exhibitor Guide & Custom Booth Options\nAbout AUVSI’S XPONENTIAL 2026\nAUVSI’S XPONENTIAL 2026 booth rental is designed for exhibitors looking to showcase innovations in unmanned systems technologies across air\, land\, and sea. This premier event invites professionals from the **Aeronautics – Space\, Defense – Armament\, Robotics\, Automotive Engineering – Systems & Components** industries\, providing a platform for networking and collaboration. Visitors can gain insights into cutting-edge advancements while exhibitors can maximize their visibility and reach to potential clients. \nKey Details: April 3–6\, 2026\, Miami Beach Convention Center\, 1901 Convention Center Drive\, Miami Beach\, United States. \nVenue & Location\nThe AUVSI’S XPONENTIAL 2026 event will be held at the Miami Beach Convention Center\, located at 1901 Convention Center Drive in Miami Beach\, USA. This venue offers convenient logistics including ample dock access for smooth move-in processes. For inquiries\, you can reach the venue by phone. \nMiami Beach: Our Services\nWe DESIGN\, PRODUCE\, INSTALL & DISMANTLE turnkey booth rentals in Miami Beach. Our service scope includes concept/design\, modular frames\, branded SEG graphics\, reception/storage\, TV mount\, and on-site installation and dismantling. Let’s make your presence felt at AUVSI’S XPONENTIAL 2026. \nCustom Booth Models\nOur Snap Exhibitions Custom Booth Models are tailored to meet the diverse needs of exhibitors. We can support footprints of various sizes\, such as: \n\n10×10: Ideal for startups and smaller displays.\n10×20: A popular choice for mid-sized companies to showcase a more extensive array of products.\n20×20: Perfect for larger booth space\, allowing for unique designs and creative layouts.\n\nThese booths fit the needs of attendees in the listed sectors effectively. \nWe offer full-service exhibit support to ensure your showcase is executed flawlessly. \nFor any inquiries on how we can accommodate your specific needs\, contact our team. \nFAQ\nQ: Why should I choose AUVSI’S XPONENTIAL 2026 booth rental? \nA: AUVSI’S XPONENTIAL 2026 booth rental offers an unparalleled opportunity to connect with industry leaders in unmanned systems technology. \nQ: What are the event hours for AUVSI’S XPONENTIAL? \nA: The event runs from April 3 to April 6\, 2026. \nQ: What booth sizes do you recommend for the aeronautics or defense sectors? \nA: We recommend starting with at least a 10×10 for basic displays or a 10×20 to showcase more complex solutions. \nQ: Why is an aluminum booth better than wood? \nA: Aluminum booths are lighter\, more durable\, and offer a modern aesthetic compared to traditional wood structures. \nQ: What can I expect from Miami Beach as a venue? \nA: Miami Beach offers vibrant surroundings and excellent amenities for an unforgettable event experience. \nQ: How can SNAP EXHIBITIONS help me make everything perfect for my booth? \nA: We ensure a seamless experience by managing all aspects of your booth from design to installation. \nIncluding AUVSI’S XPONENTIAL 2026 booth rental in your event strategy ensures visibility and engagement. For complete support and high-quality booths\, contact us today!
URL:https://iwf2026.com/event/auvsis-xponential-2026/
CATEGORIES:Aeronautics - Space,Automotive Engineering - Systems & Components,Defense - Armament,Robotics
END:VEVENT
BEGIN:VEVENT
DTSTART;TZID=UTC:20260609T090000
DTEND;TZID=UTC:20260612T235959
DTSTAMP:20260419T124528
CREATED:20251023T052320Z
LAST-MODIFIED:20251023T052320Z
UID:25826-1780995600-1781308799@iwf2026.com
SUMMARY:ITS AMERICA CONFERENCE & EXPO 2026
DESCRIPTION:ITS AMERICA CONFERENCE & EXPO 2026 booth rental — Ultimate Exhibitor Guide & Custom Booth Options\nAbout ITS AMERICA CONFERENCE & EXPO 2026\nVenue & Location\nDetroit MI: Our Services\nCustom Booth Models\nFAQ\n\nAbout ITS AMERICA CONFERENCE & EXPO 2026\nITS AMERICA CONFERENCE & EXPO 2026 booth rental is an exceptional opportunity for businesses to showcase their innovations in the field of intelligent transportation. Taking place at the Huntington Place Convention Center\, this event runs from Oct 7–10\, 2026\, providing attendees with the chance to explore cutting-edge technologies and solutions while networking with industry leaders. \nThe conference will cover a wide range of topics including Automotive Engineering\, Logistics & Transportation Engineering\, and Artificial Intelligence. Exhibitors will gain significant insights into market trends and technical advancements\, making this event essential for professionals in the industry. \nKey Details: \nDate: Oct 7–10\, 2026\, 9:00 AM–5:00 PM\nLocation: Huntington Place Convention Center\nAddress: 1 Washington Boulevard\, Detroit\, MI 48226\, USA\n\nThis conference caters to a diverse audience from sectors including Automotive Engineering\, Logistics\, and Real Time Systems. \n\n\nVenue & Location\nThe event will be hosted at the Huntington Place Convention Center\, a prime location conveniently situated in Detroit\, offering excellent facilities for exhibitors. Known for its spacious layout and accessibility\, this venue will facilitate a seamless experience for setup and connectivity. \nCentral access and well-known proximity to transport hubs make it easy for exhibitors and visitors alike. For inquiries\, reach out at {Phone}. \n\n\nDetroit MI: Our Services\nWe DESIGN\, PRODUCE\, INSTALL & DISMANTLE turnkey booth rentals in Detroit MI\, ensuring that every exhibitor’s needs are met. Our comprehensive services include concept design\, modular frames\, branded SEG graphics\, reception areas\, and TV mounts—allowing your exhibit to stand out. \n\n\nCustom Booth Models\nWe offer a variety of popular booth footprints\, including: \n\n10×10: Ideal for small-scale product showcases.\n10×20: A versatile option for brands needing more exposure.\n20×20: Perfect for larger brands aiming to make a significant impact.\n\nFor further details\, explore our Snap Exhibitions Custom Booth Models that cater to a range of sectors. We provide full-service exhibit support to guarantee your success! \nFor inquiries or custom designs\, contact our team. \n\n\nFAQ\nWhat is the schedule for ITS AMERICA CONFERENCE & EXPO 2026?\nThe event runs from Oct 7 to Oct 10\, 2026\, from 9:00 AM to 5:00 PM daily. \nHow can I secure an ITS AMERICA CONFERENCE & EXPO 2026 booth rental?\nBy reaching out to us\, we can assist you in securing a booth rental tailored to your needs. \nWhat booth sizes do you recommend for the Automotive Engineering sector?\nWe recommend utilizing 10×20 or 20×20 spaces for maximum engagement. \nWhy is an aluminum booth better than wood?\nAluminum booths are lighter\, easier to assemble\, and offer more durability compared to traditional wood options. \nWhat makes Detroit a great place for trade shows?\nDetroit’s revitalization offers a vibrant network of businesses and visitors\, making it an ideal venue for trade shows. \nHow can SNAP EXHIBITIONS help me achieve the perfect booth setup?\nWe ensure that all aspects\, from design to installation\, are handled professionally to deliver a flawless exhibit experience. \n\nWith ITS AMERICA CONFERENCE & EXPO 2026 booth rental\, you’ll benefit from our expertise in creating impactful displays that attract attention. For more information or to get started\, contact our team today!
URL:https://iwf2026.com/event/its-america-conference-expo-2026/
CATEGORIES:Automotive Engineering - Systems & Components,Bridges & Tunnels,Knowledge Based Systems & Artificial Intelligence,Logistics & Transportation Engineering - Handling Operations - Storage,Real Time Systems & Embedded Systems,Roads,Sciences for Engineers - Research & Development,Trucks and Utility Vehicles,Urban Equipment & Engineering
END:VEVENT
BEGIN:VEVENT
DTSTART;TZID=UTC:20270113T090000
DTEND;TZID=UTC:20270114T235959
DTSTAMP:20260419T124528
CREATED:20251023T170521Z
LAST-MODIFIED:20251023T170521Z
UID:26131-1799830800-1799971199@iwf2026.com
SUMMARY:HYDROGEN TECHNOLOGY EXPO - NORTH AMERICA 2027
DESCRIPTION:HYDROGEN TECHNOLOGY EXPO – NORTH AMERICA 2027 booth rental — Ultimate Guide\nAbout Hydrogen Technology Expo – North America 2027\nHYDROGEN TECHNOLOGY EXPO – NORTH AMERICA 2027 booth rental provides exhibitors a prime opportunity to showcase their innovations at North America’s leading conference for the hydrogen and fuel cell industry. This event attracts professionals from various industries\, including Biofuels – Hydrogen\, Clean Energies – Renewable Energies\, Environmental Protection\, Automotive Engineering – Systems & Components\, and Electric & Hybrid Vehicles. The conference supports networking and knowledge sharing\, benefiting attendees and exhibitors alike. \n\nKey Details:  Date: Dec 11–13\, 2027\, 9:00 AM – 5:00 PM  Location: NRG Center  Address: Houston\, TX 77054\, United States  Website: Hydrogen Technology Expo\n\nVenue & Location\nThe event will be hosted at the NRG Center\, located at Houston\, TX 77054\, United States. This location features excellent logistics for exhibitors\, ensuring a smooth move-in and dock access for setup. \nHouston\, TX: Our Services\nIn Houston\, TX\, we DESIGN\, PRODUCE\, INSTALL & DISMANTLE turnkey booth rentals. We offer a full range of services\, including concept design\, modular frames\, branded SEG graphics\, reception/storage\, TV mounts\, and on-site installation and dismantling. \nCustom Booth Models\nExplore our popular footprints for exhibiting: 10×10\, 10×20\, and 20×20. These designs are ideal for professionals in the hydrogen and clean energy sectors\, ensuring an impactful presentation at the conference. For more details on customizable options\, visit our Snap Exhibitions Custom Booth Models. We also provide full-service exhibit support and encourage you to contact our team for tailored solutions. \nFAQ\nWhat services does Snap Exhibitions provide for Hydrogen Technology Expo – North America 2027 booth rental? We offer turnkey solutions\, including design\, production\, installation\, and dismantling of booths. \nWhat are the hours for the event? The Hydrogen Technology Expo – North America runs from Dec 11–13\, 2027\, from 9:00 AM to 5:00 PM. \nWhat booth sizes are recommended for companies in the hydrogen and clean energy sectors? For optimal presence\, we recommend a minimum of 10×10 or 10×20 spaces to showcase innovations. \nWhy is aluminum better for booth construction than wood? Aluminum offers durability\, lighter weight\, and more design flexibility compared to wood\, making it suitable for dynamic booth designs. \nWhat is unique about the NRG Center in Houston? NRG Center is equipped with state-of-the-art facilities ideal for hosting large-scale trade shows like the Hydrogen Technology Expo. \nHow can exhibitors at Hydrogen Technology Expo – North America 2027 enhance their booth presence? Engaging booth design\, interactive elements\, and strategic branding are key factors that can set exhibitors ahead. \nFor those needing HYDROGEN TECHNOLOGY EXPO – NORTH AMERICA 2027 booth rental\, we’re here to ensure your success at this significant event. We invite you to contact our team today and transform your exhibiting experience!
URL:https://iwf2026.com/event/hydrogen-technology-expo-north-america-2027/
CATEGORIES:Automotive Engineering - Systems & Components,Biofuels - Hydrogen,Clean Energies - Renewable Energies,Electric & Hybrid Vehicles,Energy Production & Transportation,Environmental Protection,Sciences for Engineers - Research & Development
END:VEVENT
END:VCALENDAR