BEGIN:VCALENDAR
VERSION:2.0
PRODID:-//IWF 2026 Atlanta — Local Booth Builder &amp; Rentals - ECPv6.15.13.1//NONSGML v1.0//EN
CALSCALE:GREGORIAN
METHOD:PUBLISH
X-WR-CALNAME:IWF 2026 Atlanta — Local Booth Builder &amp; Rentals
X-ORIGINAL-URL:https://iwf2026.com
X-WR-CALDESC:Events for IWF 2026 Atlanta — Local Booth Builder &amp; Rentals
REFRESH-INTERVAL;VALUE=DURATION:PT1H
X-Robots-Tag:noindex
X-PUBLISHED-TTL:PT1H
BEGIN:VTIMEZONE
TZID:UTC
BEGIN:STANDARD
TZOFFSETFROM:+0000
TZOFFSETTO:+0000
TZNAME:UTC
DTSTART:20250101T000000
END:STANDARD
END:VTIMEZONE
BEGIN:VEVENT
DTSTART;TZID=UTC:20260622T090000
DTEND;TZID=UTC:20260625T235959
DTSTAMP:20260421T204118
CREATED:20251023T192419Z
LAST-MODIFIED:20251023T192419Z
UID:26274-1782118800-1782431999@iwf2026.com
SUMMARY:BIO '2026
DESCRIPTION:BIO ‘2026 booth rental — Ultimate Exhibitor Guide & Custom Booth Options\nAbout BIO ‘2026\nVenue & Location\nSan Diego CA: Our Services\nCustom Booth Models\nFAQ\nAbout BIO ‘2026\nBIO ‘2026 booth rental is an exceptional opportunity to showcase your innovations at the International Biotechnology Meeting & Exhibition. This event is designed for audiences in Biotechnology\, Pharmaceuticals & Cosmetology\, Health Professionals\, where exhibitors can connect with high-level executives and influential decision makers seeking to discover new industry players\, form beneficial partnerships\, and evaluate cutting-edge technologies. \nKey Details: \n\nDates: Dec 20–22\, 2026\nLocation: San Diego Convention Center\nAddress: 111 W. Harbor Drive\, San Diego\, CA 92101\, USA\nWebsite: BIO ‘2026 Official Site\n\nVenue & Location\nThe SAN DIEGO CONVENTION CENTER is well-equipped for the needs of exhibitors and attendees alike. Located centrally\, it offers excellent logistical support\, including move-in windows and dock access to streamline the setup of your booth. Connect with us as we assist you throughout your exhibition journey. \nFor inquiries\, feel free to reach us at your convenience. \nSan Diego CA: Our Services\nIn San Diego CA\, we DESIGN\, PRODUCE\, INSTALL & DISMANTLE turnkey booth rentals. Our services encompass concept design\, modular frames\, branded SEG graphics\, reception/storage areas\, TV mounts\, and on-site installation and dismantling. We deliver a seamless experience\, ensuring that your exhibition space is tailor-made for success in this vibrant city. \nCustom Booth Models\nExplore our Snap Exhibitions Custom Booth Models to find the ideal setup for your needs. We offer popular footprints such as: \n\n10×10: Perfect for small engagements\, this setup helps startups grab attention within a busy environment.\n10×20: An ideal medium space that allows for innovative layout designs and increased interaction with attendees.\n20×20: Designed for maximum impact\, this model suits companies looking to showcase multiple products or services effectively.\n\nAll options are tailored for attendees in the Biotechnology and Health Professional sectors. Don’t forget to explore our full-service exhibit support. \nTo get started with your booth design and setup\, contact our team today! \nFAQ\n\nWhat can I expect from BIO ‘2026 booth rental?Your investment means high visibility among industry leaders seeking innovative solutions and partnerships.\nWhat are the dates and hours for the event?BIO ‘2026 will take place from Dec 20–22\, 2026. Specific hours to be confirmed closer to the date.\nWhat are the recommended booth sizes for health professionals?We recommend 10×20 or 20×20 setups to allow for engagement and interaction with attendees.\nWhy is an aluminum booth better than wood?Aluminum is lighter\, more durable\, and allows for modular design\, making it ideal for versatile exhibition needs.\nWhat are the benefits of exhibiting in San Diego?San Diego’s vibrant atmosphere provides a diverse audience and ample networking opportunities.\nHow can SNAP EXHIBITIONS help ensure everything is perfect for my booth?We handle all aspects of booth design and logistics to create a stress-free experience\, ensuring you focus on engaging with attendees.\n\nBIO ‘2026 booth rental is your gateway to a productive and impactful experience at the event. Don’t hesitate to reach out and let’s start planning your success today!
URL:https://iwf2026.com/event/bio-2026/
CATEGORIES:Biotechnology,Health Professionals,Pharmaceuticals & Cosmetology
END:VEVENT
END:VCALENDAR