BEGIN:VCALENDAR
VERSION:2.0
PRODID:-//IWF 2026 Atlanta — Local Booth Builder &amp; Rentals - ECPv6.15.13.1//NONSGML v1.0//EN
CALSCALE:GREGORIAN
METHOD:PUBLISH
X-WR-CALNAME:IWF 2026 Atlanta — Local Booth Builder &amp; Rentals
X-ORIGINAL-URL:https://iwf2026.com
X-WR-CALDESC:Events for IWF 2026 Atlanta — Local Booth Builder &amp; Rentals
REFRESH-INTERVAL;VALUE=DURATION:PT1H
X-Robots-Tag:noindex
X-PUBLISHED-TTL:PT1H
BEGIN:VTIMEZONE
TZID:UTC
BEGIN:STANDARD
TZOFFSETFROM:+0000
TZOFFSETTO:+0000
TZNAME:UTC
DTSTART:20250101T000000
END:STANDARD
END:VTIMEZONE
BEGIN:VEVENT
DTSTART;TZID=UTC:20260304T090000
DTEND;TZID=UTC:20260305T235959
DTSTAMP:20260421T140812
CREATED:20251023T065300Z
LAST-MODIFIED:20251023T065300Z
UID:26035-1772614800-1772755199@iwf2026.com
SUMMARY:EARTHQUAKE EXPO USA - CALIFORNIA 2026
DESCRIPTION:EARTHQUAKE EXPO USA – CALIFORNIA 2026 booth rental — Essential Guide\nAbout EARTHQUAKE EXPO USA – CALIFORNIA 2026\nVenue & Location\nMiami Beach: Our Services\nCustom Booth Models\nFAQ\nEARTHQUAKE EXPO USA – CALIFORNIA 2026\nEARTHQUAKE EXPO USA – CALIFORNIA 2026 booth rental will provide exhibitors with an unmatched platform to connect with industry leaders and gain insights into the latest seismic preparation and management strategies. This premier event caters to professionals from sectors such as **Security – Risk Management**\, **Urban Equipment & Engineering**\, **Building & Construction**\, and **Health Professionals**. Visitors and exhibitors will benefit from showcasing the latest tools and strategies to navigate seismic challenges. \n\nKey Details:\nDates: Nov 30–Dec 2\, 9:00 AM–5:00 PM\nVenue: Miami Beach Convention Center\nAddress: 1901 Convention Center Drive\, Miami Beach\, USA\nCountry: United States\n\nJoin visionary leaders and innovators at this critical convergence. The event promises to deliver valuable insights necessary for preparing for and managing seismic activities. \nVenue & Location\nThe Miami Beach Convention Center is strategically located at 1901 Convention Center Drive\, Miami Beach\, USA. The venue is equipped to handle large-scale events\, providing essential logistics\, including access for set-up and dismantling of booths. Attendees can expect a suitable environment for networking and collaboration. \nFor any inquiries\, feel free to contact us. \nMiami Beach: Our Services\nIn this city\, we DESIGN\, PRODUCE\, INSTALL & DISMANTLE turnkey booth rentals for EARTHQUAKE EXPO USA – CALIFORNIA 2026. Our services include concept creation\, modular frame setups\, branded SEG graphics\, reception desks\, storage solutions\, and mounting for TVs. We aim to provide a comprehensive finish that reflects your brand’s vision and goals. \nCustom Booth Models\nWe offer a variety of booth footprints including 10×10\, 10×20\, and 20×20 options. These setups are ideal for exhibitors in the **Security – Risk Management**\, **Building & Construction**\, and **Health Professionals** sectors\, as they are both functional and attractive to attendees. Explore our Snap Exhibitions Custom Booth Models to find the perfect fit for your needs and vision. \nFor a full-service exhibit support experience\, we guide you every step of the way. Ready to enhance your presence? Contact our team today! \nFAQ\nWhat does the EARTHQUAKE EXPO USA – CALIFORNIA 2026 booth rental include?\nOur booth rentals include complete design\, installation\, and dismantling services to ensure an impactful exhibition experience. \nWhen do the EARTHQUAKE EXPO USA – CALIFORNIA 2026 event hours start and end?\nThe event runs from November 30 to December 2\, from 9:00 AM to 5:00 PM. \nWhat booth sizes do you recommend for the Security – Risk Management category?\nWe recommend a 10×20 or 20×20 booth for more impactful presence in the Security – Risk Management category. \nWhy is an aluminum booth better than wood?\nAluminum booths offer a more durable and lightweight solution\, providing better design flexibility and ease of mobility compared to traditional wood options. \nWhat attractions does Miami Beach have for visitors to explore during the event?\nMiami Beach is known for its vibrant culture\, beautiful beaches\, and numerous dining options that attendees can enjoy. \nHow can SNAP EXHIBITIONS help make everything perfect about my booth?\nWe ensure every detail is covered through our turnkey booth rentals. Our customized solutions enable you to present your brand effectively. \nOur EARTHQUAKE EXPO USA – CALIFORNIA 2026 booth rental is designed for your success. Don’t miss out on this opportunity—contact us to elevate your exhibition experience!
URL:https://iwf2026.com/event/earthquake-expo-usa-california-2026/
CATEGORIES:Building & Construction,Health Professionals,Security - Risk Management,Solidarity - Social Assistance - Volunteering,Urban Equipment & Engineering
END:VEVENT
BEGIN:VEVENT
DTSTART;TZID=UTC:20260304T090000
DTEND;TZID=UTC:20260305T235959
DTSTAMP:20260421T140812
CREATED:20251023T065831Z
LAST-MODIFIED:20251023T065831Z
UID:26043-1772614800-1772755199@iwf2026.com
SUMMARY:EARTHQUAKE EXPO USA - MIAMI 2026
DESCRIPTION:EARTHQUAKE EXPO USA – MIAMI 2026 booth rental — Premium Exhibitor Guide & Custom Booth Options\nAbout EARTHQUAKE EXPO USA – MIAMI 2026\nEARTHQUAKE EXPO USA – MIAMI 2026 booth rental is essential for anyone looking to make a significant impact at this premier event. This expo is dedicated to seismic preparedness\, showcasing cutting-edge tools and strategies for risk management and recovery. Attendees will connect with industry leaders and gain valuable insights into the construction and engineering fields. Key Details: Feb 1–3\, 2026\, Miami Beach Convention Center\, 1901 Convention Center Drive\, USA. \nIndustries & Audience: This year’s event is tailored for Security – Risk Management\, Urban Equipment & Engineering\, Building & Construction\, Health Professionals\, Solidarity – Social Assistance – Volunteering. \nVenue & Location\nThe expo will take place at Miami Beach Convention Center\, located at 1901 Convention Center Drive\, USA. Attendees can expect convenient logistics\, including central access and dock facilities for easy move-in. Ensure you consider the venue layout for optimal exposure. \nIf you need assistance\, feel free to call our contact number. \nMiami Beach: Our Services\nIn Miami Beach\, we DESIGN\, PRODUCE\, INSTALL & DISMANTLE turnkey booth rentals. Our comprehensive service includes concept development\, modular frames\, branded SEG graphics\, reception/storage options\, and on-site installation and dismantling. We ensure that your booth aligns perfectly with the expo’s theme. \nCustom Booth Models\nWe offer a range of booth footprints like 10×10\, 10×20\, and 20×20\, perfect for exhibitors in the building and construction sectors. Each design is curated to meet the needs of various audiences. Snap Exhibitions Custom Booth Models are adaptable and can effectively showcase your solutions. \nAdditionally\, enjoy our full-service exhibit support\, ensuring a seamless experience from beginning to end. For inquiries\, contact our team for more information. \nFAQ\nWhat is EARTHQUAKE EXPO USA – MIAMI 2026 booth rental? It refers to the rental of exhibit space tailored to your needs at the expo. \nWhat are the event hours/dates for EARTHQUAKE EXPO USA? It takes place from Feb 1–3\, 2026. \nWhat are the recommended booth sizes for construction sectors? For the construction industry\, we recommend 10×20 or 20×20 booths for maximum visibility. \nWhy is an aluminum booth better than wood? Aluminum is lighter\, more durable and offers more design flexibility than traditional wood structures. \nWhat can I expect from Miami Beach as a trade show location? A vibrant atmosphere and prolific networking opportunities await exhibitors in Miami Beach. \nHow can SNAP EXHIBITIONS help ensure my booth is perfect? We handle everything\, from design to dismantling\, making your experience stress-free and impactful. \nIn conclusion\, EARTHQUAKE EXPO USA – MIAMI 2026 booth rental offers a remarkable opportunity to stand out at a key event in the industry. For inquiries or to secure your space\, contact our team today!
URL:https://iwf2026.com/event/earthquake-expo-usa-miami-2026/
CATEGORIES:Building & Construction,Health Professionals,Security - Risk Management,Solidarity - Social Assistance - Volunteering,Urban Equipment & Engineering
END:VEVENT
BEGIN:VEVENT
DTSTART;TZID=UTC:20260304T090000
DTEND;TZID=UTC:20260305T235959
DTSTAMP:20260421T140812
CREATED:20251023T082544Z
LAST-MODIFIED:20251023T082544Z
UID:26045-1772614800-1772755199@iwf2026.com
SUMMARY:HEAT & FIRE EXPO USA - MIAMI 2026
DESCRIPTION:HEAT & FIRE EXPO USA – MIAMI 2026 Booth Rental — Premium Options\nAbout HEAT & FIRE EXPO USA – MIAMI 2026\nVenue & Location\nMiami: Our Services\nCustom Booth Models\nFAQ\nHEAT & FIRE EXPO USA – MIAMI 2026\nHEAT & FIRE EXPO USA – MIAMI 2026 is the premier hub for wildfire preparation\, management\, and recovery strategies. This event attracts industry leaders and professionals in security\, construction\, and urban management\, providing a platform to showcase the latest tools\, insights\, and networking opportunities. \nKey Details:Jan 30–Feb 1\, 9:00 AM–5:00 PMMiami Beach Convention Center1901 Convention Center Drive\, Miami BeachUnited States \nIndustries & Audience: Security – Risk Management\, Building & Construction\, Urban Equipment & Engineering\, Forestry Industries\, Health Professionals\, Solidarity – Social Assistance – Volunteering \nVenue & Location\nThe event takes place at the Miami Beach Convention Center\, located at 1901 Convention Center Drive\, Miami Beach\, United States. This venue offers convenient logistics such as accessible move-in windows and dock access to facilitate a smooth setup process. \nMiami: Our Services\nWe DESIGN\, PRODUCE\, INSTALL & DISMANTLE turnkey booth rentals in Miami. Our comprehensive service covers concept design\, modular frames\, branded SEG graphics\, reception/storage spaces\, and TV mounts. We ensure that every booth meets the needs of our exhibitors in this vibrant city. \nCustom Booth Models\nExplore our Snap Exhibitions Custom Booth Models tailored to fit your exhibition needs. We offer popular footprints such as 10×10\, 10×20\, and 20×20 that are ideal for the sectors represented at HEAT & FIRE EXPO. Our booths are designed to attract and inform attendees effectively. \nFor full-service exhibit support during your event\, consider our comprehensive options available at Snap Exhibitions. If you are ready to elevate your presence at the expo\, contact our team to set up your exhibit today! \nFAQ\nWhat is the HEAT & FIRE EXPO USA – MIAMI 2026 booth rental process?\nWe make the booth rental process seamless\, from design to installation. Get in touch to start planning your exhibit. \nWhat are the event hours for HEAT & FIRE EXPO USA – MIAMI 2026?\nThe event runs from Jan 30 to Feb 1\, with hours from 9:00 AM to 5:00 PM daily. \nWhat recommended booth sizes are best for the security category?\nFor the security sector\, we recommend booths of at least 10×20 size to effectively showcase your offerings to attendees. \nWhy is an aluminum booth better than wood?\nAluminum booths offer durability\, lighter weight\, and easier transport compared to traditional wood booths\, making them more practical for trade shows. \nWhat can you tell me about Miami?\nMiami is known for its vibrant culture\, making it an ideal location for trade shows that attract diverse industries. \nHow can SNAP EXHIBITIONS help me make everything perfect for my booth?\nWe provide tailored solutions for your exhibit needs\, ensuring every detail aligns with your vision for a successful trade show appearance. \nJoin us at HEAT & FIRE EXPO USA – MIAMI 2026 for an impactful experience and secure your HEAT & FIRE EXPO USA – MIAMI 2026 booth rental with us! For more information\, contact our team.
URL:https://iwf2026.com/event/heat-fire-expo-usa-miami-2026/
CATEGORIES:Building & Construction,Forestry Industries,Health Professionals,Security - Risk Management,Solidarity - Social Assistance - Volunteering,Urban Equipment & Engineering
END:VEVENT
BEGIN:VEVENT
DTSTART;TZID=UTC:20260304T090000
DTEND;TZID=UTC:20260305T235959
DTSTAMP:20260421T140812
CREATED:20251023T082641Z
LAST-MODIFIED:20251023T082641Z
UID:26046-1772614800-1772755199@iwf2026.com
SUMMARY:STORM EXPO USA - MIAMI 2026
DESCRIPTION:STORM EXPO USA – MIAMI 2026 booth rental — Ultimate Solutions\nAbout STORM EXPO USA – MIAMI 2026\nVenue & Location\nMiami: Our Services\nCustom Booth Models\nFAQ\nSTORM EXPO USA – MIAMI 2026: An Overview\nSTORM EXPO USA – MIAMI 2026 booth rental is ideal for companies looking to showcase their innovations in hurricane preparedness and storm management. This premier event draws a diverse audience\, from industry leaders in security and risk management to health professionals focused on recovery strategies. Attendees can expect in-depth discussions and the latest insights that shape the future of storm-related challenges. \nThe expo will take place from Nov 30–Dec 2\, 2026\, 9:00 AM–5:00 PM\, at the Miami Beach Convention Center\, located at 1901 Convention Center Drive\, Miami Beach\, USA. Though no official web page is listed\, more details are likely to surface as the event date approaches. \nIndustries & Audience: This event is crucial for professionals in Security – Risk Management\, Urban Equipment & Engineering\, Building & Construction\, Health Professionals\, Solidarity – Social Assistance – Volunteering. \nVenue & Location\nThe Miami Beach Convention Center boasts ample space for exhibitors\, with easy access points for setup and logistics. While specific move-in details aren’t disclosed\, attendees can expect straightforward access beneficial for exhibitors managing their setups. \nFor assistance\, you can reach the center directly via phone. \nMiami: Our Services\nIn Miami\, we DESIGN\, PRODUCE\, INSTALL & DISMANTLE turnkey booth rentals. Our services include concept/design creation\, modular frames\, branded SEG graphics\, reception/storage areas\, TV mounts\, and comprehensive on-site installation & dismantling support. \nCustom Booth Models\nAt STORM EXPO USA – MIAMI 2026\, we offer multiple booth footprints to fit your needs\, such as: \n\n10×10 Booths: Perfect for startups showcasing new products.\n10×20 Booths: Ideal for companies wanting more space to engage attendees.\n20×20 Booths: Great for larger brands\, facilitating discussions on innovative solutions.\n\nExplore our Snap Exhibitions Custom Booth Models to see examples of our designs. We provide full-service exhibit support for a seamless experience. For more information or to get started\, contact our team. \nFAQs\nWhat is STORM EXPO USA – MIAMI 2026 booth rental?\nSTORM EXPO USA – MIAMI 2026 booth rental refers to the professional space we provide for exhibitors at the trade show\, designed for impactful presentations and interactions with attendees. \nWhat are the event hours for STORM EXPO USA – MIAMI 2026?\nThe event will run from November 30 – December 2\, 2026\, from 9:00 AM to 5:00 PM. \nWhich booth sizes are recommended for the Security & Risk Management sector?\nA 10×20 booth is often ideal for engaging discussions\, while a 20×20 booth can be great for larger brands wishing to demonstrate more complex solutions. \nWhy is an aluminum booth better than wood?\nAluminum booths offer lightweight durability\, easier transport\, and a modern aesthetic that can enhance brand visibility. \nWhat can I expect from STORM EXPO USA – MIAMI 2026?\nExpect insights from industry leaders\, networking opportunities\, and exposure to the latest technologies in storm preparedness. \nHow can SNAP EXHIBITIONS help make everything perfect about my booth?\nWe provide comprehensive support\, from design to setup\, ensuring your booth meets all aspects of your vision and operational needs. \nWhat is located at the Miami Beach Convention Center?\nThe Miami Beach Convention Center is renowned for holding significant events\, offering ample space and modern amenities for exhibitors. \nFor all your booth needs\, choose STORM EXPO USA – MIAMI 2026 booth rental for premium solutions and unbeatable service! Whether you want to design\, produce\, or install your custom booth\, contact our team today.
URL:https://iwf2026.com/event/storm-expo-usa-miami-2026/
CATEGORIES:Building & Construction,Health Professionals,Security - Risk Management,Solidarity - Social Assistance - Volunteering,Urban Equipment & Engineering
END:VEVENT
BEGIN:VEVENT
DTSTART;TZID=UTC:20260304T090000
DTEND;TZID=UTC:20260305T235959
DTSTAMP:20260421T140812
CREATED:20251023T082941Z
LAST-MODIFIED:20251023T082941Z
UID:26053-1772614800-1772755199@iwf2026.com
SUMMARY:DISASTERS EXPO USA 2026
DESCRIPTION:DISASTERS EXPO USA 2026 booth rental — Essential Guide\nAbout DISASTERS EXPO USA 2026\nDISASTERS EXPO USA 2026 booth rental is your gateway to engaging with top professionals in the Security – Risk Management\, Urban Equipment & Engineering\, Building & Construction\, and several other vital sectors. This event not only showcases innovative solutions but also provides an opportunity for exhibitors to connect with a dedicated audience interested in comprehensive risk management strategies. Experience key discussions and insights on mitigating the impacts of natural disasters such as heat\, fire\, earthquakes\, and floods. \n\nKey Details: Nov 30–Dec 2\, 9:00 AM–5:00 PM\nLocation: Miami Beach Convention Center\nAddress: 1901 Convention Center Drive\, Miami Beach\, USA\nCountry: United States\nEvent Website\n\nIndustries & Audience: Security – Risk Management\, Urban Equipment & Engineering\, Building & Construction\, Sciences for Engineers – Research & Development\, Health Professionals\, Spatial Information Systems\, Water Management and Treatment\, Solidarity – Social Assistance – Volunteering. \nVenue & Location\nMiami Beach Convention Center\, located at 1901 Convention Center Drive\, Miami Beach\, USA\, is your venue for DISASTERS EXPO USA 2026. This facility accommodates various logistics\, ensuring smooth access for exhibitors and attendees alike. \nFor any inquiries\, please feel free to reach us via phone. \nMiami Beach: Our Services\nIn Miami Beach\, we DESIGN\, PRODUCE\, INSTALL & DISMANTLE turnkey booth rentals. Our services cover concept/design\, modular frames\, branded SEG graphics\, reception/storage areas\, TV mounts\, and on-site installation & dismantling to ensure your presence stands out. \nCustom Booth Models\nWe offer a variety of popular footprints\, including Snap Exhibitions Custom Booth Models. Sizes such as 10×10\, 10×20\, and 20×20 cater to exhibitors across various sectors. These setups are tailored to create impact and convey your message effectively. \nAdditionally\, we provide full-service exhibit support\, ensuring all details are managed professionally\, allowing you to focus on engaging with potential clients. \nReady to elevate your presence at DISASTERS EXPO USA 2026? Don’t hesitate to contact our team to discuss your booth rental needs! \nFAQ\nQ: What is the DISASTERS EXPO USA 2026 booth rental?A: The DISASTERS EXPO USA 2026 booth rental allows you to showcase your products and services related to disaster risk management and solutions. \nQ: When does the event take place?A: The event is scheduled from November 30 to December 2\, 2026\, from 9:00 AM to 5:00 PM each day. \nQ: What are the recommended booth sizes for exhibitors?A: Popular booth sizes include 10×10\, 10×20\, and 20×20\, ideal for various sectors represented at the expo. \nQ: Why is an aluminum booth better than wood?A: Aluminum booths are lighter\, more durable\, and offer easier assembly compared to wood options. \nQ: What can I expect at the DISASTERS EXPO in Miami Beach?A: Expect to network with industry leaders\, engage in informative talks\, and discover innovative solutions in disaster management. \nQ: How can SNAP EXHIBITIONS help make everything perfect for my booth?A: We handle all aspects of booth design\, production\, installation\, and dismantling\, providing you with a seamless experience. \nIn conclusion\, utilizing the DISASTERS EXPO USA 2026 booth rental is an essential step toward maximizing your visibility in the disaster management sector. For further inquiries\, please contact us.
URL:https://iwf2026.com/event/disasters-expo-usa-2026/
CATEGORIES:Building & Construction,Health Professionals,Sciences for Engineers - Research & Development,Security - Risk Management,Solidarity - Social Assistance - Volunteering,Spatial Information Systems,Urban Equipment & Engineering,Water Management and Treatment
END:VEVENT
BEGIN:VEVENT
DTSTART;TZID=UTC:20260304T090000
DTEND;TZID=UTC:20260305T235959
DTSTAMP:20260421T140812
CREATED:20251023T083007Z
LAST-MODIFIED:20251023T083007Z
UID:26054-1772614800-1772755199@iwf2026.com
SUMMARY:STORM EXPO USA - CALIFORNIA 2026
DESCRIPTION:STORM EXPO USA – CALIFORNIA 2026 booth rental — Essential Guide\nAbout STORM EXPO USA – CALIFORNIA 2026\nSTORM EXPO USA – CALIFORNIA 2026 booth rental is a unique opportunity for exhibitors in storm and hurricane preparedness\, showcasing tools and strategies that could save lives and property. This event\, taking place from Jan 31–Feb 3\, 2026\, is essential for anyone in the industry\, whether you are a security professional\, engineer\, or involved in social assistance initiatives. Attendees can expect valuable networking opportunities and insightful presentations from industry leaders. Here are the Key Details:\nDates: Jan 31–Feb 3\, 2026\, Location: Miami Beach Convention Center\, 1901 Convention Center Drive\, Miami Beach\, United States. For more information\, visit the official website. \nIndustries & Audience: Security – Risk Management\, Urban Equipment & Engineering\, Building & Construction\, Health Professionals\, Solidarity – Social Assistance – Volunteering. \nVenue & Location\nThe event will be held at the Miami Beach Convention Center\, located at 1901 Convention Center Drive\, Miami Beach\, United States. The venue features excellent access and logistics for exhibitors\, including move-in windows and dock access for seamless setup. \nMiami Beach: Our Services\nWe DESIGN\, PRODUCE\, INSTALL & DISMANTLE turnkey booth rentals in Miami Beach\, Florida. Our scope includes concept/design\, modular frames\, branded SEG graphics\, reception/storage\, TV mount\, and on-site installation & dismantling (I&D). \nCustom Booth Models\nOur popular booth sizes include: \n\n10×10: Ideal for personal engagements and impactful branding.\n10×20: Great for mid-size exhibitors with multiple product features.\n20×20: Perfect for large companies aiming to make a bold statement.\n\nTo explore our various options\, check out our Snap Exhibitions Custom Booth Models. We also offer full-service exhibit support to streamline your exhibiting experience. For further assistance\, contact our team. \nFAQ\nQ: What is the STORM EXPO USA – CALIFORNIA 2026 booth rental schedule? \nA: The event occurs from Jan 31–Feb 3\, 2026. \nQ: What are the recommended booth sizes for the Security and Risk Management sectors? \nA: We recommend a 10×20 or 20×20 booth for larger displays in this sector. \nQ: Why choose a STORM EXPO USA – CALIFORNIA 2026 booth rental? \nA: A booth rental offers flexibility\, cost-effectiveness\, and ease of setup compared to purchasing a booth. \nQ: Why is an aluminum booth better than wood? \nA: Aluminum is lighter\, more durable\, and offers a sleek appearance\, making it ideal for modern exhibits. \nQ: What services are available in Miami Beach for exhibitors? \nA: We offer comprehensive booth rental services\, including design\, installation\, and dismantling. \nQ: How can SNAP EXHIBITIONS help perfect my booth setup? \nA: We ensure everything is seamless\, from design to dismantling\, allowing you to focus on your presentation. \nIn conclusion\, the STORM EXPO USA – CALIFORNIA 2026 booth rental offers a unique opportunity to connect with industry leaders and showcase your innovations in storm preparedness. For the best in STORM EXPO USA – CALIFORNIA 2026 booth rental\, contact us today!
URL:https://iwf2026.com/event/storm-expo-usa-california-2026/
CATEGORIES:Building & Construction,Health Professionals,Security - Risk Management,Solidarity - Social Assistance - Volunteering,Urban Equipment & Engineering
END:VEVENT
END:VCALENDAR