BEGIN:VCALENDAR
VERSION:2.0
PRODID:-//IWF 2026 Atlanta — Local Booth Builder &amp; Rentals - ECPv6.15.13.1//NONSGML v1.0//EN
CALSCALE:GREGORIAN
METHOD:PUBLISH
X-WR-CALNAME:IWF 2026 Atlanta — Local Booth Builder &amp; Rentals
X-ORIGINAL-URL:https://iwf2026.com
X-WR-CALDESC:Events for IWF 2026 Atlanta — Local Booth Builder &amp; Rentals
REFRESH-INTERVAL;VALUE=DURATION:PT1H
X-Robots-Tag:noindex
X-PUBLISHED-TTL:PT1H
BEGIN:VTIMEZONE
TZID:UTC
BEGIN:STANDARD
TZOFFSETFROM:+0000
TZOFFSETTO:+0000
TZNAME:UTC
DTSTART:20270101T000000
END:STANDARD
END:VTIMEZONE
BEGIN:VEVENT
DTSTART;TZID=UTC:20280926T090000
DTEND;TZID=UTC:20280928T235959
DTSTAMP:20260419T131306
CREATED:20251023T061755Z
LAST-MODIFIED:20251023T061755Z
UID:25953-1853571600-1853798399@iwf2026.com
SUMMARY:MINEXPO INTERNATIONAL 2028
DESCRIPTION:MINEXPO INTERNATIONAL 2028 booth rental — Premium Options\nAbout MINEXPO INTERNATIONAL 2028\nVenue & Location\nLas Vegas NV: Our Services\nCustom Booth Models\nFAQ\n\nMINEXPO INTERNATIONAL 2028 booth rental provides exhibitors with a reliable avenue to showcase cutting-edge mining technologies and equipment at the great Las Vegas Convention Center. This renowned event attracts over 1800 exhibitors\, allowing participants from the mining sector to connect\, learn\, and forge new partnerships. Exhibitors and visitors will benefit from the latest innovations in safety\, exploration\, and extraction technology—all in one vibrant location. \nKey Details: September 12–14\, 9:00 AM–5:00 PM\, Las Vegas Convention Center\, 3150 Paradise Road\, Las Vegas\, NV 89109\, United States. For more information\, visit MINExpo’s official website. \nIndustries & Audience: This event attracts professionals from Mining Technologies\, Building Machinery\, Decision Helping Tools & Management Services\, Security – Risk Management sectors. \n\n\nThe MINEXPO INTERNATIONAL 2028 will be held at the Las Vegas Convention Center located at 3150 Paradise Road\, Las Vegas\, NV\, United States. This venue provides ample space and logistics advantages\, including efficient access for setup and breakdown. Despite not having specific details about dock access or move-in windows\, the convention center typically accommodates high foot traffic and provides necessary facilities for exhibitors. \n\n\nIn Las Vegas NV\, we DESIGN\, PRODUCE\, INSTALL & DISMANTLE turnkey booth rentals tailored for exhibitors at MINEXPO INTERNATIONAL 2028. Our services encompass concept/design\, modular frames\, branded SEG graphics\, reception/storage capabilities\, TV mounts\, and on-site installation and dismantling services. \n\n\nOur popular booth footprints include the 10×10\, 10×20\, and 20×20 models. Each footprint is designed to optimize visitor engagement\, particularly in sectors such as mining technologies and management services. Our Snap Exhibitions Custom Booth Models provide flexible options that cater to exhibitors’ varying needs and help them stand out. \nWe also offer full-service exhibit support for a hassle-free experience\, from design to teardown. If you have unique ideas or specific requirements\, please contact our team to discuss how we can make your exhibition experience exceptional. \n\n\nFAQ\nWhat is the MINEXPO INTERNATIONAL 2028 booth rental like?Our booth rental service offers premium fits for exhibitors looking to maximize their exposure at MINEXPO INTERNATIONAL 2028. \nWhat are the event hours for MINEXPO INTERNATIONAL 2028?The event runs from September 12–14\, 9:00 AM to 5:00 PM each day. \nWhat booth sizes do you recommend for mining sectors?We suggest 10×20 or 20×20 booth sizes to effectively showcase your innovations in mining technologies. \nWhy is an aluminum booth better than wood?Aluminum booths are lighter\, easier to transport\, and generally more durable than traditional wood booths\, making them a popular choice for many exhibitors. \nWhat is the best way to navigate Las Vegas as a visitor?Las Vegas offers a vibrant atmosphere with multiple transport options\, including rideshare services\, taxis\, and public transportation to ease your travel between venues. \nHow can SNAP EXHIBITIONS help make everything perfect about their booth?We specialize in turnkey booth rentals that ensure a seamless experience from design to actual setup at the event. \n\nFor an unforgettable experience at MINEXPO INTERNATIONAL 2028 booth rental\, reach out today! We are ready to assist you at Contact Snap Exhibitions.
URL:https://iwf2026.com/event/minexpo-international-2028/
CATEGORIES:Building Machinery,Decision Helping Tools & Management Services,Mining Technologies,Security - Risk Management
END:VEVENT
END:VCALENDAR