BEGIN:VCALENDAR
VERSION:2.0
PRODID:-//IWF 2026 Atlanta — Local Booth Builder &amp; Rentals - ECPv6.15.13.1//NONSGML v1.0//EN
CALSCALE:GREGORIAN
METHOD:PUBLISH
X-WR-CALNAME:IWF 2026 Atlanta — Local Booth Builder &amp; Rentals
X-ORIGINAL-URL:https://iwf2026.com
X-WR-CALDESC:Events for IWF 2026 Atlanta — Local Booth Builder &amp; Rentals
REFRESH-INTERVAL;VALUE=DURATION:PT1H
X-Robots-Tag:noindex
X-PUBLISHED-TTL:PT1H
BEGIN:VTIMEZONE
TZID:UTC
BEGIN:STANDARD
TZOFFSETFROM:+0000
TZOFFSETTO:+0000
TZNAME:UTC
DTSTART:20250101T000000
END:STANDARD
END:VTIMEZONE
BEGIN:VEVENT
DTSTART;TZID=UTC:20260602T090000
DTEND;TZID=UTC:20260604T235959
DTSTAMP:20260423T094047
CREATED:20251023T173953Z
LAST-MODIFIED:20251023T173953Z
UID:26196-1780390800-1780617599@iwf2026.com
SUMMARY:INFORMEX USA 2026
DESCRIPTION:INFORMEX USA 2026 booth rental — Essential Exhibitor Guide & Custom Booth Options\nAbout INFORMEX USA 2026\nINFORMEX USA 2026 booth rental offers an unparalleled opportunity for exhibitors in the Chemical Process\, Pharmaceuticals\, & Cosmetology sectors. This event is the world’s most sophisticated meeting point for buyers and sellers of higher value chemistry. Attendees will gain access to vital networking opportunities\, innovative products\, and insightful industry trends. \n\nKey Details: Jan 31–Feb 2\, 2026\, 9:00 AM–5:00 PM\nLocation: Pennsylvania Convention Center\, 1101 Arch Street\, Philadelphia\, PA\, United States\n\nVisitors can expect a rich array of exhibitors from diverse fields\, making it a must-attend event for networking and business development. \nIndustries & Audience:  Chemical Process\, Pharmaceuticals\, Cosmetology. This diverse audience enhances the value of participation for your business. \nVenue & Location\nThe INFORMEX USA 2026 will be hosted at the Pennsylvania Convention Center located at 1101 Arch Street\, Philadelphia\, PA\, USA. This venue provides accessible logistics with ample space for exhibitors to showcase their products effectively. \nPlease note that general move-in windows are available to ensure a seamless setup. For any inquiries\, feel free to reach out via the venue’s contact numbers. \nPhiladelphia\, PA: Our Services\nWe DESIGN\, PRODUCE\, INSTALL & DISMANTLE turnkey booth rentals in this city. We offer a comprehensive scope that includes concept/design\, modular frames\, branded SEG graphics\, reception/storage\, TV mounts\, and on-site installation & dismantling\, ensuring your booth stands out. \nCustom Booth Models\nExplore our popular booth footprints such as 10×10\, 10×20\, and 20×20. These designs are perfectly suited for the needs of exhibitors in the Chemical Process and Pharmaceuticals sectors\, facilitating optimal engagement with your audience. \nFor more information\, view our Snap Exhibitions Custom Booth Models. Experience full-service exhibit support tailored to your needs. To get started\, contact our team today! \nFAQ\nQ: How can I get an INFORMEX USA 2026 booth rental?A: Contact us to discuss your requirements and we will help you create a captivating booth that meets your needs. \nQ: What are the hours for INFORMEX USA 2026?A: The event runs from January 31 to February 2\, 2026\, daily from 9:00 AM to 5:00 PM. \nQ: What booth size is recommended for the Chemical Process sector?A: A 10×20 booth is popular for its spacious design\, allowing for effective product displays and visitor interaction. \nQ: Why is an aluminum booth better than wood?A: Aluminum booths are lightweight\, durable\, and can be easily assembled and dismantled\, providing better usability for trade shows. \nQ: What can I expect at the INFORMEX USA event?A: Expect networking with industry leaders and learning about cutting-edge innovations in the chemistry sector. \nQ: How can SNAP EXHIBITIONS help me perfect my booth?A: We offer comprehensive turnkey solutions that handle every aspect of your booth\, ensuring a seamless experience from design to dismantling. \nAs you prepare for your participation in INFORMEX USA 2026 booth rental\, remember that we are here to help you with all your exhibit needs. For detailed assistance\, contact us today!
URL:https://iwf2026.com/event/informex-usa-2026/
CATEGORIES:Chemical Process,Pharmaceuticals & Cosmetology,Sciences for Engineers - Research & Development
END:VEVENT
BEGIN:VEVENT
DTSTART;TZID=UTC:20261028T090000
DTEND;TZID=UTC:20261029T235959
DTSTAMP:20260423T094047
CREATED:20251023T083454Z
LAST-MODIFIED:20251023T083454Z
UID:26066-1793178000-1793318399@iwf2026.com
SUMMARY:FILTREXPO 2026
DESCRIPTION:FILTREXPO 2026 booth rental — Ultimate Exhibitor Guide & Custom Booth Options\nAbout FILTREXPO 2026\nVenue & Location\nMinneapolis MN: Our Services\nCustom Booth Models\nFAQ\nFILTREXPO 2026 — The Premier Event for Filtration and Separation\nFILTREXPO 2026 booth rental is essential for successfully navigating this international exhibition focused on filtration and separation technologies. Set to take place from February 10–12\, 2026\, 9:00 AM–5:00 PM at the Minneapolis Convention Center\, 1301 2nd Avenue South\, Minneapolis\, MN 55403\, USA\, this event will gather industry experts and innovators. Visitors can expect to gain crucial insights into industry advancements while exhibitors benefit from exposure to a targeted audience. \nThe event focuses on critical sectors such as Chemical Process\, Technical Textiles\, Advanced Materials\, making it a must-attend for professionals aiming to elevate their market presence. \n\nKey Details:\nDates: February 10–12\, 2026\nLocation: Minneapolis Convention Center\nAddress: 1301 2nd Avenue South\, Minneapolis\, MN 55403\nCountry: United States\n\nVenue & Location\nThe Minneapolis Convention Center is strategically located in the heart of the city\, ensuring easy access to various facilities and amenities. While specifics about loading docks and move-in windows are not provided\, the venue offers a robust setup for exhibitors\, facilitating smooth operations throughout the event. \nFor inquiries\, feel free to reach out via phone. \nMinneapolis MN: Our Services\nIn Minneapolis MN\, we DESIGN\, PRODUCE\, INSTALL & DISMANTLE turnkey booth rentals. Our offerings include concept/design\, modular frames\, branded SEG graphics\, reception/storage areas\, TV mounts\, and on-site installation and dismantling (I&D). Whatever your needs\, our team can ensure an optimal setup to maximize your exhibition performance. \nPopular Booth Models\nWe provide various popular footprints tailored to meet the unique requirements of attendees in the sectors of Chemical Process\, Technical Textiles\, and Advanced Materials. For example: \n\nSnap Exhibitions Custom Booth Models: These designs cater to both small and large exhibitors\, facilitating interaction and visibility.\n10×10 booths: Suitable for individual brand displays\, ensuring your product stands out.\n10×20 booths: These provide more space for product displays and interactions.\n20×20 booths: Ideal for larger audiences and comprehensive brand showcases.\n\nEach footprint can be customized based on your specific requirements\, ensuring alignment with your marketing goals. \nFor more comprehensive support\, check our full-service exhibit support. \nFAQ\nWhat is FILTREXPO 2026 booth rental?\nFILTREXPO 2026 booth rental includes all the essentials for your exhibition presence at this landmark event. \nWhat are the event hours for FILTREXPO 2026?\nThe event runs from February 10–12\, 2026\, daily from 9:00 AM to 5:00 PM. \nWhat booth sizes do you recommend for Chemical Process exhibitors?\nFor Chemical Process\, a minimum of 10×20 is advisable to accommodate product demonstrations and sufficient audience engagement. \nWhy is an aluminum booth better than wood?\nAluminum booths offer better durability and flexibility\, making them easier to transport and set up\, focusing on showcasing your brand effectively. \nWhat services do you offer in Minneapolis?\nIn Minneapolis\, we specialize in turnkey booth rentals\, ensuring a seamless experience from design to execution. \nHow can SNAP EXHIBITIONS help make everything perfect about my booth?\nOur team is dedicated to designing custom solutions that perfectly align with your objectives\, ensuring your exhibition is memorable and effective. Contact our team today!\nTo elevate your exhibition experience\, consider FILTREXPO 2026 booth rental with us—let’s make it a success together. Visit Snap Exhibitions for more information!
URL:https://iwf2026.com/event/filtrexpo-2026/
CATEGORIES:Advanced Materials,Chemical Process,Technical Textiles
END:VEVENT
BEGIN:VEVENT
DTSTART;TZID=UTC:20270113T090000
DTEND;TZID=UTC:20270114T235959
DTSTAMP:20260423T094047
CREATED:20251023T170447Z
LAST-MODIFIED:20251023T170447Z
UID:26130-1799830800-1799971199@iwf2026.com
SUMMARY:CARBON CAPTURE TECHNOLOGY CONFERENCE & EXPO - NORTH AMERICA 2027
DESCRIPTION:CARBON CAPTURE TECHNOLOGY CONFERENCE & EXPO – NORTH AMERICA 2027 — Exhibitor Guide & Essential Options\nAbout CARBON CAPTURE TECHNOLOGY CONFERENCE & EXPO – NORTH AMERICA 2027\nCARBON CAPTURE TECHNOLOGY CONFERENCE & EXPO – NORTH AMERICA 2027 is the premier event focusing on the growing importance of carbon capture solutions in the transition to a net-zero carbon economy. Attendees will benefit from expert insights\, networking opportunities\, and the latest technological advancements in environmental protection and renewable energies. This is an essential gathering for professionals in the chemical process and research sectors. \n\nKey Details: May 15–17\, 2027\, 9:00 AM–5:00 PM\nLocation: NRG Center\, Houston\, TX 77054\, United States\nLearn more about the event\n\nParticipants from various industries including Environmental Protection\, Clean Energies – Renewable Energies\, Chemical Process\, Sciences for Engineers – Research & Development will find value in the exhibits and discussions. \nVenue & Location\nThe CARBON CAPTURE TECHNOLOGY CONFERENCE & EXPO will be held at the NRG Center\, located at 77054 Houston\, TX\, USA. Expect central access and ample logistics for exhibitors. While specifics about move-in windows and dock access are not available\, the venue is well-equipped for trade show activities. \nHouston TX: Our Services\nIn Houston TX\, we DESIGN\, PRODUCE\, INSTALL & DISMANTLE turnkey booth rentals. Our services cover everything from concept and design to modular frames and reception setups. We include branded SEG graphics\, storage solutions\, and TV mounts\, ensuring that your exhibit stands out. \nCustom Booth Models\nAt SNAP Exhibitions\, we offer a variety of booth sizes tailored to meet the needs of diverse exhibitors. For example\, our Snap Exhibitions Custom Booth Models work perfectly for visitors from the renewable energy sector. Our popular footprints include: \n\n10×10: Ideal for smaller exhibits\, perfect for networking.\n10×20: Provides space for detailed interactions and enhanced visibility among attendees.\n20×20: A spacious area that allows for a significant presence at larger events.\n\nAll models can be tailored to fit your branding and design needs\, supported by our full-service exhibit support. \nFAQ\nWhat is CARBON CAPTURE TECHNOLOGY CONFERENCE & EXPO – NORTH AMERICA 2027?It is an event focusing on carbon capture technology and its role in achieving a net-zero carbon economy. \nWhen are the event hours?The event will be held from May 15–17\, 2027\, from 9:00 AM to 5:00 PM each day. \nWhat booth sizes do you recommend for Environmental Protection sector exhibitors?We suggest sizes ranging from 10×10 for intimate interactions to 20×20 for a significant impact and visibility. \nWhy is an aluminum booth better than wood?Aluminum provides greater durability\, is lighter\, and offers more design flexibility compared to traditional wood booths. \nWhat can I expect from the CARBON CAPTURE TECHNOLOGY CONFERENCE & EXPO in Houston?Expect industry leaders sharing insights\, networking opportunities\, and discovering the latest innovations in carbon capture technology. \nHow can SNAP EXHIBITIONS help create a perfect booth experience?We specialize in turnkey solutions that handle every aspect of your booth needs from design to installation. Contact our team to start your journey to success at the conference. \nCARBON CAPTURE TECHNOLOGY CONFERENCE & EXPO – NORTH AMERICA 2027 is your opportunity to showcase your innovations and network with industry leaders. Don’t miss your chance for a premier exhibiting experience! For assistance with your booth\, contact our team today!
URL:https://iwf2026.com/event/carbon-capture-technology-conference-expo-north-america-2027/
CATEGORIES:Chemical Process,Clean Energies - Renewable Energies,Environmental Protection,Sciences for Engineers - Research & Development
END:VEVENT
BEGIN:VEVENT
DTSTART;TZID=UTC:20270427T090000
DTEND;TZID=UTC:20270429T235959
DTSTAMP:20260423T094047
CREATED:20251023T052742Z
LAST-MODIFIED:20251023T052742Z
UID:25837-1808816400-1809043199@iwf2026.com
SUMMARY:INTERNATIONAL POWDER & BULK SOLIDS 2027
DESCRIPTION:INTERNATIONAL POWDER & BULK SOLIDS 2027 booth rental — Essential Guide\nAbout INTERNATIONAL POWDER & BULK SOLIDS 2027\nVenue & Location\nRosemont IL: Our Services\nCustom Booth Models\nFAQ\n\nAbout INTERNATIONAL POWDER & BULK SOLIDS 2027\nINTERNATIONAL POWDER & BULK SOLIDS 2027 invites exhibitors and visitors alike to explore the forefront of the Powder & Bulk Solids industries. This essential exhibition showcases suppliers from multiple sectors\, including Chemical\, Pharmaceutical\, Food\, Beverage\, Cosmetics\, Plastics\, Fabricated Primary Metals\, Cement\, Paints & Pigments\, Grain\, Mining. Attendees will gain invaluable insights into innovative solutions that drive success and efficiency in their operations. \nKey Details: May 24–26\, 2027\, 9:00 AM–5:00 PM\, Hyatt Regency O’Hare\, 9300 Bryn Mawr Avenue\, Rosemont\, IL\, United States. Learn more about the event details at Event Website. \nJoin fellow professionals from your industry to discover the latest technologies and network with key players in the market. \n\n\nVenue & Location\nThe event will take place at the Hyatt Regency O’Hare\, located at 9300 Bryn Mawr Avenue\, Rosemont\, IL\, United States. The venue provides central access and ample logistics support with adequate move-in windows and dock access for exhibitors. \n\n\nRosemont IL: Our Services\nIn Rosemont\, IL\, we DESIGN\, PRODUCE\, INSTALL & DISMANTLE turnkey booth rentals. Our offerings include comprehensive concept/design solutions\, modular frames\, branded SEG graphics\, reception/storage\, and on-site I&D services. We ensure a seamless experience that merges creativity and practicality for all exhibitors. \n\n\nCustom Booth Models\nWe provide a variety of popular booth sizes including 10×10\, 10×20\, and 20×20 that are perfectly suited for the needs of professionals in the Powder\, Granules and Bulk Solids\, Logistics & Transportation Engineering – Handling Operations – Storage\, Trucks and Utility Vehicles\, Chemical Process\, Agriculture – Agricultural Machinery sectors. Each footprint is designed to enhance visibility and interaction at exhibitions. \nFor great examples\, check our Snap Exhibitions Custom Booth Models. Our team provides full-service exhibit support\, and if you’re ready to take the next step\, please contact our team. \n\n\nFAQ\nWhat is INTERNATIONAL POWDER & BULK SOLIDS 2027 booth rental?\nINTERNATIONAL POWDER & BULK SOLIDS 2027 booth rental provides exhibitors with all-inclusive solutions for presenting their products effectively at the event. \nWhat are the event hours for INTERNATIONAL POWDER & BULK SOLIDS 2027?\nThe event runs from May 24–26\, 2027\, daily from 9:00 AM to 5:00 PM. \nWhat booth sizes do you recommend for the Powder & Bulk Solids sector?\nWe recommend 10×10 or 10×20 booths for optimal engagement and visibility. \nWhy is an aluminum booth better than wood?\nAluminum booths are lighter and more durable than wood\, and they provide greater versatility and cost-effectiveness for temporary setups. \nWhat can I expect at the Hyatt Regency O’Hare for this event?\nThe Hyatt Regency O’Hare offers excellent facilities\, ample space for networking\, and a hospitable environment for all attendees. \nHow can SNAP EXHIBITIONS help me make everything perfect about my booth?\nSNAP EXHIBITIONS guarantees a seamless process through our comprehensive services tailored to your specific booth needs\, ensuring a successful exhibition experience. \n\nINTERNATIONAL POWDER & BULK SOLIDS 2027 booth rental is your path to exhibiting success. We invite you to contact our team for a personalized consultation today!
URL:https://iwf2026.com/event/international-powder-bulk-solids-2027/
CATEGORIES:Agriculture - Agricultural Machinery,Chemical Process,Granules and Bulk Solids,Logistics & Transportation Engineering - Handling Operations - Storage,Powder,Trucks and Utility Vehicles
END:VEVENT
END:VCALENDAR