BEGIN:VCALENDAR
VERSION:2.0
PRODID:-//IWF 2026 Atlanta — Local Booth Builder &amp; Rentals - ECPv6.15.13.1//NONSGML v1.0//EN
CALSCALE:GREGORIAN
METHOD:PUBLISH
X-ORIGINAL-URL:https://iwf2026.com
X-WR-CALDESC:Events for IWF 2026 Atlanta — Local Booth Builder &amp; Rentals
REFRESH-INTERVAL;VALUE=DURATION:PT1H
X-Robots-Tag:noindex
X-PUBLISHED-TTL:PT1H
BEGIN:VTIMEZONE
TZID:UTC
BEGIN:STANDARD
TZOFFSETFROM:+0000
TZOFFSETTO:+0000
TZNAME:UTC
DTSTART:20250101T000000
END:STANDARD
END:VTIMEZONE
BEGIN:VEVENT
DTSTART;TZID=UTC:20260326T090000
DTEND;TZID=UTC:20260330T235959
DTSTAMP:20260419T172844
CREATED:20251023T065705Z
LAST-MODIFIED:20251023T065705Z
UID:26039-1774515600-1774915199@iwf2026.com
SUMMARY:ORIGINAL MIAMI BEACH ANTIQUE SHOW 2026
DESCRIPTION:ORIGINAL MIAMI BEACH ANTIQUE SHOW 2026 — Exhibitor Guide & Ultimate Options\nAbout ORIGINAL MIAMI BEACH ANTIQUE SHOW 2026\nVenue & Location\nMiami Beach: Our Services\nCustom Booth Models\nFAQ\n\nAbout ORIGINAL MIAMI BEACH ANTIQUE SHOW 2026\nThe ORIGINAL MIAMI BEACH ANTIQUE SHOW 2026 offers a unique opportunity for both visitors and exhibitors to engage with various specialties such as art\, jewelry\, and home and office design. From antique jewelry and vintage watches to modern furniture and home decor\, this exhibition showcases a rich assortment of collectibles ideal for both aficionados and casual enthusiasts. \nKey Details:\n  Feb 25–Mar 5\, 9:00 AM–6:00 PM\n  Miami Beach Convention Center\, 1901 Convention Center Drive\, USA \nThe event attracts audiences from various industries: Art and Antiques\, Collectors – Hobby\, Jewelry\, Clock & Watch-making\, Decoration\, Home & Office Design\, Furniture\, Lighting. \n\n\nVenue & Location\nThe exhibition will take place at the Miami Beach Convention Center\, located at 1901 Convention Center Drive\, USA. This venue offers significant logistics for exhibitors\, including ample docking access and convenient move-in windows to ensure a smooth setup experience. \nIf you have any questions\, feel free to reach out via phone. \n\n\nMiami Beach: Our Services\nWe provide turnkey booth rentals in Miami Beach through custom design\, production\, installation\, and dismantling of exhibits. Our comprehensive services include concept design\, modular frames\, branded SEG graphics\, reception/storage areas\, TV mounting\, and on-site installation and dismantling services. \n\n\nCustom Booth Models\nOur booth rentals cater to various popular footprints including: \n\n10×10: Ideal for small exhibits showcasing selected products.\n10×20: Offers a larger display area to create a more immersive experience.\n20×20: Suitable for companies looking to make a bold statement.\n\nEach model is designed to fit attendees in the sectors of Art and Antiques\, Collectors – Hobby\, Jewelry\, and Design. Check our Snap Exhibitions Custom Booth Models for more options. \nOur full-service exhibit support is available to ensure a seamless experience throughout the event. \n\n\nFAQ\nWhat is the ORIGINAL MIAMI BEACH ANTIQUE SHOW 2026?\nThe ORIGINAL MIAMI BEACH ANTIQUE SHOW 2026 is an event that brings together exhibitors and visitors to explore a vast array of antique and collectible items. \nWhat are the event hours for ORIGINAL MIAMI BEACH ANTIQUE SHOW 2026?\nThe event will run from Feb 25 to Mar 5\, from 9:00 AM to 6:00 PM. \nWhat booth sizes are recommended for exhibiting at this event?\nDepending on your needs\, typical booth sizes like 10×10\, 10×20\, and 20×20 are recommended for showcasing collectible items effectively. \nWhy is an aluminum booth better than wood?\nAluminum booths are lighter\, easier to transport\, and provide a modern aesthetic compared to traditional wooden booths. \nWhat can you tell me about Miami Beach?\nMiami Beach is a vibrant city known for its rich history\, beautiful beaches\, and thriving arts scene\, making it the perfect backdrop for events like the ORIGINAL MIAMI BEACH ANTIQUE SHOW. \nWhat is SNAP EXHIBITIONS’ role in the event?\nSNAP EXHIBITIONS helps ensure that your booth experience is seamless—from design to installation. \n\nIn conclusion\, ORIGINAL MIAMI BEACH ANTIQUE SHOW 2026 booth rental is an essential opportunity for exhibitors. To ensure a remarkable presence at this event\, contact our team today!
URL:https://iwf2026.com/event/original-miami-beach-antique-show-2026/
CATEGORIES:Art and Antiques,Clock & Watch-making,Collectors - Hobby,Decoration,Furniture,Home & Office Design,Jewelry,Lighting
END:VEVENT
END:VCALENDAR