BEGIN:VCALENDAR
VERSION:2.0
PRODID:-//IWF 2026 Atlanta — Local Booth Builder &amp; Rentals - ECPv6.15.13.1//NONSGML v1.0//EN
CALSCALE:GREGORIAN
METHOD:PUBLISH
X-WR-CALNAME:IWF 2026 Atlanta — Local Booth Builder &amp; Rentals
X-ORIGINAL-URL:https://iwf2026.com
X-WR-CALDESC:Events for IWF 2026 Atlanta — Local Booth Builder &amp; Rentals
REFRESH-INTERVAL;VALUE=DURATION:PT1H
X-Robots-Tag:noindex
X-PUBLISHED-TTL:PT1H
BEGIN:VTIMEZONE
TZID:UTC
BEGIN:STANDARD
TZOFFSETFROM:+0000
TZOFFSETTO:+0000
TZNAME:UTC
DTSTART:20250101T000000
END:STANDARD
END:VTIMEZONE
BEGIN:VEVENT
DTSTART;TZID=UTC:20260303T090000
DTEND;TZID=UTC:20260305T235959
DTSTAMP:20260419T132039
CREATED:20251023T060106Z
LAST-MODIFIED:20251023T060106Z
UID:25910-1772528400-1772755199@iwf2026.com
SUMMARY:THE GREAT LAKES BOUTIQUE AND GIFT SHOW 2026
DESCRIPTION:The Great Lakes Boutique and Gift Show 2026 Booth Rental — Essential Guide\nAbout THE GREAT LAKES BOUTIQUE AND GIFT SHOW 2026\nThe Great Lakes Boutique and Gift Show 2026 booth rental is an opportunity not to be missed for exhibitors in Consumer Goods. Taking place from January 29 to January 30\, 2026\, at the Kalamazoo County Expo Center in Kalamazoo\, MI\, USA\, this event will showcase various exciting product lines. This includes apparel\, bath & body products\, gifts\, home decor\, jewelry\, and much more\, attracting a diverse audience of retailers and enthusiasts. With hundreds of exhibitors\, the show is a vibrant hub for networking and collaboration. \nKey Details:Dates: January 29–30\, 2026\, 9:00 AM–5:00 PMLocation: Kalamazoo County Expo Center\, 2900 Lake St\, Kalamazoo\, MI\, USAEvent Website \nThis show caters to audiences involved in Consumer Goods\, Gifts & Souvenirs\, Fashion – Clothing\, Handicraft Products\, Jewelry\, Perfumes & Cosmetics\, Decoration\, Home & Office Design\, Furniture\, Lighting. \nVenue & Location\nJoin us at the Kalamazoo County Expo Center\, located at 2900 Lake St\, Kalamazoo\, MI\, USA. The venue provides excellent access for exhibitors and includes logistics considerations such as move-in windows and dock availability. \nKalamazoo\, MI: Our Services\nIn Kalamazoo\, MI\, we DESIGN\, PRODUCE\, INSTALL & DISMANTLE turnkey booth rentals. Our comprehensive services include booth concept/design\, modular frames\, reception/storage areas\, and branded SEG graphics that showcase your brand effectively. We ensure that your exhibition stands out and attracts visitors. \nCustom Booth Models\nWe offer a range of popular footprints ideal for different exhibitor needs. Our Snap Exhibitions Custom Booth Models include 10×10\, 10×20\, and 20×20 layouts\, which fit perfectly in the Consumer Goods sector\, allowing for flexible and eye-catching displays. We follow it up with full-service exhibit support to maximize your experience. \nFAQ\n1. What is the focus of THE GREAT LAKES BOUTIQUE AND GIFT SHOW 2026 booth rental?The Great Lakes Boutique and Gift Show 2026 booth rental focuses on showcasing consumer goods ranging from fashion to home decor. \n2. What are the event hours and dates for the Great Lakes Boutique and Gift Show?The event takes place from January 29 to January 30\, 2026\, from 9:00 AM to 5:00 PM each day. \n3. What recommended booth sizes should I consider for Consumer Goods?Popular booth sizes include 10×10 for smaller displays\, while 10×20 or 20×20 sizes work well for more comprehensive showcases. \n4. Why is an aluminum booth better than wood?Aluminum booths are lighter\, more durable\, and easier to transport compared to wood\, providing a modern and sleek appearance. \n5. What services does SNAP EXHIBITIONS offer in Kalamazoo?We provide complete booth rental solutions\, including design\, production\, installation\, and dismantling services. \n6. Why should I participate in THE GREAT LAKES BOUTIQUE AND GIFT SHOW 2026?Participating offers an exceptional opportunity for networking\, expanding your brand\, and reaching diverse audiences effectively. \n7. How can SNAP EXHIBITIONS help make everything perfect about my booth?We customize booth solutions to ensure they meet your specific needs\, making your exhibition experience seamless and impactful. Contact our team for tailored support. \nThis is an unmissable opportunity for exhibitors looking to make a mark at one of the year’s most significant trade shows. Make the most of your participation with our turnkey booth rentals at THE GREAT LAKES BOUTIQUE AND GIFT SHOW 2026. Secure your spot today by reaching out to us at Snap Exhibitions.
URL:https://iwf2026.com/event/the-great-lakes-boutique-and-gift-show-2026/
CATEGORIES:Consumer Goods,Decoration,Fashion - Clothing,Furniture,Gifts & Souvenirs,Handicraft Products,Home & Office Design,Jewelry,Lighting,Perfumes & Cosmetics
END:VEVENT
END:VCALENDAR