BEGIN:VCALENDAR
VERSION:2.0
PRODID:-//IWF 2026 Atlanta — Local Booth Builder &amp; Rentals - ECPv6.15.13.1//NONSGML v1.0//EN
CALSCALE:GREGORIAN
METHOD:PUBLISH
X-WR-CALNAME:IWF 2026 Atlanta — Local Booth Builder &amp; Rentals
X-ORIGINAL-URL:https://iwf2026.com
X-WR-CALDESC:Events for IWF 2026 Atlanta — Local Booth Builder &amp; Rentals
REFRESH-INTERVAL;VALUE=DURATION:PT1H
X-Robots-Tag:noindex
X-PUBLISHED-TTL:PT1H
BEGIN:VTIMEZONE
TZID:UTC
BEGIN:STANDARD
TZOFFSETFROM:+0000
TZOFFSETTO:+0000
TZNAME:UTC
DTSTART:20250101T000000
END:STANDARD
END:VTIMEZONE
BEGIN:VEVENT
DTSTART;TZID=UTC:20260308T090000
DTEND;TZID=UTC:20260310T235959
DTSTAMP:20260419T160552
CREATED:20251023T083028Z
LAST-MODIFIED:20251023T083028Z
UID:26055-1772960400-1773187199@iwf2026.com
SUMMARY:JIS SPRING 2026
DESCRIPTION:JIS SPRING 2026 Booth Rental — Exhibitor Guide & Essential Options\nAbout JIS SPRING 2026\nJIS SPRING 2026 booth rental provides a premier opportunity for jewelry industry professionals to maximize their impact in the market. This event\, located at the Miami Beach Convention Center\, is an essential gathering for exhibitors and attendees alike. Whether you’re looking to grow your business or deepen your relationships with suppliers\, this trade show has it all. Expect to discover exciting new products\, trends\, and reliable suppliers that will help restock your inventory just in time for Mother’s Day\, wedding season\, graduation\, and other significant milestones. \n\nKey Details:\nDates: Sep 5–7\, 2026\, 9:00 AM–5:00 PM\nLocation: Miami Beach Convention Center\, 1901 Convention Center Drive\, United States\nEvent Website\n\nOur event caters to the jewelry\, luxury industry\, gifts & souvenirs sectors\, making it the perfect venue for building connections and showcasing new products. Join us at JIS SPRING 2026! \nVenue & Location\nThe Miami Beach Convention Center\, located at 1901 Convention Center Drive\, United States\, offers a strategic location for your booth rental. Attendees can enjoy convenient access and a vibrant atmosphere to network effectively. While specific logistics vary\, the venue provides general accessibility for exhibitors during move-in periods. \nMiami Beach: Our Services\nIn Miami Beach\, we DESIGN\, PRODUCE\, INSTALL & DISMANTLE turnkey booth rentals. Our services include concept and design\, modular frames\, branded SEG graphics\, reception and storage areas\, TV mounts\, and on-site installation and dismantling support for your exhibition space. This allows exhibitors to focus on engaging customers without worrying about logistics. \nCustom Booth Models\nWe offer various booth sizes to suit your exhibition needs\, including popular footprints like 10×10\, 10×20\, and 20×20. These sizes are ideal for different activities tailored to attendees in the jewelry\, luxury industry\, gifts & souvenirs sectors. Explore our Snap Exhibitions Custom Booth Models designed to make a lasting impression. \nWe also provide full-service exhibit support to help streamline your exhibiting experience. Our team understands the unique demands of trade shows and ensures your booth functions seamlessly. For any questions or to explore options\, please contact our team. \nFAQ\n\nWhat is JIS SPRING 2026 booth rental? JIS SPRING 2026 booth rental refers to the opportunity to rent booths at the JIS SPRING trade show\, providing various design and support options.\nWhen is JIS SPRING 2026? The event is scheduled from September 5 to September 7\, 2026\, with hours from 9:00 AM to 5:00 PM.\nWhat booth sizes are recommended for the jewelry sector? For effective engagement at JIS SPRING\, a 10×10 or 10×20 booth size is often recommended\, accommodating various display needs.\nWhy is an aluminum booth better than wood? Aluminum booths are lighter\, more durable\, and easier to manipulate than wooden structures\, making setup and logistics much simpler.\nWhat’s Miami Beach like for attendees? Miami Beach boasts a vibrant atmosphere\, perfect for networking and entertainment\, enhancing the overall experience of trade show attendees.\nHow can SNAP EXHIBITIONS make my booth perfect? Our dedicated team focuses on delivering high-quality\, turnkey booth rentals tailored to your needs\, ensuring a hassle-free experience before\, during\, and after the show.\nWhat unique experiences does JIS SPRING 2026 offer? JIS SPRING 2026 features opportunities to connect with industry leaders\, discover new trends\, and enhance your brand’s visibility in the luxury industry.\n\nUtilize our JIS SPRING 2026 booth rental options for a seamless experience at this premier event. To learn more about how we can help elevate your presence at the show\, contact our team today!
URL:https://iwf2026.com/event/jis-spring-2026/
CATEGORIES:Gifts & Souvenirs,Jewelry,Luxury Industry
END:VEVENT
END:VCALENDAR