BEGIN:VCALENDAR
VERSION:2.0
PRODID:-//IWF 2026 Atlanta — Local Booth Builder &amp; Rentals - ECPv6.15.13.1//NONSGML v1.0//EN
CALSCALE:GREGORIAN
METHOD:PUBLISH
X-ORIGINAL-URL:https://iwf2026.com
X-WR-CALDESC:Events for IWF 2026 Atlanta — Local Booth Builder &amp; Rentals
REFRESH-INTERVAL;VALUE=DURATION:PT1H
X-Robots-Tag:noindex
X-PUBLISHED-TTL:PT1H
BEGIN:VTIMEZONE
TZID:UTC
BEGIN:STANDARD
TZOFFSETFROM:+0000
TZOFFSETTO:+0000
TZNAME:UTC
DTSTART:20250101T000000
END:STANDARD
END:VTIMEZONE
BEGIN:VEVENT
DTSTART;TZID=UTC:20260410T090000
DTEND;TZID=UTC:20260411T235959
DTSTAMP:20260419T160907
CREATED:20251023T091947Z
LAST-MODIFIED:20251023T091947Z
UID:26112-1775811600-1775951999@iwf2026.com
SUMMARY:ART & CRAFT FAIR - MINOT\, ND 2026
DESCRIPTION:ART & CRAFT FAIR – MINOT\, ND 2026 booth rental — Essential Guide\nAbout ART & CRAFT FAIR – MINOT\, ND 2026\nART & CRAFT FAIR – MINOT\, ND 2026 booth rental opportunities await you! Contributing to the vibrant world of handcrafted items\, this event showcases a range of exquisite offerings from talented artisans. From handcrafted wood furniture to decorative pieces\, photography\, and unique jewelry\, this trade show is a fantastic venue for both visitors and exhibitors alike. The handcrafted creations you’ll encounter are perfect for anyone looking to find one-of-a-kind items for their home or as gifts. \n\nKey Details:\nEvent Dates: Feb 5-Feb 6\, 2026\, 10:00 AM–5:00 PM\nLocation: ND State Fair Center\nAddress: 2005 Burdick Expy E\, Minot\, ND 58701\, USA\nCountry: United States\n\nThis trade show will be held in the Handicraft Products\, Decoration\, Home & Office Design\, Furniture\, Lighting\, Gifts & Souvenirs\, Catering & Hospitality Industries\, Fashion – Clothing\, Jewelry sectors\, providing an engaging experience for both attendees and exhibitors. \nVenue & Location\nHosted at the ND State Fair Center\, located at 2005 Burdick Expy E\, Minot\, ND 58701\, USA\, this venue is equipped to accommodate various exhibitor needs with adequate logistics for a seamless setup. Although specific phone details are not available\, this centrally located facility offers easy access for all participants. \nMinot\, ND: Our Services\nWe DESIGN\, PRODUCE\, INSTALL & DISMANTLE turnkey booth rentals in Minot\, ND. Our services include concept/design\, modular frames\, branded SEG graphics\, reception/storage\, TV mount\, and on-site installation and dismantling. This event allows exhibitors to connect with a diverse audience and showcase their artisanal talents effectively. \nCustom Booth Models\nWe offer a variety of booth footprints to accommodate your specific needs\, including: \n\n10×10 Booth: Ideal for small businesses showcasing unique items.\n10×20 Booth: Offers more display space without overwhelming attendees.\n20×20 Booth: Perfect for larger creations or multiple artisans sharing space.\n\nExplore our Snap Exhibitions Custom Booth Models for more options\, and rely on our full-service exhibit support to make your exhibition experience impactful. \nFAQ\n\nWhat is ART & CRAFT FAIR – MINOT\, ND 2026 booth rental? ART & CRAFT FAIR – MINOT\, ND 2026 booth rental provides exhibitors the opportunity to showcase their unique handcrafted items in a vibrant community setting.\nWhat are the event hours and dates?The event takes place on February 5–6\, 2026\, from 10:00 AM to 5:00 PM.\nWhat booth sizes are recommended for this event?For the categories represented\, we recommend a 10×10 booth for small displays and 10×20 for larger product lines.\nWhy is an aluminium booth better than wood?Aluminium booths are lighter\, more durable\, and provide better portability and flexibility compared to traditional wooden setups.\nWhat services does Minot\, ND offer for exhibitors?Minot provides a range of logistical support\, making it easy for exhibitors to set up and connect with the audience.\nHow can SNAP EXHIBITIONS make everything perfect about their booth?We ensure a seamless experience by handling all aspects from design to installation and dismantling\, allowing you to focus on showcasing your creations.\n\nAs you prepare for your participation\, remember that the ART & CRAFT FAIR – MINOT\, ND 2026 booth rental is your gateway to connect with potential customers and enhance your brand visibility. Don’t miss out on this unique opportunity — contact our team today to ensure a successful exhibition!
URL:https://iwf2026.com/event/art-craft-fair-minot-nd-2026/
CATEGORIES:Catering & Hospitality Industries,Decoration,Fashion - Clothing,Furniture,Gifts & Souvenirs,Handicraft Products,Home & Office Design,Jewelry,Lighting
END:VEVENT
BEGIN:VEVENT
DTSTART;TZID=UTC:20260411T090000
DTEND;TZID=UTC:20260412T235959
DTSTAMP:20260419T160907
CREATED:20251022T214859Z
LAST-MODIFIED:20251022T214859Z
UID:25748-1775898000-1776038399@iwf2026.com
SUMMARY:SPRING ARTS & CRAFTS SHOW 2026
DESCRIPTION:SPRING ARTS & CRAFTS SHOW 2026 booth rental — Essential Exhibitor Guide & Custom Booth Options\nAbout Spring Arts & Crafts Show 2026\nVenue & Location\nFredericksburg VA: Our Services\nCustom Booth Models\nFAQ\nSPRING ARTS & CRAFTS SHOW 2026 booth rental is a must for your presence! This exciting event takes place at the Fredericksburg Expo & Conference Center\, showcasing an enchanting variety of handcrafted treasures. Visitors and exhibitors alike will gain exposure to unique jewelry\, home decor\, and artistic pieces that truly stand out. Mark your calendars for this vibrant festival that promises to inspire and connect creative minds. \nKey Details: March 25–27\, 2026\, 10:00 AM–6:00 PM\, Fredericksburg Expo & Conference Center\, 2371 Carl D. Silver Parkway\, Fredericksburg\, Virginia\, United States. You can find more information on the official website. \nIndustries & Audience: This event caters to several creative domains\, including Handicraft Products\, Decoration\, Home & Office Design\, Furniture\, Lighting\, Gifts & Souvenirs\, Art and Antiques. \nVenue & Location\nThe Fredericksburg Expo & Conference Center is centrally located at 2371 Carl D. Silver Parkway\, Fredericksburg\, Virginia\, United States. It’s a well-equipped venue that offers ample space for exhibitors to create stunning displays of their work. Loading docks and access points are available to facilitate easy move-ins without hassle. \nFredericksburg VA: Our Services\nIn Fredericksburg\, VA\, we DESIGN\, PRODUCE\, INSTALL & DISMANTLE turnkey booth rentals. Our services encompass everything from concept and design to modular frames\, branded SEG graphics\, and essential booth features such as reception areas\, storage options\, and TV mounts. Our team ensures every aspect of your booth reflects your unique style and vision. \nCustom Booth Models\nAt this trade show\, we encourage you to explore our Snap Exhibitions Custom Booth Models. Popular footprints include: \n\n10×10: Ideal for small displays\, perfect for showcasing key items.\n10×20: Suitable for those needing more space to display a variety of products.\n20×20: Best for larger exhibits\, allowing for immersive setups that attract attention.\n\nEach size adapts nicely to your needs in the creative sectors represented at the event. \nAdditionally\, we offer full-service exhibit support to ensure a seamless experience throughout the event. \nFAQ\n\nWhat is the schedule for SPRING ARTS & CRAFTS SHOW 2026 booth rental?\nThe event will occur from March 25 to 27\, 2026\, during the hours of 10:00 AM to 6:00 PM.\nWhat are recommended booth sizes for the handicraft sector?\nWe recommend sizes like 10×10 for starting exhibitors\, or up to 20×20 for comprehensive displays in the handicraft product categories.\nWhy is an aluminum booth better than wood?\nAluminum booths are lighter\, easier to transport\, and offer more design flexibility compared to wood\, making them a preferred choice for exhibitors.\nWhat can I showcase at the SPRING ARTS & CRAFTS SHOW 2026?\nYou can showcase a wide variety of handcrafted items including jewelry\, home decor\, furnishings\, and gifts.\nHow can I contact SNAP EXHIBITIONS for assistance?\nYou can contact our team for any questions or to get started with your booth rental today.\n\nIn conclusion\, engaging in SPRING ARTS & CRAFTS SHOW 2026 booth rental is an essential step in ensuring your exhibition presence shines. Let our experts help you with your booth planning for an unforgettable experience. Don’t hesitate\, reach out to us today!
URL:https://iwf2026.com/event/spring-arts-crafts-show-2026/
CATEGORIES:Art and Antiques,Decoration,Furniture,Gifts & Souvenirs,Handicraft Products,Home & Office Design,Lighting
END:VEVENT
END:VCALENDAR