BEGIN:VCALENDAR
VERSION:2.0
PRODID:-//IWF 2026 Atlanta — Local Booth Builder &amp; Rentals - ECPv6.15.13.1//NONSGML v1.0//EN
CALSCALE:GREGORIAN
METHOD:PUBLISH
X-WR-CALNAME:IWF 2026 Atlanta — Local Booth Builder &amp; Rentals
X-ORIGINAL-URL:https://iwf2026.com
X-WR-CALDESC:Events for IWF 2026 Atlanta — Local Booth Builder &amp; Rentals
REFRESH-INTERVAL;VALUE=DURATION:PT1H
X-Robots-Tag:noindex
X-PUBLISHED-TTL:PT1H
BEGIN:VTIMEZONE
TZID:UTC
BEGIN:STANDARD
TZOFFSETFROM:+0000
TZOFFSETTO:+0000
TZNAME:UTC
DTSTART:20250101T000000
END:STANDARD
END:VTIMEZONE
BEGIN:VEVENT
DTSTART;TZID=UTC:20260504T090000
DTEND;TZID=UTC:20260506T235959
DTSTAMP:20260419T124447
CREATED:20251023T052230Z
LAST-MODIFIED:20251023T052230Z
UID:25824-1777885200-1778111999@iwf2026.com
SUMMARY:CERAMICS EXPO 2026
DESCRIPTION:CERAMICS EXPO 2026 Booth Rental — Ultimate Guide\nAbout CERAMICS EXPO 2026\nThe CERAMICS EXPO 2026 booth rental provides companies in the ceramic industry with a chance to connect\, learn\, and grow. From September 1–3\, 2026\, at the Huntington Convention Center of Cleveland\, this exhibition offers exhibitors a platform to showcase innovative products and services. \nVisitors will benefit from valuable insights into the latest industry developments\, including sourcing next-generation materials and forging new business connections. \n Key Details:\n September 1–3\, 2026\, 9:00 AM–5:00 PM\n Huntington Convention Center of Cleveland\n 300 Lakeside Ave E\, Cleveland\, OH 44113\, United States\n For more information\, visit the official site. \nIndustries & Audience: Advanced Materials\, Stone\, Marble & Ceramics\, Sciences for Engineers – Research & Development\, Aeronautics – Space\, Automotive Engineering – Systems & Components\, Decoration\, Home & Office Design\, Furniture\, Lighting \nVenue & Location\nThe event will take place at the Huntington Convention Center of Cleveland\, located at 300 Lakeside Ave E\, Cleveland\, OH 44113\, United States. Attendees will enjoy convenient access to a variety of logistics\, including move-in windows and dock access. \nCleveland OH: Our Services\nAt Snap Exhibitions\, we DESIGN\, PRODUCE\, INSTALL & DISMANTLE turnkey booth rentals in Cleveland\, OH. Our complete service includes concept design\, modular frames\, branded SEG graphics\, reception/storage areas\, and on-site installation and dismantling support. \nCustom Booth Models\nExplore our Snap Exhibitions Custom Booth Models which are designed to cater to the needs of various exhibitors. Popular footprints include: \n\n10×10 Booths: Ideal for new brands looking to enter the market and make a strong impression.\n10×20 Booths: Great for displaying a wider range of products while maintaining an intimate setting.\n20×20 Booths: Perfect for established businesses wanting to showcase multiple products and attract significant attention.\n\nAll our booth models offer flexibility and can be customized to fit the needs of exhibitors participating in the categories listed. \nWe provide full-service exhibit support\, ensuring that your booth stands out and effectively communicates your brand message. \nFAQ\n\nWhat is the CERAMICS EXPO 2026 booth rental? A rental service that allows exhibitors to showcase their offerings efficiently.\nWhat are the event hours and dates? The event will occur from September 1–3\, 2026\, from 9:00 AM to 5:00 PM.\nWhat booth sizes are recommended for the ceramic industry? Typically\, 10×10 or 10×20 booths are popular for showcasing products effectively.\nWhy is an aluminum booth better than wood? Aluminum offers enhanced durability and a modern look\, reducing maintenance needs.\nWhat is special about the Huntington Convention Center of Cleveland? It provides excellent facilities and accessibility for exhibitors and visitors alike.\nHow SNAP EXHIBITIONS can help make everything perfect about their booth? We ensure a seamless process from design to dismantling\, guaranteeing a successful exhibition experience.\n\nWith the CERAMICS EXPO 2026 booth rental\, we are dedicated to making your participation as impactful as possible. For further information\, contact our team today!
URL:https://iwf2026.com/event/ceramics-expo-2026/
CATEGORIES:Advanced Materials,Aeronautics - Space,Automotive Engineering - Systems & Components,Decoration,Furniture,Home & Office Design,Lighting,Marble & Ceramics,Sciences for Engineers - Research & Development,Stone
END:VEVENT
BEGIN:VEVENT
DTSTART;TZID=UTC:20260505T090000
DTEND;TZID=UTC:20260507T235959
DTSTAMP:20260419T124447
CREATED:20251023T063528Z
LAST-MODIFIED:20251023T063528Z
UID:25997-1777971600-1778198399@iwf2026.com
SUMMARY:HD EXPO + CONFERENCE 2026
DESCRIPTION:HD EXPO + CONFERENCE 2026 — Exhibitor Guide & Premium Options\nAbout HD EXPO + CONFERENCE 2026\nHD EXPO + CONFERENCE 2026 is a pivotal event for those in the hospitality design industry. This exposé is much more than a showcase; it facilitates crucial connections\, inspires fresh concepts\, and drives product innovation. Exhibitors and attendees benefit immensely from networking opportunities\, access to cutting-edge solutions\, and insights from industry leaders.\nKey Details:\nDates: Mar 28–30\, 2026\, 10:00 AM to 5:00 PM\nLocation: Mandalay Bay Convention Center\, 3950 Las Vegas Blvd. South\, Las Vegas\, Nevada\nCountry: United States\nVisit our event website for more information.\nIndustries & Audience: Catering & Hospitality Industries\, Retail & Shop Fitting Equipment & Service\, Architecture\, Decoration\, Home & Office Design\, Furniture\, Lighting. \nVenue & Location\nThe venue for this dynamic event is the Mandalay Bay Convention Center\, located at 3950 Las Vegas Blvd. South\, Las Vegas\, Nevada\, United States. With excellent central access and ample space\, it’s an ideal location for an engaging trade show experience. Attendees can expect general logistics that support seamless booth installations. \nLas Vegas NV: Our Services\nIn Las Vegas\, we DESIGN\, PRODUCE\, INSTALL & DISMANTLE turnkey booth rentals. Our comprehensive services include concept and design\, modular frames\, branded SEG graphics\, reception/storage areas\, and TV mounts\, ensuring a memorable presence for your business at HD EXPO + CONFERENCE 2026. \nCustom Booth Models\nWe offer a variety of popular booth sizes to suit all exhibitor needs\, including: \n\n10×10: Perfect for showcasing products and attracting interest in busy areas.\n10×20: Ideal for businesses looking to make a statement with slightly more space while remaining manageable.\n20×20: Offers expansive room for creative displays and interactions\, fitting well for exhibitors in catering and hospitality industries.\n\nExplore our Snap Exhibitions Custom Booth Models to see our designs in action.\nOur full-service exhibit support ensures your booth is executed flawlessly\, from design conception to dismantling. \nFAQ\n\nWhat is HD EXPO + CONFERENCE 2026?\nHD EXPO + CONFERENCE 2026 is a premier event focused on the hospitality design industry\, driving networking and innovation. \nWhat are the dates and hours for the event?\nThe event runs from March 28 to March 30\, 2026\, from 10:00 AM to 5:00 PM each day.\nWhat sizes of booths do you recommend for the catering and hospitality industries?\nWe recommend 10×10 or 20×20 booths\, depending on the amount of promotional material you wish to display and the level of interaction desired with attendees.\nWhy is an aluminum booth better than wood?\nAluminum is lighter\, more durable\, and can be sourced sustainably\, making it a superior option to traditional wooden booths.\nWhat can I expect when attending the event in Las Vegas?\nExpect an engaging atmosphere filled with networking opportunities\, innovative displays\, and insights into industry advancements.\nHow can SNAP EXHIBITIONS help me create the perfect booth?\nWe provide turnkey booth rentals\, including design\, construction\, and on-site support to ensure your exhibit stands out.\n\nIn summary\, HD EXPO + CONFERENCE 2026 is an unmissable opportunity to elevate your presence in the hospitality design industry. For more information on our turnkey booth rentals\, please contact our team.
URL:https://iwf2026.com/event/hd-expo-conference-2026/
CATEGORIES:Architecture,Catering & Hospitality Industries,Decoration,Furniture,Home & Office Design,Lighting,Retail & Shop Fitting Equipment & Service
END:VEVENT
BEGIN:VEVENT
DTSTART;TZID=UTC:20260515T090000
DTEND;TZID=UTC:20260519T235959
DTSTAMP:20260419T124447
CREATED:20251023T173627Z
LAST-MODIFIED:20251023T173627Z
UID:26191-1778835600-1779235199@iwf2026.com
SUMMARY:TEFAF NEW YORK - FALL 2026
DESCRIPTION:TEFAF NEW YORK – FALL 2026 booth rental — Ultimate Exhibitor Guide & Custom Booth Options\nAbout TEFAF NEW YORK – FALL 2026\nTEFAF NEW YORK – FALL 2026 booth rental services are ideal for exhibitors looking to make a lasting impression. This premier event\, held at the Park Avenue Armory\, showcases a plethora of fine and decorative arts\, spotlighting works spanning from Antiquity to 1920. Visitors to this vibrant art fair will not only engage with a diverse range of exceptional artworks but will also connect with influential collectors and industry experts. \nKey Details:October 13–16\, 2026\, 10:00 AM–6:00 PMPark Avenue Armory643 Park Avenue\, NY 10065United States \nIndustries & Audience: Art and Antiques\, Photography\, Decoration\, Home & Office Design\, Furniture\, Lighting. Exhibitors gain incredible exposure and networking opportunities in these prestigious categories. \nVenue & Location\nThe event takes place at the Park Avenue Armory\, located at 643 Park Avenue\, NY 10065\, United States. Exhibitors should be aware of the venue’s logistics\, ensuring smooth move-in and setup processes to maximize their visibility during the event. \nFor any inquiries\, feel free to reach out via phone. \nTEFAF NEW YORK – FALL 2026: Our Services\nWe DESIGN\, PRODUCE\, INSTALL & DISMANTLE turnkey booth rentals in this city. We help exhibitors with concept/design\, modular frames\, branded SEG graphics\, reception/storage\, TV mount\, and on-site installation & dismantling services. \nCustom Booth Models\nExplore our Snap Exhibitions Custom Booth Models tailored to fit diverse exhibitor needs. Popular footprints include: \n\n10×10: Ideal for individual artists or small galleries showcasing exclusive pieces.\n10×20: Perfect for medium-sized galleries looking to display a wider range of works.\n20×20: Best suited for larger exhibitors requiring expansive space for significant collections.\n\nAll these models cater specifically to the Art and Antiques\, Photography industries\, providing space and structure to enhance visibility and interaction. \nOur full-service exhibit support ensures that every aspect of your booth meets the highest standards\, attracting attendees effectively. \nTo discuss your specific needs\, contact our team today. \nFAQ\nWhat services are included in TEFAF NEW YORK – FALL 2026 booth rental?Our booth rental includes design\, production\, installation\, and dismantling to ensure a seamless experience at the fair. \nWhat are the dates and hours for TEFAF NEW YORK – FALL 2026?The event runs from October 13–16\, 2026\, from 10:00 AM to 6:00 PM. \nWhat booth sizes are recommended for the Art and Antiques sectors?We recommend starting with a 10×10 for individual exhibitors and a 20×20 for larger galleries. \nWhy is an aluminum booth better than a wood booth?Aluminum offers a lighter\, more durable structure\, facilitating easier transport and setup\, and it’s more environmentally friendly compared to wood. \nWhat kind of support can exhibitors expect in New York?Our team\, based in New York\, is well-versed in local logistics\, ensuring optimal support throughout the event. \nHow can SNAP EXHIBITIONS help make everything perfect about my booth?We specialize in turnkey booth rentals\, tailoring every detail to match your vision\, ensuring that your exhibition is flawlessly executed. \nFor a successful event\, let us assist you with TEFAF NEW YORK – FALL 2026 booth rental solutions. Visit our website for more information and to contact us today.
URL:https://iwf2026.com/event/tefaf-new-york-fall-2026/
CATEGORIES:Art and Antiques,Decoration,Furniture,Home & Office Design,Lighting,Photography
END:VEVENT
BEGIN:VEVENT
DTSTART;TZID=UTC:20260515T090000
DTEND;TZID=UTC:20260519T235959
DTSTAMP:20260419T124447
CREATED:20251023T173654Z
LAST-MODIFIED:20251023T173654Z
UID:26192-1778835600-1779235199@iwf2026.com
SUMMARY:TEFAF NEW YORK - SPRING 2026
DESCRIPTION:TEFAF NEW YORK – SPRING 2026 booth rental — Essential Exhibitor Guide & Custom Booth Options\nAbout TEFAF NEW YORK – SPRING 2026\nTEFAF NEW YORK – SPRING 2026 booth rental provides a unique opportunity for exhibitors to stand out in the art market. This renowned International Fine and Decorative Art Fair showcases exquisite works from antiquity to 1920\, making it a premier platform for gallery owners\, collectors\, and enthusiasts to engage with the finest art available today. Attendees will not only enjoy an impressive selection of art but also valuable networking opportunities that can lead to long-term relationships in the industry. \nKey Details:May 7–12\, 2026\, 10:00 AM–6:00 PMPark Avenue Armory643 Park Avenue\, NY 10065United States \nIndustries & Audience: Art and Antiques\, Photography\, Decoration\, Home & Office Design\, Furniture\, Lighting. \nVenue & Location\nThe event will take place at Park Avenue Armory\, located at 643 Park Avenue\, NY 10065\, USA. This iconic venue provides ample space for moving in and out\, including necessary dock access\, ensuring a seamless setup for all exhibitors. \nTEFAF NEW YORK – SPRING 2026: Our Services\nIn TEFAF NEW YORK – SPRING 2026\, we DESIGN\, PRODUCE\, INSTALL & DISMANTLE turnkey booth rentals in this city. We take pride in offering a comprehensive solution that includes concept design\, modular frame setups\, branded SEG graphics\, reception/storage areas\, and TV mounts—all tailored to enhance your presentation. Our expertise ensures that you make a lasting impression at this prestigious event. \nCustom Booth Models\nWe offer a variety of popular booth footprints\, including 10×10\, 10×20\, and 20×20 designs\, that suit the diverse needs of attendees in the art industry. Whether you’re showcasing large pieces or multiple small items\, our Snap Exhibitions Custom Booth Models are crafted to enhance your exhibition experience. \nFor those seeking more comprehensive support\, we offer full-service exhibit support to ensure your booth is a true reflection of your brand. If you’re ready to elevate your exhibit at TEFAF NEW YORK – SPRING 2026\, contact our team today! \nFAQ\nWhat is TEFAF NEW YORK – SPRING 2026 booth rental?TEFAF NEW YORK – SPRING 2026 booth rental allows exhibitors to showcase their artworks in a prestigious setting\, providing all necessary resources to create a captivating presentation. \nWhat are the hours for TEFAF NEW YORK – SPRING 2026?The event runs from May 7–12\, 2026\, from 10:00 AM to 6:00 PM daily. \nWhat booth sizes do you recommend for the art sector?For art exhibitions\, a 10×20 or 20×20 booth is often ideal\, allowing for both spacious displays and intimate viewing experiences. \nWhy are aluminum booths better than wood?Aluminum booths are lighter\, more durable\, and easier to transport compared to traditional wooden structures\, making them a smart choice for event setups. \nWhat services does Snap Exhibitions offer in NY?We provide complete turnkey booth services\, including design\, production\, installation\, and dismantling\, specifically tailored for major events like TEFAF. \nWhat is the significance of TEFAF in the art world?TEFAF is recognized as one of the world’s most prestigious art fairs\, attracting top galleries\, collectors\, and curators globally. \nHow can Snap Exhibitions help me create the perfect booth?We specialize in providing customized booth rentals that meet the unique needs of each exhibitor\, ensuring a standout presence at TEFAF NEW YORK – SPRING 2026. \nTEFAF NEW YORK – SPRING 2026 booth rental is your gateway to engaging with the finest audiences in the art world. For crafting an impactful exhibit\, we invite you to contact our team and start your journey towards a remarkable display experience.
URL:https://iwf2026.com/event/tefaf-new-york-spring-2026/
CATEGORIES:Art and Antiques,Decoration,Furniture,Home & Office Design,Lighting,Photography
END:VEVENT
END:VCALENDAR