BEGIN:VCALENDAR
VERSION:2.0
PRODID:-//IWF 2026 Atlanta — Local Booth Builder &amp; Rentals - ECPv6.15.13.1//NONSGML v1.0//EN
CALSCALE:GREGORIAN
METHOD:PUBLISH
X-ORIGINAL-URL:https://iwf2026.com
X-WR-CALDESC:Events for IWF 2026 Atlanta — Local Booth Builder &amp; Rentals
REFRESH-INTERVAL;VALUE=DURATION:PT1H
X-Robots-Tag:noindex
X-PUBLISHED-TTL:PT1H
BEGIN:VTIMEZONE
TZID:UTC
BEGIN:STANDARD
TZOFFSETFROM:+0000
TZOFFSETTO:+0000
TZNAME:UTC
DTSTART:20250101T000000
END:STANDARD
END:VTIMEZONE
BEGIN:VEVENT
DTSTART;TZID=UTC:20260409T090000
DTEND;TZID=UTC:20260412T235959
DTSTAMP:20260423T094105
CREATED:20251022T211029Z
LAST-MODIFIED:20251022T211029Z
UID:25707-1775725200-1776038399@iwf2026.com
SUMMARY:ARROWHEAD HOME & BUILDERS SHOW 2026
DESCRIPTION:Arrowhead Home & Builders Show 2026 Booth Rental — Ultimate Guide\nAbout Arrowhead Home & Builders Show 2026\nVenue & Location\nDuluth MN: Our Services\nCustom Booth Models\nFAQ\nArrowhead Home & Builders Show 2026: What You Need to Know\nArrowhead Home & Builders Show 2026 booth rental is a must for exhibitors looking to showcase their products in Duluth. This event will feature hundreds of exhibits and displays highlighting the newest home and lifestyle innovations. As an exhibitor\, you’ll connect with a diverse audience interested in building\, gardening\, and home improvement\, providing an invaluable opportunity to generate leads and enhance your business visibility. \nKey Details: \nDate: May 1–3\, 2026 (10:00 AM–6:00 PM) \nLocation: Duluth Entertainment Convention Center \nAddress: 350 Harbor Drive\, Duluth\, MN\, United States. \nIndustries & Audience: Building & Construction\, Home Show\, Gardening. \nVenue & Location\nThe event will take place at the Duluth Entertainment Convention Center\, located at 350 Harbor Drive\, Duluth\, MN\, USA. This venue is well-equipped for hosting large-scale events\, ensuring a smooth experience for both exhibitors and attendees. The facility has convenient access for set-up and logistics\, making it easier for vendors to move and install their booths. \nDuluth MN: Our Services\nWe DESIGN\, PRODUCE\, INSTALL & DISMANTLE turnkey booth rentals in Duluth\, MN. Our services include concept and design\, modular frames\, branded SEG graphics\, reception/storage areas\, TV mounts\, and on-site installation & dismantling. Whether you’re a first-time exhibitor or a seasoned pro\, we have the solutions to meet your needs. \nCustom Booth Models\nExplore our Snap Exhibitions Custom Booth Models\, perfect for various needs. Our popular footprints include: \n\n10×10 – Ideal for smaller brands looking to make a big impact.\n10×20 – Offers more display space while maintaining accessibility.\n20×20 – Perfect for companies aiming for an extensive showcase to draw in potential clients.\n\nThese booth sizes cater specifically to the Building & Construction and Gardening sectors\, providing ample space for displays and customer engagement. We also offer full-service exhibit support to make your experience seamless. \nFAQ\n\nWhat is Arrowhead Home & Builders Show 2026 booth rental?\nThe Arrowhead Home & Builders Show 2026 booth rental provides exhibitors with a platform to showcase their products and services directly to potential customers.\nWhat are the event hours and dates?\nThe event runs from May 1–3\, 2026\, from 10:00 AM to 6:00 PM.\nWhat booth sizes do you recommend for Building & Construction?\nWe recommend 10×10 booths for smaller exhibits and 10×20 or 20×20 booths for larger displays to attract more visitors.\nWhy is an aluminum booth better than wood?\nAluminum booths are lighter\, more durable\, and easier to transport compared to traditional wood booths\, making them an excellent choice for event rentals.\nWhat kind of support does Snap Exhibitions provide for this event?\nWe handle everything from design to installation\, ensuring that your booth is ready to impress when the doors open.\nWhat can I expect from the exhibitors at this event?\nExpect to see a diverse range of suppliers showcasing innovative products related to home improvement and landscaping.\nHow can Snap Exhibitions help with my booth planning?\nWe provide end-to-end support to ensure everything is perfect for your booth. Contact our team to get started today!\n\nWith Arrowhead Home & Builders Show 2026 booth rental\, you can elevate your exhibition experience and stand out in a competitive market. For professional assistance\, we encourage you to contact our team today!
URL:https://iwf2026.com/event/arrowhead-home-builders-show-2026/
CATEGORIES:Building & Construction,Gardening,Home Show
END:VEVENT
BEGIN:VEVENT
DTSTART;TZID=UTC:20260409T090000
DTEND;TZID=UTC:20260412T235959
DTSTAMP:20260423T094105
CREATED:20251023T191138Z
LAST-MODIFIED:20251023T191138Z
UID:26242-1775725200-1776038399@iwf2026.com
SUMMARY:NEW ENGLAND HOME SHOW - RI 2026
DESCRIPTION:NEW ENGLAND HOME SHOW – RI 2026 Booth Rental — Ultimate Guide\n#show\n#venue\n#city-services\n#booth-models\n#faq\nNEW ENGLAND HOME SHOW – RI 2026\nAttending the NEW ENGLAND HOME SHOW – RI 2026 is a must for anyone in the home improvement sector in Providence. This event is the largest home improvement and idea show in Southern New England! Visitors can explore a variety of home-related exhibitors showcasing the latest trends and services in categories such as Home Show\, Renovations\, Kitchen & Bathroom\, Heating\, Air Conditioning\, and much more. Join us to connect with hundreds of exhibitors who are eager to share their innovative solutions to enhance your living spaces. \nKey Details\n\nDates: Dec 7–9\, 2026\, 10:00 AM–6:00 PM\nLocation: Rhode Island Convention Center\, 1 Sabin Street\, Providence\, Rhode Island\, United States\n\nIndustries & Audience: Home Show\, Renovations\, Heating\, Home & Office Design \nVenue & Location\nThe event will be held at the Rhode Island Convention Center\, which is located at 1 Sabin Street\, Providence\, Rhode Island. The venue provides convenient access and spacious logistics for moving in and out of exhibits. While we recommend checking local sources for specific docking access and move-in times\, the venue is well-prepared to accommodate various exhibitor needs. \nProvidence: Our Services\nWe at Snap Exhibitions specialize in turning your ideas into reality by providing turnkey booth rentals in Providence\, RI. We DESIGN\, PRODUCE\, INSTALL & DISMANTLE the entire exhibition setup tailored to your specifications. Our professional team offers comprehensive services including concept/design\, modular frames\, branded SEG graphics\, and on-site installation and dismantling. \nCustom Booth Models\nExplore some of our popular booth sizes designed to fit different categories during the NEW ENGLAND HOME SHOW – RI 2026. Whether you require a 10×10\, 10×20\, or a 20×20 space\, we ensure that each design meets the needs of exhibitors in Home & Office Design and other relevant sectors. Additionally\, our full-service exhibit support guarantees a seamless experience from booth design to final execution. \nFAQ\n\nWhat is the NEW ENGLAND HOME SHOW – RI 2026 booth rental?\nThe NEW ENGLAND HOME SHOW – RI 2026 booth rental offers the opportunity to showcase your business at the largest home improvement exhibition in Southern New England.\nWhat are the event hours for NEW ENGLAND HOME SHOW – RI 2026?\nThe show runs from Dec 7 to 9\, 2026\, each day from 10:00 AM to 6:00 PM.\nWhat booth sizes are recommended for home improvement exhibitors?\nWe recommend booth sizes like 10×10\, 10×20\, or even a 20×20 for companies in sectors such as renovations and décor.\nWhy choose an aluminum booth over wood?\nAluminum booths are typically lighter\, easier to assemble\, and more durable compared to wooden booths\, making them a reliable option for frequent exhibitors.\nWhat services does Snap Exhibitions offer in Providence?\nIn Providence\, we are committed to providing custom solutions so you can focus on connecting with customers while we handle your exhibit needs.\nHow do I get to the Rhode Island Convention Center?\nThe venue is centrally located at 1 Sabin Street\, easily accessible by public transport and major roads.\nHow can SNAP EXHIBITIONS help me make everything perfect about my booth?\nWe offer comprehensive assistance at every stage—from design conception through installation and dismantling—ensuring your booth not only meets but exceeds your expectations. You can contact our team for more inquiries.\n\nAt NEW ENGLAND HOME SHOW – RI 2026\, don’t miss the chance to showcase your offerings through our exceptional booth rental service. Partner with us by visiting Snap Exhibitions and let’s create a standout presence together!
URL:https://iwf2026.com/event/new-england-home-show-ri-2026/
CATEGORIES:Decoration,Furniture,Gardening,Heating - Air Conditioning,Home & Office Design,Home Show,Kitchen & Bathroom,Lighting,Renewal - Renovations,Textiles - Fabrics for Decoration
END:VEVENT
BEGIN:VEVENT
DTSTART;TZID=UTC:20260410T090000
DTEND;TZID=UTC:20260412T235959
DTSTAMP:20260423T094105
CREATED:20251022T200850Z
LAST-MODIFIED:20251022T200850Z
UID:25638-1775811600-1776038399@iwf2026.com
SUMMARY:CENTRAL KENTUCKY HOME & GARDEN SHOW 2026
DESCRIPTION:CENTRAL KENTUCKY HOME & GARDEN SHOW 2026 Booth Rental — Ultimate Guide\nAbout CENTRAL KENTUCKY HOME & GARDEN SHOW 2026\nCENTRAL KENTUCKY HOME & GARDEN SHOW 2026 booth rental offers you an incredible opportunity to showcase your products and services. This annual event\, held in the heart of Lexington\, features a vibrant audience interested in home improvement and decoration. Visitors will find everything from landscaping to interior design innovations\, making it essential for exhibitors looking to make a memorable impression. \nKey Details:April 1–3\, 2026\, 10:00 AM–5:00 PM\, Central Bank Center\, 430 W Vine St\, Lexington\, KY 40507\, United States. \nIndustries & Audience: Home Show\, Gardening\, Decoration\, Home & Office Design\, Furniture\, Lighting\, Renewal – Renovations\, Kitchen & Bathroom\, Household Appliances – Domestic Appliance Technology\, Heating – Air Conditioning. \nVenue & Location\nJoin us at the Central Bank Center located at 430 W Vine St\, Lexington\, KY 40507\, United States. This venue is known for its central access and accommodating layout\, ideal for exhibitors and attendees alike. \nIf you’re looking to reach a diverse audience of home and garden enthusiasts\, this space will serve you well. \nLexington KY: Our Services\nWe DESIGN\, PRODUCE\, INSTALL & DISMANTLE turnkey booth rentals in Lexington\, KY. Our comprehensive services include concept and design development\, modular framing\, branded SEG graphics\, reception/storage solutions\, and TV mounts. We ensure that your exhibition not only looks great but also functions seamlessly. \nCustom Booth Models\nAt Snap Exhibitions\, we provide Snap Exhibitions Custom Booth Models tailored to your needs. Our popular footprints such as 10×10\, 10×20\, and 20×20 are perfect for all sectors represented at the show. Each size is designed to maximize visibility and engagement for your target audience. \nWe also offer full-service exhibit support to ensure everything runs smoothly from concept to execution. If you need assistance\, contact our team today. \nFAQ\n\nWhat is CENTRAL KENTUCKY HOME & GARDEN SHOW 2026?It is the largest home and garden showcase in Lexington\, featuring various home improvement sectors.\nWhen does the event take place?The event occurs from April 1 to April 3\, 2026\, from 10:00 AM to 5:00 PM.\nWhat are the recommended booth sizes for home show exhibitors?Popular sizes include 10’x10′\, 10’x20′\, and 20’x20′\, all suitable for a variety of exhibits.\nWhy is an aluminum booth better than wood?Aluminum is more durable\, lightweight\, and customizable compared to wood\, making it ideal for reusable exhibits.\nWhat can I expect at the Central Kentucky Home & Garden Show?Attendees can explore the latest in home design\, gardening\, and renovation solutions.\nHow does SNAP EXHIBITIONS help make my booth perfect?We ensure a turnkey solution from design to setup\, making the process easy and efficient.\nWhy should I choose a booth rental for this event?Booth rentals allow flexibility\, ease of setup\, and a hassle-free exhibition experience.\n\nIn conclusion\, CENTRAL KENTUCKY HOME & GARDEN SHOW 2026 booth rental is your opportunity to shine at this major event. Ready to elevate your presence? Contact our team to secure your spot today!
URL:https://iwf2026.com/event/central-kentucky-home-garden-show-2026/
CATEGORIES:Decoration,Furniture,Gardening,Heating - Air Conditioning,Home & Office Design,Home Show,Household Appliances - Domestic Appliance Technology,Kitchen & Bathroom,Lighting,Renewal - Renovations
END:VEVENT
BEGIN:VEVENT
DTSTART;TZID=UTC:20260410T090000
DTEND;TZID=UTC:20260412T235959
DTSTAMP:20260423T094105
CREATED:20251023T091740Z
LAST-MODIFIED:20251023T091740Z
UID:26107-1775811600-1776038399@iwf2026.com
SUMMARY:FAIRGROUNDS SOUTHERN IDEAL HOME SHOW (SPRING) 2026
DESCRIPTION:FAIRGROUNDS SOUTHERN IDEAL HOME SHOW (SPRING) 2026 — Exhibitor Guide & Premium Booth Options\nAbout FAIRGROUNDS SOUTHERN IDEAL HOME SHOW (SPRING) 2026\nFAIRGROUNDS SOUTHERN IDEAL HOME SHOW (SPRING) 2026 is a must-attend event for anyone interested in home renovation and design. With a wide range of innovative products and hundreds of experts all under one roof\, this show provides attendees with invaluable resources and insights. From kitchen and bathroom renovations to furniture and lighting\, attendees can expect a comprehensive showcase of the latest trends and technologies. \nKey Details:Dates: Mar 15–17\, 2026\, 10:00 AM–6:00 PMLocation: NC State FairgroundsAddress: 1025 Blue Ridge Blvd\, Raleigh\, NC 27607\, USA \nIndustries & Audience: Home Show\, Renewal – Renovations\, Kitchen & Bathroom\, Heating – Air Conditioning\, Decoration\, Home & Office Design\, Furniture\, Lighting\, Gardening \nVenue & Location\nThe event will be held at the NC State Fairgrounds\, located at 1025 Blue Ridge Blvd\, Raleigh\, NC 27607\, United States. This venue offers convenient access and ample space for exhibitors and attendees to explore. While specific logistics like move-in windows are not provided\, the venue is well-equipped to accommodate a variety of events. \nIf you need assistance\, feel free to call us at the provided contact number. \nRaleigh NC: Our Services\nIn Raleigh\, we DESIGN\, PRODUCE\, INSTALL & DISMANTLE turnkey booth rentals to ensure a seamless experience for exhibitors. Our services cover concept/design\, modular frames\, branded SEG graphics\, reception/storage areas\, and TV mounts with on-site installation and dismantle support. We focus on creating engaging and functional booths that attract visitors and enhance exhibitor presence. \nCustom Booth Models\nAt the FAIRGROUNDS SOUTHERN IDEAL HOME SHOW (SPRING) 2026\, we offer popular footprints like 10×10\, 10×20\, and 20×20 booth rentals that are ideal for exhibitors in various home and design sectors. Each of these models is tailored to maximize visibility and facilitate interaction with attendees. \nExplore our Snap Exhibitions Custom Booth Models for more versatile design options. If you need comprehensive support\, our full-service exhibit support has you covered\, ensuring that everything runs smoothly. To start planning your booth\, contact our team today! \nFAQ\nQ: What is FAIRGROUNDS SOUTHERN IDEAL HOME SHOW (SPRING) 2026?A: It is a premier home improvement event showcasing innovative products\, expert advice\, and a variety of services related to home renovation. \nQ: What are the event hours and dates?A: The event runs from Mar 15–17\, 2026\, with hours from 10:00 AM to 6:00 PM. \nQ: What booth sizes are recommended for home improvement sectors?A: Popular booth sizes include 10×10 for individual services\, 10×20 for more extensive displays\, and 20×20 for larger companies or significant product showcases. \nQ: Why is an aluminum booth better than wood?A: Aluminum booths are generally more durable\, lighter\, and easier to transport\, providing a modern aesthetic compared to traditional wood designs. \nQ: What makes Raleigh a great location for trade shows?A: Raleigh’s growing economy and cultural attractions make it a hub for trade shows\, attracting diverse attendees and exhibitors. \nQ: How can SNAP EXHIBITIONS help me make everything perfect about my booth?A: We provide comprehensive turnkey booth rental services that ensure everything from design to execution is handled seamlessly\, allowing you to focus on engaging with your visitors. \nIn conclusion\, if you’re looking for FAIRGROUNDS SOUTHERN IDEAL HOME SHOW (SPRING) 2026 booth rental options\, we invite you to contact our team now to get started!
URL:https://iwf2026.com/event/fairgrounds-southern-ideal-home-show-spring-2026/
CATEGORIES:Decoration,Furniture,Gardening,Heating - Air Conditioning,Home & Office Design,Home Show,Kitchen & Bathroom,Lighting,Renewal - Renovations
END:VEVENT
END:VCALENDAR