BEGIN:VCALENDAR
VERSION:2.0
PRODID:-//IWF 2026 Atlanta — Local Booth Builder &amp; Rentals - ECPv6.15.13.1//NONSGML v1.0//EN
CALSCALE:GREGORIAN
METHOD:PUBLISH
X-ORIGINAL-URL:https://iwf2026.com
X-WR-CALDESC:Events for IWF 2026 Atlanta — Local Booth Builder &amp; Rentals
REFRESH-INTERVAL;VALUE=DURATION:PT1H
X-Robots-Tag:noindex
X-PUBLISHED-TTL:PT1H
BEGIN:VTIMEZONE
TZID:UTC
BEGIN:STANDARD
TZOFFSETFROM:+0000
TZOFFSETTO:+0000
TZNAME:UTC
DTSTART:20250101T000000
END:STANDARD
END:VTIMEZONE
BEGIN:VEVENT
DTSTART;TZID=UTC:20260407T090000
DTEND;TZID=UTC:20260410T235959
DTSTAMP:20260423T094106
CREATED:20251022T200559Z
LAST-MODIFIED:20251022T200559Z
UID:25632-1775552400-1775865599@iwf2026.com
SUMMARY:ISS WORLD EXPO 2026
DESCRIPTION:ISS WORLD EXPO 2026 booth rental — Ultimate Exhibitor Guide & Custom Booth Options\nAbout ISS WORLD EXPO 2026\nISS WORLD EXPO 2026 booth rental provides an exciting opportunity for exhibitors in the logistics and transportation sectors to showcase their innovations effectively. This premier event attracts the self-storage community\, offering four days packed with inspiration\, learning\, and invaluable networking opportunities. Key Details include: Start Date: Mar 1–4\, Location: Caesars Palace\, Address: 3570 Las Vegas Boulevard South\, Las Vegas\, NV 89109\, Country: United States. For more information\, visit the official event page. \nIndustries & Audience: This event features a diverse mix of sectors: Logistics & Transportation Engineering\, Storage\, Trucks\, and Utility Vehicles\, Industrial Controllers\, Robotics. \nVenue & Location\nISS WORLD EXPO 2026 takes place at Caesars Palace\, offering central access for exhibitors and visitors alike. The venue also includes convenient docking access for seamless logistics\, ensuring your booth is set up efficiently. \nLas Vegas NV: Our Services\nWe DESIGN\, PRODUCE\, INSTALL & DISMANTLE turnkey booth rentals in Las Vegas NV. Our services encompass concept and design\, modular frames\, branded SEG graphics\, reception/storage\, TV mount\, and on-site installation and dismantling (I&D) to guarantee your booth stands out. \nCustom Booth Models\nSome popular footprints include 10×10\, 10×20\, and 20×20. These sizes are particularly effective for attendees in the logistics and transportation sectors\, as they provide adequate space for engaging displays without overwhelming visitors. Explore our Snap Exhibitions Custom Booth Models designed for impactful presentations. \nWe also offer full-service exhibit support to ensure your experience is smooth and successful. For personalized assistance\, contact our team to discuss your booth rental needs. \nFAQ\nQ: What is ISS WORLD EXPO 2026 booth rental?A: ISS WORLD EXPO 2026 booth rental provides custom-designed spaces tailored for effective exhibitor presentations\, including essential services for setup and dismantle. \nQ: What are the dates and hours for ISS WORLD EXPO 2026?A: The event runs from Mar 1–4\, with specific hours yet to be confirmed. \nQ: What booth sizes do you recommend for participants in the logistics sector?A: We recommend 10×20 or 20×20 booths to allow ample space for displays and demonstrations\, ideal for engaging visitors and partners. \nQ: Why is an aluminum booth better than wood?A: Aluminum booths are lighter\, more durable\, and offer a modern aesthetic compared to traditional wooden booths. \nQ: What should I know about Las Vegas for ISS WORLD EXPO 2026?A: Las Vegas is a prominent hub for exhibitions\, featuring numerous resources and an engaging environment for networking. \nQ: How can Snap Exhibitions help make everything perfect about my booth?A: We offer turnkey booth rentals\, ensuring that every aspect of your booth—from design to dismantling—is managed expertly for maximum impact. \nIn summary\, ISS WORLD EXPO 2026 booth rental offers unmatched opportunities for exhibitors to maximize their presence in this dynamic event. Let us help you create the perfect booth experience—contact our team today!
URL:https://iwf2026.com/event/iss-world-expo-2026/
CATEGORIES:Industrial Controllers,Logistics & Transportation Engineering - Handling Operations - Storage,Robotics,Trucks and Utility Vehicles
END:VEVENT
END:VCALENDAR