BEGIN:VCALENDAR
VERSION:2.0
PRODID:-//IWF 2026 Atlanta — Local Booth Builder &amp; Rentals - ECPv6.15.13.1//NONSGML v1.0//EN
CALSCALE:GREGORIAN
METHOD:PUBLISH
X-ORIGINAL-URL:https://iwf2026.com
X-WR-CALDESC:Events for IWF 2026 Atlanta — Local Booth Builder &amp; Rentals
REFRESH-INTERVAL;VALUE=DURATION:PT1H
X-Robots-Tag:noindex
X-PUBLISHED-TTL:PT1H
BEGIN:VTIMEZONE
TZID:UTC
BEGIN:STANDARD
TZOFFSETFROM:+0000
TZOFFSETTO:+0000
TZNAME:UTC
DTSTART:20240101T000000
END:STANDARD
END:VTIMEZONE
BEGIN:VEVENT
DTSTART;TZID=UTC:20250916T090000
DTEND;TZID=UTC:20250918T235959
DTSTAMP:20260421T165431
CREATED:20251023T193053Z
LAST-MODIFIED:20251023T193053Z
UID:26290-1758013200-1758239999@iwf2026.com
SUMMARY:COMVEC 2025
DESCRIPTION:COMVEC 2025 Booth Rental — Essential Guide & Custom Booth Options\nAbout COMVEC 2025\nVenue & Location\nSchaumburg IL: Our Services\nCustom Booth Models\nFAQ\nCOMVEC 2025 — About COMVEC 2025\nCOMVEC 2025 booth rental offers an outstanding opportunity for exhibitors in the automotive engineering sector at Schaumburg\, IL. This event welcomes professionals from various industries\, including **Automotive Engineering**\, **Logistics & Transportation**\, and **Mining Technologies**. Attendees can expect to discover the latest advancements and engage in meaningful connections. \nThe COMVEC? Technology Connection is the only North American event that addresses vehicles and equipment spanning the on-highway\, off-highway\, agricultural\, construction\, industrial\, military\, and mining sectors. It presents a unique forum for exhibitors to showcase their products and innovations. \n\nKey Details:\nDates: Sep 12–14\, 9:00 AM–5:00 PM\nLocation: Schaumburg\, IL\nCountry: United States\nEvent Website\n\nIndustries & Audience: Automotive Engineering – Systems & Components\, Trucks and Utility Vehicles\, Logistics & Transportation Engineering – Handling Operations – Storage\, Building Machinery\, Mining Technologies. \nVenue & Location\nThe COMVEC 2025 event will take place at Schaumburg\, IL\, providing easy access for exhibitors and visitors alike. The venue is strategically located to facilitate logistics\, with move-in windows and dock access to ensure efficient setup.  If you need assistance\, please reach out via phone. \nSchaumburg IL: Our Services\nWe DESIGN\, PRODUCE\, INSTALL & DISMANTLE turnkey booth rentals in Schaumburg IL. Our comprehensive services include concept and design\, modular frames\, branded SEG graphics\, reception/storage areas\, TV mounts\, and on-site installation and dismantling (I&D) to make your experience seamless. \nCustom Booth Models\nSnap Exhibitions offers a variety of booth rental options tailored for your needs. Explore our Snap Exhibitions Custom Booth Models. Popular footprints include: \n\n10×10: Ideal for new exhibitors looking for a compact space to make an impact.\n10×20: Great for showcasing larger products and facilitating more visitor interaction.\n20×20: Offers substantial visibility and engagement space\, perfect for major brands.\n\nEach of these models fits well within the automotive and logistics sectors and can be customized to meet your brand’s specific needs. For our full-service exhibit support\, we ensure your display attracts attention. \nFAQ\nQ: What is COMVEC 2025 booth rental? \nA: COMVEC 2025 booth rental is a service we offer for companies looking to exhibit at the COMVEC event in Schaumburg\, IL\, allowing you to focus on showcasing your products and networking. \nQ: What are the dates and hours of COMVEC 2025? \nA: COMVEC 2025 runs from September 12 to 14\, open from 9:00 AM to 5:00 PM each day. \nQ: What booth sizes do you recommend for Automotive Engineering exhibitors? \nA: We recommend sizes like 10×20 or 20×20 for more substantial visitor engagement and product showcases. \nQ: Why is an aluminum booth better than a wood booth? \nA: Aluminum booths are often lighter\, more modular\, and easier to transport and install compared to traditional wooden booths. \nQ: What can I expect from the venue in Schaumburg? \nA: The venue provides excellent logistics support and is well-equipped to handle all exhibitor requirements. \nQ: How can Snap Exhibitions help make everything perfect for my booth? \nA: We offer comprehensive services including design\, production\, and on-site support to ensure your booth meets all your needs and stands out. \nIn conclusion\, COMVEC 2025 booth rental will elevate your exhibiting experience. Let us help you create an impactful exhibit; contact our team today!
URL:https://iwf2026.com/event/comvec-2025/
CATEGORIES:Automotive Engineering - Systems & Components,Building Machinery,Logistics & Transportation Engineering - Handling Operations - Storage,Mining Technologies,Real Time Systems & Embedded Systems,Trucks and Utility Vehicles
END:VEVENT
BEGIN:VEVENT
DTSTART;TZID=UTC:20250916T090000
DTEND;TZID=UTC:20250917T235959
DTSTAMP:20260421T165431
CREATED:20251023T190016Z
LAST-MODIFIED:20251023T190016Z
UID:26217-1758013200-1758153599@iwf2026.com
SUMMARY:INDUSTRIE TRANSITION USA 2025
DESCRIPTION:INDUSTRIE TRANSITION USA 2025 booth rental — Seamless Solutions\nAbout INDUSTRIE TRANSITION USA 2025\nVenue & Location\nPittsburgh PA: Our Services\nCustom Booth Models\nFAQ\nINDUSTRIE TRANSITION USA 2025\nINDUSTRIE TRANSITION USA 2025 booth rental is essential for making your impact in the burgeoning field of sustainable industries. This conference is set to unite executive leaders from sectors such as mining\, metals\, chemicals\, and transportation. By joining this pivotal event\, visitors will gain insights into strategies for deep decarbonization and the establishment of new cross-sector coalitions aimed at delivering net zero on an industrial scale. \nKey Details:Mar 8–10\, 2025\, 9:00 AM–5:00 PMPittsburgh\, PAUSA \nIndustries and Audience: Clean Energies – Renewable Energies\, Energy Production & Transportation\, Environmental Protection\, Mining Technologies\, Logistics & Transportation Engineering – Handling Operations – Storage\, Chemical Process\, Metal Working Industries. \nVenue & Location\nPittsburgh\, PA is strategically located to facilitate access for exhibitors and visitors alike. The venue will offer ample logistics support\, including generous move-in windows and convenient dock access\, ensuring your exhibit setup goes smoothly. \nIf you have questions\, feel free to reach us at our contact number. \nPittsburgh PA: Our Services\nWe at Snap Exhibitions design\, produce\, install\, and dismantle turnkey booth rentals in Pittsburgh PA. Our full range of services includes concept and design development\, modular frame construction\, custom SEG graphics\, and practical on-site I&D solutions. \nCustom Booth Models\nOur popular booth models are designed to cater specifically to attendees in the aforementioned categories\, including: \n\n10×10: Ideal for startups looking to maximize visibility.\n10×20: Offers more space for displays while maintaining an inviting atmosphere.\n20×20: Perfect for larger companies wanting to make a bold statement.\n\nExplore our Snap Exhibitions Custom Booth Models for tailored solutions. \nWe also provide full-service exhibit support\, ensuring quality and satisfaction from concept to execution. To discuss your upcoming booth needs\, don’t hesitate to contact our team. \nFAQ\n\nWhat is included in the INDUSTRIE TRANSITION USA 2025 booth rental?INDUSTRIE TRANSITION USA 2025 booth rental includes all necessary exhibit components for a seamless presence.\nWhen are the event hours for the INDUSTRIE TRANSITION USA 2025?The event runs from Mar 8 to Mar 10\, 2025\, from 9:00 AM to 5:00 PM.\nWhat booth sizes are recommended for companies in the clean energy sector?We recommend booth sizes of at least 10×20 for optimal display and engagement.\nWhy is an aluminum booth better than wood?Aluminum offers better durability\, is lighter\, and easier to transport compared to wood.\nWhat unique features does Pittsburgh\, PA offer for exhibitors?Pittsburgh provides a rich industrial heritage and robust logistics frameworks conducive to trade shows.\nWhat should I expect at the INDUSTRIE TRANSITION USA 2025?The event promises invaluable insights into industry innovation and networking opportunities.\nHow can Snap Exhibitions help ensure my booth is perfect?We offer end-to-end support from design to installation\, ensuring your booth is exactly what you envision.\n\nINDUSTRIE TRANSITION USA 2025 booth rental options are designed for impact. Reach out to us to get started today at Snap Exhibitions!
URL:https://iwf2026.com/event/industrie-transition-usa-2025/
CATEGORIES:Chemical Process,Clean Energies - Renewable Energies,Energy Production & Transportation,Environmental Protection,Logistics & Transportation Engineering - Handling Operations - Storage,Metal Working Industries,Mining Technologies
END:VEVENT
BEGIN:VEVENT
DTSTART;TZID=UTC:20250902T090000
DTEND;TZID=UTC:20250904T235959
DTSTAMP:20260421T165431
CREATED:20251022T200449Z
LAST-MODIFIED:20251022T200449Z
UID:25629-1756803600-1757030399@iwf2026.com
SUMMARY:COMMERCIAL UAV EXPO AMERICAS 2025
DESCRIPTION:COMMERCIAL UAV EXPO AMERICAS 2025 Booth Rental — Ultimate Guide\nAbout COMMERCIAL UAV EXPO AMERICAS 2025\nVenue & Location\nLas Vegas NV: Our Services\nCustom Booth Models\nFAQ\nCOMMERCIAL UAV EXPO AMERICAS 2025 booth rental is the perfect way to showcase your products and services in the exciting world of uncrewed aerial systems (UAS). This premier event\, taking place at Caesars Palace in Las Vegas\, NV from 2025\, offers a myriad of opportunities for exhibitors\, targeting industries such as Aeronautics – Space\, Spatial Information Systems\, Urban Equipment & Engineering\, Building & Construction\, Security – Risk Management\, Mining Technologies\, Energy Production & Transportation\, Agriculture – Agricultural Machinery. This is an essential event for anyone engaged in the high-precision UAS industrial sector. \nAbout COMMERCIAL UAV EXPO AMERICAS 2025\nThe key details for the event are as follows: Key Details – May 2–4\, 9:00 AM–5:00 PM\, Caesars Palace\, 3570 Las Vegas Boulevard South\, Las Vegas\, NV 89109\, United States. The Commercial UAV Expo is focused on enhancing understanding and innovation in the use of UAS technology across various sectors including surveying and mapping\, civil infrastructure\, emergency response\, and agricultural applications. \nThis Expo attracts a distinguished audience\, providing exhibitors with the chance to network and create potential partnerships. Expect engaging panels\, hands-on demonstrations\, and insightful presentations that will empower attendees to make informed investment decisions. \nVenue & Location\nCOMMERCIAL UAV EXPO AMERICAS 2025 will be hosted at Caesars Palace\, located at 3570 Las Vegas Boulevard South\, Las Vegas\, NV 89109\, United States. This premier venue provides excellent logistics for booth setup\, with accessibility ensuring a smooth process for exhibitors and visitors alike. We recommend timely planning for installation and dismantling to ensure everything goes perfectly. \nLas Vegas NV: Our Services\nIn Las Vegas NV\, we DESIGN\, PRODUCE\, INSTALL & DISMANTLE turnkey booth rentals. Our services cover everything from conceptual design\, modular frames\, branded SEG graphics\, storage\, to reception areas. We ensure your presence at the event is impactful and engaging. \nCustom Booth Models\nOur popular booth models include: \n\n10×10 booths: Ideal for new entrants wanting a compact space to introduce their services.\n10×20 booths: Perfect for brands looking for extensive visibility and interaction with potential clients.\n20×20 booths: Designed for maximum engagement\, ideal for brands that need space for large displays or multiple products.\n\nThese models cater to the needs of sectors present at the show\, enhancing audience interaction and ensuring your products stand out. For more options\, check out our Snap Exhibitions Custom Booth Models for more ideas! \nWe offer full-service exhibit support to make your experience seamless at this event. \nFAQ\n1. What is COMMERCIAL UAV EXPO AMERICAS 2025 Booth Rental?\nCOMMERCIAL UAV EXPO AMERICAS 2025 booth rental provides exhibitors with an opportunity to showcase their innovations in the UAS field\, engaging attendees effectively through dynamic displays. \n2. What are the hours and dates for the event?\nThe event runs from May 2 to May 4\, 2025\, from 9:00 AM to 5:00 PM each day. \n3. What recommended booth sizes are suitable for aeronautics or agricultural machinery sectors?\nA booth size of 10×20 is generally recommended to provide adequate space for interaction\, showcasing technology\, and facilitating product demonstrations in these sectors. \n4. Why choose aluminum booths over wood?\nAluminum booths are typically lighter\, more durable\, and easier to assemble\, offering enhanced design options compared to traditional wood structures. \n5. What makes Las Vegas an ideal venue for expos?\nLas Vegas is home to numerous high-profile events\, offering a vibrant atmosphere\, convenient transport\, and extensive amenities. \n6. How can we make everything perfect about our booth with SNAP EXHIBITIONS?\nWe provide comprehensive support from design to dismantle\, ensuring every detail of your booth meets your expectations and aligns with your brand vision. \n7. What can exhibitors expect from the Commercial UAV Expo?\nExhibitors can expect high-quality networking opportunities\, knowledge sharing\, and access to industry leaders that will help shape the future of UAS technology. \nIn summary\, if you’re looking for a reliable option for your booth at the COMMERCIAL UAV EXPO AMERICAS 2025 booth rental\, don’t hesitate to contact our team. Amplify your presence and ensure a successful experience at this prominent event!
URL:https://iwf2026.com/event/commercial-uav-expo-americas-2025/
CATEGORIES:Aeronautics - Space,Agriculture - Agricultural Machinery,Building & Construction,Energy Production & Transportation,Mining Technologies,Security - Risk Management,Spatial Information Systems,Urban Equipment & Engineering
END:VEVENT
END:VCALENDAR