BEGIN:VCALENDAR
VERSION:2.0
PRODID:-//IWF 2026 Atlanta — Local Booth Builder &amp; Rentals - ECPv6.15.13.1//NONSGML v1.0//EN
CALSCALE:GREGORIAN
METHOD:PUBLISH
X-WR-CALNAME:IWF 2026 Atlanta — Local Booth Builder &amp; Rentals
X-ORIGINAL-URL:https://iwf2026.com
X-WR-CALDESC:Events for IWF 2026 Atlanta — Local Booth Builder &amp; Rentals
REFRESH-INTERVAL;VALUE=DURATION:PT1H
X-Robots-Tag:noindex
X-PUBLISHED-TTL:PT1H
BEGIN:VTIMEZONE
TZID:UTC
BEGIN:STANDARD
TZOFFSETFROM:+0000
TZOFFSETTO:+0000
TZNAME:UTC
DTSTART:20250101T000000
END:STANDARD
END:VTIMEZONE
BEGIN:VEVENT
DTSTART;TZID=UTC:20260505T090000
DTEND;TZID=UTC:20260507T235959
DTSTAMP:20260423T094052
CREATED:20251023T053010Z
LAST-MODIFIED:20251023T053010Z
UID:25844-1777971600-1778198399@iwf2026.com
SUMMARY:CONNECTIONS 2026
DESCRIPTION:CONNECTIONS 2026 booth rental — Ultimate Exhibitor Guide & Custom Booth Options\nAbout CONNECTIONS 2026\nVenue & Location\nSanta Clara CA: Our Services\nCustom Booth Models\nFAQ\nCONNECTIONS 2026: Your Gateway to Success\nWelcome to CONNECTIONS 2026 booth rental. This exciting event will take place from 2026-01-30 to 2026-02-01 at the stunning Hyatt Regency\, Santa Clara\, California. As an international executive conference for digital home technologies\, it offers an extraordinary platform for industry leaders in Household Appliances\, Consumer Electronics\, Telecommunications\, and more to network and explore innovations. Attendees and exhibitors alike will gain invaluable insights into the evolving landscape of connected homes\, driving their businesses toward success. \n\nKey Details:\nDates: Jan 30 – Feb 1\, 9:00 AM – 5:00 PM\nLocation: Hyatt Regency\, Santa Clara\nAddress: 5101 Great America Pkwy\, Santa Clara\, CA 95054\, USA\nVisit Event Website\n\nIndustries & Audience: Household Appliances – Domestic Appliance Technology\, Consumer Electronics\, Sound & Image Technologies\, Multimedia Technologies\, Telecommunications\, Computers Networks\, Internet & Intranet\, Home Show\, Decision Helping Tools & Management Services. \nVenue & Location\nThe Hyatt Regency in Santa Clara is perfectly situated for your exhibitor needs. With easy access and excellent logistics for your booth installation and dismantling\, it serves as a vibrant hub for showcasing innovations in technology and home solutions. \nSanta Clara CA: Our Services\nIn Santa Clara CA\, we DESIGN\, PRODUCE\, INSTALL & DISMANTLE turnkey booth rentals. Our comprehensive approach encompasses concept/design\, modular frames\, branded SEG graphics\, reception/storage areas\, TV mounts\, and on-site installation and dismantling. We aim to make your presence impactful and hassle-free. \nCustom Booth Models\nWe offer various booth sizes to meet your needs in the technology sector\, including: \n\n10×10 Booths: Perfect for displaying singular innovations.\n10×20 Booths: Ideal for showcasing multiple products and solutions\, ensuring ample visibility.\n20×20 Booths: Best for larger displays and interactive setups\, making a strong impact on attendees.\n\nLearn more about our Snap Exhibitions Custom Booth Models and our full-service exhibit support. If you’re ready to bring your vision to life\, contact our team today! \nFAQ\nWhat is CONNECTIONS 2026 booth rental?\nCONNECTIONS 2026 booth rental refers to our services that provide exhibitors with fully equipped and customized booths for the event. \nWhen are the dates and hours for CONNECTIONS 2026?\nThe event takes place from January 30 to February 1\, 2026\, from 9:00 AM to 5:00 PM. \nWhat booth sizes do you recommend for technology sectors?\nWe recommend various sizes like 10×10 for singular products and 20×20 for interactive displays\, based on your showcase needs. \nWhy is an aluminum booth better than wood?\nAluminum booths are lighter\, more durable\, and offer modern aesthetics compared to traditional wood structures. \nWhat services does SNAP EXHIBITIONS offer in Santa Clara?\nWe provide a full range of services from design to installation and dismantling\, ensuring a seamless experience for exhibitors. \nHow can I maximize my visibility at CONNECTIONS 2026?\nUtilizing our specialized booth designs tailored to attract attention can significantly enhance your visibility. \nHow can SNAP EXHIBITIONS make my booth perfect?\nWe focus on turnkey booth rentals\, tailoring every detail to ensure a perfect representation of your brand at CONNECTIONS 2026. Contact us today to learn more!
URL:https://iwf2026.com/event/connections-2026/
CATEGORIES:Computers Networks,Consumers Electronics,Decision Helping Tools & Management Services,Home Show,Household Appliances - Domestic Appliance Technology,Internet & Intranet,Multimedia Technologies,Sound & Image Technologies,Telecommunications
END:VEVENT
BEGIN:VEVENT
DTSTART;TZID=UTC:20260613T090000
DTEND;TZID=UTC:20260619T235959
DTSTAMP:20260423T094052
CREATED:20251023T061618Z
LAST-MODIFIED:20251023T061618Z
UID:25949-1781341200-1781913599@iwf2026.com
SUMMARY:INFOCOMM INTERNATIONAL 2026
DESCRIPTION:INFOCOMM INTERNATIONAL 2026 booth rental — Ultimate Exhibitor Guide & Custom Booth Options\nAbout INFOCOMM INTERNATIONAL 2026\nINFOCOMM INTERNATIONAL 2026 booth rental in Las Vegas is your gateway to the largest showcase of multimedia and corporate communications innovations. This premier event features cutting-edge technologies in various sectors\, including **Public Relations & Advertising**\, **Broadcasting**\, **Telecommunications**\, and more. Visitors and exhibitors alike gain substantial insights into the latest in video\, display\, projection\, lighting\, digital signage\, and networking solutions. \n\nKey Details: \nDates: Apr 12–14\, 2026\, 9:00 AM–5:00 PM\nLocation: Las Vegas Convention Center\, 3150 Paradise Road\, Las Vegas\, NV 89109\, United States\nEvent Website: event-info\n\n\nWhether you are in **Multimedia Technologies**\, or **Computers Networks**\, your presence at INFOCOMM is vital for growth and networking. \nVenue & Location\nThe Las Vegas Convention Center is the showcase location for INFOCOMM INTERNATIONAL 2026. It is conveniently situated and offers essential logistics for exhibitors\, including ample move-in spaces and dock access for smooth operations. If you have any inquiries\, feel free to reach out using the contact number provided on the official website. \nLas Vegas NV: Our Services\nIn Las Vegas\, we DESIGN\, PRODUCE\, INSTALL & DISMANTLE turnkey booth rentals. Our services include concept and design\, modular frames\, branded SEG graphics\, and on-site installation and dismantle support\, ensuring that your exhibition experience is seamless. \nCustom Booth Models\nWe provide a variety of popular booth sizes tailored for your needs\, including 10×10\, 10×20\, and 20×20 options. Each configuration is well-suited for attendees from diverse sectors including **Telecommunications** and **Sound & Image Technologies**. Explore our Snap Exhibitions Custom Booth Models for more. \nWe also offer full-service exhibit support that covers all aspects of booth design and functionality. For personalized queries\, please contact our team. \nFAQ\n\nWhat is INFOCOMM INTERNATIONAL 2026 booth rental?\nINFOCOMM INTERNATIONAL 2026 booth rental allows exhibitors to showcase their products and innovations at a prominent event with immense visibility.\nWhat are the event hours for INFOCOMM 2026?\nINFOCOMM 2026 runs from April 12 to April 14\, 2026\, daily from 9:00 AM to 5:00 PM.\nWhat recommended booth sizes are best for the multimedia sector?\nFor the multimedia sector\, 10×20 and 20×20 booths are ideal as they provide ample space to showcase innovations effectively.\nWhy is an aluminum booth better than wood?\nAluminum booths are lighter\, more durable\, and can offer better design flexibility than traditional wood booths\, making them a superior choice.\nWhat makes Las Vegas an ideal location for INFOCOMM?\nLas Vegas is renowned for its vibrant atmosphere and draws significant crowds for events\, providing invaluable exposure for exhibitors.\nHow can Snap Exhibitions help make everything perfect about my booth?\nWe specialize in providing customized services that ensure your booth stands out— from design to installation and everything in-between.\nWhat technologies are showcased at INFOCOMM INTERNATIONAL?\nInnovations in multimedia\, networking\, display technologies\, lighting\, and staging solutions will be featured prominently.\n\nINFOCOMM INTERNATIONAL 2026 booth rental is your ultimate opportunity to connect and grow within the multimedia landscape. Reach out today to contact our team for tailored solutions that ensure a standout exhibit experience!
URL:https://iwf2026.com/event/infocomm-international-2026/
CATEGORIES:Broadcasting,Computers,Computers Networks,Multimedia Technologies,Public Relations & Advertising,Sound & Image Technologies,Telecommunications,Television & Entertainment
END:VEVENT
END:VCALENDAR