BEGIN:VCALENDAR
VERSION:2.0
PRODID:-//IWF 2026 Atlanta — Local Booth Builder &amp; Rentals - ECPv6.15.13.1//NONSGML v1.0//EN
CALSCALE:GREGORIAN
METHOD:PUBLISH
X-WR-CALNAME:IWF 2026 Atlanta — Local Booth Builder &amp; Rentals
X-ORIGINAL-URL:https://iwf2026.com
X-WR-CALDESC:Events for IWF 2026 Atlanta — Local Booth Builder &amp; Rentals
REFRESH-INTERVAL;VALUE=DURATION:PT1H
X-Robots-Tag:noindex
X-PUBLISHED-TTL:PT1H
BEGIN:VTIMEZONE
TZID:UTC
BEGIN:STANDARD
TZOFFSETFROM:+0000
TZOFFSETTO:+0000
TZNAME:UTC
DTSTART:20250101T000000
END:STANDARD
END:VTIMEZONE
BEGIN:VEVENT
DTSTART;TZID=UTC:20260508T090000
DTEND;TZID=UTC:20260510T235959
DTSTAMP:20260423T094048
CREATED:20251023T053204Z
LAST-MODIFIED:20251023T053204Z
UID:25849-1778230800-1778457599@iwf2026.com
SUMMARY:INDY POP CON 2026
DESCRIPTION:INDY POP CON 2026 booth rental — Ultimate Exhibitor Guide & Custom Booth Options\nAbout INDY POP CON 2026\nINDY POP CON 2026 offers a vibrant platform for fans of comics\, gaming\, cosplay\, animation\, film and video games\, podcasting\, and more. This year\, attendees can immerse themselves in a world of creativity and excitement\, featuring contemporary music\, themed merchandise\, and even eSports events. Exhibitors will benefit from direct engagement with a passionate audience and the opportunity to showcase innovative products.\nKey Details: September 1–3\, 2026\, Indiana Convention Center\, 100 S Capitol Ave. Indianapolis\, IN 46225 USA. For more information\, visit the official website.\nIndustries & Audience: **Video Games – Interactive Entertainment\, Broadcasting\, Television & Entertainment\, Music\, Toys & Games**. \nVenue & Location\nThe INDY POP CON 2026 will take place at the Indiana Convention Center\, located at 100 S Capitol Ave.\, Indianapolis\, IN\, USA. This venue is fully equipped and provides a great opportunity for exhibitors. While specifics on dock access and move-in windows weren’t provided\, it boasts a central location that should ensure ease of access for all exhibitors. \nIndianapolis IN: Our Services\nWe DESIGN\, PRODUCE\, INSTALL & DISMANTLE turnkey **booth rentals** in Indianapolis IN. Our services encompass everything from concept and design to modular frames\, branded SEG graphics\, reception/storage solutions\, and TV mounts\, ensuring your presence at INDY POP CON stands out! \nCustom Booth Models\nOur popular footprints cater to various exhibitor needs\, such as: \n\n10×10 booths\, perfect for small startups and indie games\, providing an intimate space for demos and engagement.\n10×20 booths\, ideal for brands seeking a more substantial presence\, giving visitors a fuller experience.\n20×20 booths for larger exhibitors\, offering ample room to showcase a range of products while attracting significant foot traffic.\n\n All these options fit ideally within the **Video Games – Interactive Entertainment** sectors and more. Explore our Snap Exhibitions Custom Booth Models for inspiration\, or learn about our full-service exhibit support to ensure seamless execution. \nFAQ\n\nWhat is INDY POP CON 2026 booth rental? – INDY POP CON 2026 booth rental involves securing a custom booth designed to optimize your exposure at the event.\nWhat are the hours for INDY POP CON 2026? – The event runs from September 1–3\, 2026\, with specific hours to be announced.\nWhat booth sizes do you recommend for video game exhibitors? – We recommend at least a 10×20 booth for video game exhibitors to adequately showcase multiple products and attract an engaged audience.\nWhy is an aluminum booth better than wood? – Aluminum booths are typically lighter\, easier to transport\, and more flexible in design than wood structures.\nWhat can Indianapolis offer to attendees of INDY POP CON? – Indianapolis provides rich cultural experiences\, delicious dining options\, and a welcoming atmosphere for all attendees.\nHow can SNAP EXHIBITIONS help me make everything perfect about my booth? – We ensure a hassle-free experience by managing all aspects of your booth rental\, from design through installation.\n\nSecure your INDY POP CON 2026 booth rental today and allow us to help you stand out with our expert installation and design! Contact our team for more details.
URL:https://iwf2026.com/event/indy-pop-con-2026/
CATEGORIES:Broadcasting,Music,Television & Entertainment,Toys & Games,Video Games - Interactive Entertainment
END:VEVENT
BEGIN:VEVENT
DTSTART;TZID=UTC:20260703T090000
DTEND;TZID=UTC:20260705T235959
DTSTAMP:20260423T094048
CREATED:20251023T052759Z
LAST-MODIFIED:20251023T052759Z
UID:25838-1783069200-1783295999@iwf2026.com
SUMMARY:ANIME MIDWEST ANIMATION CONVENTION 2026
DESCRIPTION:ANIME MIDWEST ANIMATION CONVENTION 2026 Booth Rental — Impactful\n#show\n#venue\n#city-services\n#booth-models\n#faq\nANIME MIDWEST ANIMATION CONVENTION 2026\nWelcome to ANIME MIDWEST ANIMATION CONVENTION 2026\, the ultimate event for fans of animation\, bringing a vibrant community together in Rosemont\, IL. This convention features exciting animation premieres\, behind-the-scenes looks into the making of animation shows\, thrilling anime competitions\, cosplay contests\, and various interactive activities spanning three unforgettable days. \nKey Details: 2026-07-01 to 2026-07-03\, Hyatt Regency O’Hare\, 9300 Bryn Mawr Avenue\, Rosemont\, IL\, United States. To find out more\, check out the official website. \nIndustries & Audience: Broadcasting\, Television & Entertainment\, Video Games – Interactive Entertainment\, Music\, Toys & Games. \nVenue & Location\nThe Hyatt Regency O’Hare is located at 9300 Bryn Mawr Avenue\, Rosemont\, IL\, United States. This venue offers convenient access for exhibitors and attendees\, with ample loading dock facilities for easy move-in and move-out logistics. \nRosemont\, IL: Our Services\nWe DESIGN\, PRODUCE\, INSTALL & DISMANTLE turnkey booth rentals in Rosemont\, IL. Our services include concept and design\, modular frames\, branded SEG graphics\, a reception/storage area\, TV mount options\, and on-site installation and dismantling support. \nCustom Booth Models\nAt Snap Exhibitions\, we offer innovative **booth rentals** tailored to meet your needs. Explore our Snap Exhibitions Custom Booth Models that provide various popular footprints: \n\n10×10 booths for compact companies looking to make a big impact.\n10×20 booths for medium-sized displays with more features.\n20×20 booths for larger exhibits offering ample space for attractions.\n\nThese sizes cater perfectly to the sectors present at the convention. Our full-service exhibit support ensures a seamless experience from start to finish. \nFAQ\nWhat is ANIME MIDWEST ANIMATION CONVENTION 2026 booth rental?\nANIME MIDWEST ANIMATION CONVENTION 2026 booth rental provides businesses with customizable spaces designed to showcase their products and engage the audience effectively. \nWhen does the event take place?\nThe event occurs from July 1 to July 3\, 2026. \nWhat booth sizes are recommended for the Broadcasting & Entertainment sectors?\nFor the Broadcasting & Entertainment sectors\, 10×20 and 20×20 booths are typically ideal\, providing ample space for equipment and displays. \nWhy is an aluminum booth better than wood?\nAn aluminum booth is more durable\, lighter\, and easier to transport than wood\, making it a more practical choice for frequent event use. \nWhat makes Rosemont an ideal location for this convention?\nRosemont provides a great venue with excellent amenities\, central access\, and proximity to major transportation hubs\, making it easy for attendees and exhibitors. \nHow can Snap Exhibitions help ensure a perfect booth setup?\nWe provide comprehensive turnkey booth rentals\, managing all aspects of customization\, production\, and installation\, so you can focus on engaging with your audience. \nJoin us at ANIME MIDWEST ANIMATION CONVENTION 2026 for an impactful experience. For more information on ANIME MIDWEST ANIMATION CONVENTION 2026 booth rental\, contact our team today!
URL:https://iwf2026.com/event/anime-midwest-animation-convention-2026/
CATEGORIES:Broadcasting,Music,Television & Entertainment,Toys & Games,Video Games - Interactive Entertainment
END:VEVENT
BEGIN:VEVENT
DTSTART;TZID=UTC:20260708T090000
DTEND;TZID=UTC:20260712T235959
DTSTAMP:20260423T094048
CREATED:20251023T173752Z
LAST-MODIFIED:20251023T173752Z
UID:26194-1783501200-1783900799@iwf2026.com
SUMMARY:ANNUAL ART FESTIVAL 2026
DESCRIPTION:ANNUAL ART FESTIVAL 2026 booth rental — Ultimate Exhibitor Guide & Custom Booth Options\nAbout ANNUAL ART FESTIVAL 2026\nANNUAL ART FESTIVAL 2026 booth rental is your gateway to an unforgettable experience in Pennsylvania! This vibrant festival features a diverse audience\, including those interested in Handicraft Products\, Art and Antiques\, Music\, Decoration\, Home & Office Design\, Furniture\, Lighting\, Collectors – Hobby. Visitors and exhibitors can expect to gain exposure\, network opportunities\, and access to a plethora of creative displays. \nThe event showcases fine arts\, paintings\, sculptures\, literary arts\, pottery\, antiques\, handiwork\, creative jewelry\, and even festival merchandise. Attendees will also enjoy live music\, fun games\, and art competitions that make this festival a must-visit! \n\nKey Details: Nov 12–15\, 9:00 AM–7:00 PM\nPenn State University Campus\nOld Main State College\, PA 16801\, United States\nFor more information\, visit the official website.\n\nVenue & Location\nThe festival is hosted at Penn State University Campus\, located at Old Main State College\, PA 16801\, United States. Access to the venue is straightforward for all exhibitors and visitors\, facilitating smooth movement during the event. While specific logistics are not detailed\, dock access and move-in windows will be outlined by the organizing team. \nState Services in University Park\, PA: Our Services\nWe DESIGN\, PRODUCE\, INSTALL & DISMANTLE turnkey booth rentals in this city. Our comprehensive scope includes concept/design\, modular frames\, branded SEG graphics\, reception/storage\, TV mount\, and on-site installation and dismantling. \nCustom Booth Models\nOur Snap Exhibitions Custom Booth Models come in various popular footprints\, including: \n\n10×10: Perfect for small displays and personal touches.\n10×20: Ideal for engagement with larger audiences.\n20×20: Offers maximum exposure with extensive branding opportunities.\n\nThese sizes cater to the diverse sectors of attendees\, ensuring you’re well-positioned to make a significant impact during the festival. We provide full-service exhibit support to guarantee everything runs smoothly. \nFor personalized assistance\, feel free to contact our team! \nFAQ\nQ1: What is ANNUAL ART FESTIVAL 2026 booth rental all about?A1: It offers exhibitors a platform to showcase their creative work alongside various artists and craftspeople. \nQ2: What are the event hours for ANNUAL ART FESTIVAL 2026?A2: The festival runs from Nov 12–15\, 9:00 AM–7:00 PM. \nQ3: What booth sizes do you recommend for exhibitors in the handicraft and art category?A3: We recommend a 10×20 or 20×20 booth for optimal space and engagement. \nQ4: Why is an aluminum booth better than a wood booth?A4: Aluminum booths are generally lighter\, more durable\, and easier to transport compared to wood. \nQ5: What can I expect in University Park during the art festival?A5: Expect vibrant community engagement\, a rich display of arts\, and networking opportunities with artists. \nQ6: How can SNAP EXHIBITIONS help make everything perfect about my booth?A6: We offer a full range of services to ensure your booth reflects your brand and accommodates your needs seamlessly. \nIn summary\, ANNUAL ART FESTIVAL 2026 booth rental is your opportunity to shine among fellow creatives and exhibitors. Take this chance to showcase your work at a premier event—reach out to us today to transform your vision into reality and contact our team for assistance!
URL:https://iwf2026.com/event/annual-art-festival-2026/
CATEGORIES:Art and Antiques,Collectors - Hobby,Decoration,Furniture,Handicraft Products,Home & Office Design,Lighting,Music
END:VEVENT
BEGIN:VEVENT
DTSTART;TZID=UTC:20260709T090000
DTEND;TZID=UTC:20260712T235959
DTSTAMP:20260423T094048
CREATED:20251023T085330Z
LAST-MODIFIED:20251023T085330Z
UID:26087-1783587600-1783900799@iwf2026.com
SUMMARY:INTERNATIONAL FOLK ART MARKET 2026
DESCRIPTION:INTERNATIONAL FOLK ART MARKET 2026 — Exhibitor Guide & Custom Booth Options\nAbout INTERNATIONAL FOLK ART MARKET 2026\nINTERNATIONAL FOLK ART MARKET 2026 booth rental is the perfect opportunity to showcase your craftsmanship in Santa Fe. This annual Folk Art Festival provides an open-air platform that features an array of exquisite textiles\, handmade jewelry\, unique ceramics\, pottery\, handwoven baskets\, homegoods\, and folk art paintings. Attendees gain insights into diverse cultures through folk life\, dance\, and music performances. \n\nKey Details: Jun 5–7\, 9:00 AM–5:00 PM\nLocation: Museum Hill\, 710 Camino Lejo\, Santa Fe\, NM\nCountry: United States\nLearn more about the event\n\nIndustries & Audience: This event caters to artisans of all kinds\, particularly in the Handicraft Products\, Fashion – Clothing\, Decoration\, Home & Office Design\, Furniture\, Lighting\, Music sectors. \nVenue & Location\nThe event takes place at Museum Hill\, located at 710 Camino Lejo\, Santa Fe\, NM\, USA. This venue provides excellent logistics for exhibitors\, including convenient access for moving in and out. \nSanta Fe NM: Our Services\nWe DESIGN\, PRODUCE\, INSTALL & DISMANTLE turnkey booth rentals in Santa Fe\, NM. Our services cover all aspects of your booth setup including concept/design\, modular frames\, branded SEG graphics\, reception/storage\, TV mount\, and on-site installation & dismantling. \nCustom Booth Models\nExplore our popular footprints such as 10×10\, 10×20\, and 20×20 for accommodating various exhibitor needs. Each size is perfect for showcasing your art and designs effectively while catering to the interests of visitors in the listed categories. Check out our Snap Exhibitions Custom Booth Models for inspiring designs. We also provide full-service exhibit support and for more information\, please contact our team. \nFAQ\nQ: What is the INTERNATIONAL FOLK ART MARKET 2026 booth rental?A: It’s a rental option for exhibitors to showcase their crafts at the festival in Santa Fe. \nQ: What are the event dates and hours?A: June 5–7 from 9:00 AM to 5:00 PM. \nQ: What are recommended booth sizes for fashion and decoration products?A: We recommend using both 10×10 and 10×20 footprints for optimal exposure. \nQ: Why is an aluminum booth better than wood?A: Aluminum booths are lightweight\, durable\, and provide better design flexibility compared to wood. \nQ: What can I expect at the INTERNATIONAL FOLK ART MARKET?A: You can explore unique folk artistry including textiles\, jewelry\, and participate in cultural music and dance. \nQ: How can SNAP EXHIBITIONS help me make everything perfect about my booth?A: We offer comprehensive booth rentals\, from design to installation\, ensuring a seamless experience. \nINTERNATIONAL FOLK ART MARKET 2026 booth rental is your gateway to joining a vibrant community to showcase your unique talents. For more information\, feel free to contact our team today!
URL:https://iwf2026.com/event/international-folk-art-market-2026/
CATEGORIES:Decoration,Fashion - Clothing,Furniture,Handicraft Products,Home & Office Design,Lighting,Music
END:VEVENT
BEGIN:VEVENT
DTSTART;TZID=UTC:20260709T090000
DTEND;TZID=UTC:20260712T235959
DTSTAMP:20260423T094048
CREATED:20251023T224135Z
LAST-MODIFIED:20251023T224135Z
UID:26314-1783587600-1783900799@iwf2026.com
SUMMARY:LIFEST OSHKOSH 2026
DESCRIPTION:LIFEST OSHKOSH 2026 Booth Rental — Ultimate Exhibitor Guide\nAbout LIFEST OSHKOSH 2026\nVenue & Location\nOshkosh WI: Our Services\nCustom Booth Models\nFAQ\nLIFEST OSHKOSH 2026 — About the Event\nLIFEST OSHKOSH 2026 booth rental provides a fantastic opportunity for exhibitors to present at one of the largest Christian Music Festivals in the USA. This vibrant event showcases live bands\, music CDs\, and artist merchandise\, attracting a diverse audience eager to connect and engage. With over three full days of entertainment and activities\, exhibitors can showcase their offerings to an audience looking for entertainment\, community\, and inspiration. \n\nDates: July 7–9\, 2026\, 9:00 AM–5:00 PM\nLocation: Sunnyview Expo Center\, 500 E County Rd Y\, Oshkosh\, WI\, USA\nCountry: United States\n\nIndustries & Audience: Music\, Broadcasting\, Television & Entertainment\, Religious Life & Fittings. \nVenue & Location\nThe event will take place at the Sunnyview Expo Center\, located at 500 E County Rd Y\, Oshkosh\, WI\, USA. This venue provides ideal logistics for move-in and dock access\, ensuring a smooth setup process for exhibitors wishing to create an impactful presence. \nIf you have questions\, feel free to call us at {Phone}. \nOshkosh WI: Our Services\nAt Snap Exhibitions\, we DESIGN\, PRODUCE\, INSTALL & DISMANTLE turnkey booth rentals in Oshkosh WI. Our scope includes concept/design\, modular frames\, branded SEG graphics\, reception/storage\, TV mounts\, and on-site installation & dismantling services. \nCustom Booth Models\nWe offer a variety of booth sizes tailored to fit the needs of exhibitors in the music and entertainment sectors. Popular footprints include: \n\n10×10: Ideal for personal branding and intimate interactions.\n10×20: Great for larger displays and more product offerings.\n20×20: Perfect for showcasing multiple elements\, providing ample space for a vibrant exhibit.\n\nExplore our Snap Exhibitions Custom Booth Models for inspiration\, and rest assured that we support you throughout the exhibition with full-service exhibit support. Ready to elevate your presence? Don’t hesitate to contact our team. \nFAQ\n\nWhat is the LIFEST OSHKOSH 2026 booth rental process?\nOur booth rental process is streamlined to ensure you have everything you need for the event.\nWhat are the dates and hours for LIFEST OSHKOSH 2026?\nLIFEST OSHKOSH 2026 runs from July 7–9\, 2026\, from 9:00 AM to 5:00 PM each day.\nWhat booth sizes are recommended for the Music sectors?\nWe recommend 10×10 for small displays\, 10×20 for larger teams\, and 20×20 for grand setups that engage attendees.\nWhy is an aluminum booth better than wood?\nAluminum booths are lighter\, easier to transport\, and offer better durability compared to wood booths.\nWhat can I expect at the LIFEST OSHKOSH event?\nExpect an exciting atmosphere with live music\, artist merchandise\, and interactions with a like-minded community.\nHow can I navigate Oshkosh during the event?\nOshkosh is equipped with various local amenities and services to assist attendees\, ensuring a convenient experience.\nHow can Snap Exhibitions help make my booth perfect?\nWe provide customized solutions tailored to your needs\, ensuring that your booth stands out and effectively engages attendees.\n\nFor an impactful presence at the LIFEST OSHKOSH 2026 booth rental\, please contact us at Snap Exhibitions today!
URL:https://iwf2026.com/event/lifest-oshkosh-2026/
CATEGORIES:Broadcasting,Music,Religious Life & Fittings,Television & Entertainment
END:VEVENT
BEGIN:VEVENT
DTSTART;TZID=UTC:20260710T090000
DTEND;TZID=UTC:20260711T235959
DTSTAMP:20260423T094048
CREATED:20251023T082804Z
LAST-MODIFIED:20251023T082804Z
UID:26049-1783674000-1783814399@iwf2026.com
SUMMARY:FLORIDA SUPERCON 2026
DESCRIPTION:Florida Supercon 2026 booth rental — Impactful Exhibitor Guide & Custom Booth Options\n#show\n#venue\n#city-services\n#booth-models\n#faq\n\nFlorida Supercon 2026 — About the Event\nFlorida Supercon 2026 booth rental options provide an exciting opportunity for exhibitors in Broadcasting\, Television & Entertainment\, Books\, Music\, Fashion – Clothing\, Art and Antiques. This event spans three days packed full of anime\, celebrities\, gaming\, comics\, and pop culture\, drawing in an enthusiastic crowd eager to engage with exhibitors and discover new trends. Exhibitors will gain significant exposure\, network with like-minded professionals\, and showcase their latest offerings to a vibrant audience. \nKey Details\n\nDate: June 8–10\, 2026 (9:00 AM–5:00 PM)\nLocation: Miami Beach Convention Center\nAddress: 1901 Convention Center Drive\, Miami Beach\, United States\n\nFlorida Supercon promises to be an exhilarating event\, offering opportunities for all attendees to connect with popular culture. Whether you’re involved in gaming\, fashion\, or the arts\, the exposure here is invaluable. \n\n\nVenue & Location\nThe event will be held at the Miami Beach Convention Center\, located at 1901 Convention Center Drive\, Miami Beach\, United States. This central venue provides easy access and is well-equipped for hosting significant trade shows. Attendees can expect ample move-in windows and convenient dock access for booths. \nIf you have any inquiries\, feel free to contact the venue directly. \n\n\nFlorida Supercon 2026 booth rental — City Services\nAt Snap Exhibitions\, we DESIGN\, PRODUCE\, INSTALL & DISMANTLE turnkey booth rentals in Miami Beach. Our offerings include concept/design\, modular frames\, branded SEG graphics\, reception/storage\, TV mounts\, and on-site installation & dismantle. We ensure that you have a hassle-free experience while your booth captivates attendees in this vibrant city. \n\n\nCustom Booth Models for Florida Supercon 2026\nExplore our Snap Exhibitions Custom Booth Models tailored for the diverse needs of Florida Supercon exhibitors. Common footprints include 10×10\, 10×20\, and 20×20 setups\, each designed to fit various audience interactions and marketing strategies. Ideal for the Broadcasting\, Television & Entertainment\, Books\, Music\, and Art sectors\, these footprints provide a space for effective demonstrations and brand storytelling. \nTo learn how we can support your exhibition needs\, visit our page on full-service exhibit support. \nReady to enhance your presence? Contact our team today! \n\n\nFAQ\nWhat is Florida Supercon 2026 booth rental?\nFlorida Supercon 2026 booth rental options allow exhibitors to showcase their products and connect with a vibrant audience passionate about pop culture. \nWhat are the event hours for Florida Supercon 2026?\nFlorida Supercon will take place from June 8–10\, 2026\, running daily from 9:00 AM to 5:00 PM. \nWhat booth sizes do you recommend for the Broadcasting and Entertainment sectors?\nWe recommend 10×20 and 20×20 booth sizes for maximum engagement and visibility in these industries. \nWhy is an aluminum booth better than wood?\nAluminum booths are lighter\, more durable\, and easier to transport compared to wood\, making them a preferable option for events. \nWhat makes Miami Beach a great location for Florida Supercon?\nMiami Beach offers a dynamic atmosphere and accessibility for attendees\, contributing to the overall excitement of Florida Supercon. \nHow can SNAP EXHIBITIONS help make everything perfect about your booth?\nWe provide comprehensive services from design to installation\, ensuring your booth stands out and functions seamlessly throughout the event. \n\nJoin us at Florida Supercon 2026 booth rental options for a unique opportunity to showcase your brand and network within a thrilling atmosphere! To get started\, contact our team today!
URL:https://iwf2026.com/event/florida-supercon-2026/
CATEGORIES:Art and Antiques,Books,Broadcasting,Fashion - Clothing,Music,Television & Entertainment
END:VEVENT
END:VCALENDAR