BEGIN:VCALENDAR
VERSION:2.0
PRODID:-//IWF 2026 Atlanta — Local Booth Builder &amp; Rentals - ECPv6.15.13.1//NONSGML v1.0//EN
CALSCALE:GREGORIAN
METHOD:PUBLISH
X-ORIGINAL-URL:https://iwf2026.com
X-WR-CALDESC:Events for IWF 2026 Atlanta — Local Booth Builder &amp; Rentals
REFRESH-INTERVAL;VALUE=DURATION:PT1H
X-Robots-Tag:noindex
X-PUBLISHED-TTL:PT1H
BEGIN:VTIMEZONE
TZID:UTC
BEGIN:STANDARD
TZOFFSETFROM:+0000
TZOFFSETTO:+0000
TZNAME:UTC
DTSTART:20250101T000000
END:STANDARD
END:VTIMEZONE
BEGIN:VEVENT
DTSTART;TZID=UTC:20260421T090000
DTEND;TZID=UTC:20260423T235959
DTSTAMP:20260421T105153
CREATED:20251023T172748Z
LAST-MODIFIED:20251023T172748Z
UID:26174-1776762000-1776988799@iwf2026.com
SUMMARY:MRO AMERICAS 2026
DESCRIPTION:MRO AMERICAS 2026 booth rental — Essential Exhibitor Guide & Custom Booth Options\nAbout MRO AMERICAS 2026\nMRO AMERICAS 2026 booth rental offers a unique opportunity for exhibitors and visitors alike to engage in the heart of the airline supply chain. This essential event\, scheduled from May 22–24\, 2026\, in Orlando\, FL\, unites industry professionals to network\, learn\, and define best practices in the commercial aviation maintenance sector. Our Key Details are as follows: \n\nDate: May 22–24\, 2026\nLocation: Orlando\, FL\, USA\n\nDesigned for key players in **Aeronautics – Space**\, **Quality & Maintenance**\, **Security – Risk Management**\, **Port and Airport Industries**\, **Subcontracting**\, and **Suppliers & Partners**\, MRO AMERICAS prompts valuable discussions and collaboration. \nVenue & Location\nThe event takes place at the heart of Orlando\, FL\, offering convenient logistics for exhibitors with accessible dock areas and move-in windows. For any queries\, feel free to reach out via phone. \nOrlando\, FL: Our Services\nWe DESIGN\, PRODUCE\, INSTALL & DISMANTLE turnkey booth rentals in Orlando\, FL. Our comprehensive service includes concept design\, modular frames\, branded SEG graphics\, reception/storage solutions\, TV mounts\, and on-site installation and dismantling support. \nCustom Booth Models\nExplore our Snap Exhibitions Custom Booth Models available to fit various needs. Popular booth footprints like 10×10 and 10×20 make for ideal setups at MRO AMERICAS. These configurations enhance visibility and engagement\, making them perfect for the aeronautics and maintenance sectors. For full details on our offerings\, visit our full-service exhibit support page or contact our team today! \nFAQ\n\nWhat is MRO AMERICAS 2026 booth rental?It’s a premier opportunity to showcase your business at one of the leading commercial aviation maintenance industry events.\nWhat are the event hours for MRO AMERICAS 2026?The show runs from May 22–24\, 2026\, typically from 9:00 AM to 5:00 PM each day.\nWhat recommended booth sizes should I consider for Aeronautics – Space sectors?Booths sized 10×20 are popular due to their balance of space and visibility\, making them suitable for effective engagement.\nWhy is an aluminum booth better than wood?Aluminum booths offer durability and lightweight design\, making them easier to transport and set up compared to traditional wooden options.\nWhat can you tell me about Orlando\, FL?Orlando is well-known for its hospitality and diverse business hosting capabilities\, making it an ideal location for trade shows.\nHow does MRO AMERICAS 2026 benefit exhibitors?This trade show provides exposure\, networking\, and opportunities to engage directly with key industry stakeholders.\nHow can SNAP EXHIBITIONS help make everything perfect about our booth?We ensure a seamless experience from design to dismantle by managing all aspects of your turnkey booth rental in Orlando.\n\nMaximize your presence at MRO AMERICAS 2026 booth rental! For inquiries and to book your custom booth\, contact our team today!
URL:https://iwf2026.com/event/mro-americas-2026/
CATEGORIES:Aeronautics - Space,Port and Airport Industries,Quality & Maintenance,Security - Risk Management,Subcontracting,Suppliers & Partners
END:VEVENT
BEGIN:VEVENT
DTSTART;TZID=UTC:20260513T090000
DTEND;TZID=UTC:20260514T235959
DTSTAMP:20260421T105153
CREATED:20251023T082829Z
LAST-MODIFIED:20251023T082829Z
UID:26050-1778662800-1778803199@iwf2026.com
SUMMARY:AVIATION FESTIVAL AMERICAS 2026
DESCRIPTION:AVIATION FESTIVAL AMERICAS 2026 booth rental — Seamless Exhibitor Guide & Custom Booth Options\nAbout AVIATION FESTIVAL AMERICAS 2026\nAt the AVIATION FESTIVAL AMERICAS 2026\, exhibitors can expect unparalleled opportunities for exposure and engagement. This event\, held from Mar 15–17\, 2026\, 9:00 AM–5:00 PM\, at the Miami Beach Convention Center\, 1901 Convention Center Drive\, United States\, brings together over 250 influential leaders in the aviation industry. Join decision-makers from airlines\, airports\, and solution providers to explore groundbreaking developments in the sector. Don’t miss your chance to connect with key players\, share innovative ideas\, and establish lasting partnerships. More details on the event can be found here.  \nKey Details:Mar 15–17\, 2026\, 9:00 AM–5:00 PMMiami Beach Convention Center1901 Convention Center DriveUnited States \nIndustries & Audience: Aeronautics – Space\, Subcontracting\, Suppliers & Partners\, Port and Airport Industries\, Logistics & Transportation Engineering – Handling Operations – Storage\, Marketing & Selling \nVenue & Location\nThe Miami Beach Convention Center in the United States provides an extraordinary setting for the AVIATION FESTIVAL AMERICAS 2026. With excellent logistics for exhibitors including flexible move-in windows and dock access\, this venue ensures a smooth experience for all involved. For inquiries\, please call. This venue is strategically located to maximize traffic and engagement. \nMiami: Our Services\nWe DESIGN\, PRODUCE\, INSTALL & DISMANTLE turnkey booth rentals in Miami. Our comprehensive services include concept/design\, modular frames\, branded SEG graphics\, reception/storage\, TV mounts\, and on-site installation and dismantling\, catering directly to your specific exhibition needs. \nCustom Booth Models\nExplore our Snap Exhibitions Custom Booth Models tailored for diverse footprints. Whether you’re looking for a 10×10\, 10×20\, or 20×20 display\, we can help you create the perfect space to showcase your brand and services to the aviation sector. \nOur popular footprints fit your needs by providing room for strategic engagement within the crowded sectors of aviation\, logistics\, and transportation. We also provide full-service exhibit support to ensure each exhibitor’s presence is impactful and memorable. \nIf you’re ready to make the most of your exhibition experience\, contact our team today! \nFAQ\n\nWhat are the hours for the AVIATION FESTIVAL AMERICAS 2026? The event runs from Mar 15–17\, 2026\, from 9:00 AM to 5:00 PM.\nWhat is the recommended booth size for aviation industry exhibits? A 10×20 booth is ideal for maximizing visibility and engagement within aviation sectors.\nWhy is an aluminum booth better than wood? Aluminum booths are lighter\, more durable\, and offer a more modern aesthetic compared to wood\, which is crucial for a dynamic exhibition environment.\nHow can we get our booth rental in Miami? We provide turnkey booth rentals that are designed specifically for the Miami event circuit.\nWhat types of industries will be represented at AVIATION FESTIVAL AMERICAS 2026? You can expect to see professionals from various fields including aeronautics\, subcontracting\, and airport logistics.\nHow does Snap Exhibitions ensure everything is perfect for our booth? We manage every aspect of your booth\, from design to installation\, ensuring a seamless experience tailored to meet your needs.\nHow can I find out more about the AVIATION FESTIVAL AMERICAS 2026? More information can be found on the event website.\n\nReady to stand out? Book your AVIATION FESTIVAL AMERICAS 2026 booth rental today and experience the ultimate exhibition tailored just for you. Don’t miss out on this opportunity—contact our team now!
URL:https://iwf2026.com/event/aviation-festival-americas-2026/
CATEGORIES:Aeronautics - Space,Logistics & Transportation Engineering - Handling Operations - Storage,Marketing & Selling,Port and Airport Industries,Subcontracting,Suppliers & Partners
END:VEVENT
END:VCALENDAR