BEGIN:VCALENDAR
VERSION:2.0
PRODID:-//IWF 2026 Atlanta — Local Booth Builder &amp; Rentals - ECPv6.15.13.1//NONSGML v1.0//EN
CALSCALE:GREGORIAN
METHOD:PUBLISH
X-ORIGINAL-URL:https://iwf2026.com
X-WR-CALDESC:Events for IWF 2026 Atlanta — Local Booth Builder &amp; Rentals
REFRESH-INTERVAL;VALUE=DURATION:PT1H
X-Robots-Tag:noindex
X-PUBLISHED-TTL:PT1H
BEGIN:VTIMEZONE
TZID:UTC
BEGIN:STANDARD
TZOFFSETFROM:+0000
TZOFFSETTO:+0000
TZNAME:UTC
DTSTART:20250101T000000
END:STANDARD
END:VTIMEZONE
BEGIN:VEVENT
DTSTART;TZID=UTC:20260421T090000
DTEND;TZID=UTC:20260423T235959
DTSTAMP:20260419T172736
CREATED:20251023T055906Z
LAST-MODIFIED:20251023T055906Z
UID:25905-1776762000-1776988799@iwf2026.com
SUMMARY:FIELD SERVICE 2026
DESCRIPTION:FIELD SERVICE 2026 booth rental — Ultimate Exhibitor Guide & Custom Booth Options\nAbout FIELD SERVICE 2026\nVenue & Location\nPalm Desert CA: Our Services\nCustom Booth Models\nFAQ\nFIELD SERVICE 2026: A Premier Event for Marketing & Selling\nFIELD SERVICE 2026 booth rental provides engaging options for attendees eager to make their mark in the service\, support\, and customer success sectors. This event gathers thousands of leaders\, offering visitors valuable insights and speakers who share actionable strategies tailored to their unique challenges. Key Details: Dates: Feb 21–24\, 9:00 AM–5:00 PM\, Location: JW Marriott Desert Springs Resort & Spa\, 74855 Country Club Drive\, Palm Desert\, CA\, USA. Industries & Audience: Marketing & Selling\, Decision Helping Tools & Management Services\, Retail & Shop Fitting Equipment & Service\, Quality & Maintenance. \nVenue & Location\nThe FIELD SERVICE 2026 event will take place at the JW Marriott Desert Springs Resort & Spa\, located at 74855 Country Club Drive\, Palm Desert\, CA\, USA. With excellent logistics for exhibitors\, this venue promises great accessibility and seamless move-in. Connect with us via phone for inquiries! \nPalm Desert CA: Our Services\nIn Palm Desert\, CA\, we DESIGN\, PRODUCE\, INSTALL & DISMANTLE turnkey booth rentals for FIELD SERVICE 2026. Whether you need concept designs\, modular frames\, branded SEG graphics\, or on-site installation and dismantle\, we cover it all with precision and flair. \nCustom Booth Models\nWe offer a selection of popular booth sizes including the 10×10\, 10×20\, and 20×20 footprints that suit the needs of exhibitors in the marketing and retail sectors. Each model is tailored to ensure optimal engagement with visitors\, making these options ideal for showcasing products effectively. Check our Snap Exhibitions Custom Booth Models for inspiration. Our full-service exhibit support will keep you covered throughout the event. For a tailored solution\, contact our team today! \nFAQ\nWhat is FIELD SERVICE 2026 booth rental?\nFIELD SERVICE 2026 booth rental refers to our premium booth rental services available at the event\, allowing you to create an impactful presence with tailored design and setup. \nWhat are the event hours and dates for FIELD SERVICE 2026?\nFIELD SERVICE 2026 will run from February 21–24\, with daily hours from 9:00 AM to 5:00 PM. \nWhat booth sizes do you recommend for the Marketing & Selling sectors?\nWe typically recommend 10×10 or 10×20 booth sizes to maximize visibility and engagement for businesses in these sectors. \nWhy is an aluminum booth better than wood?\nAluminum booths are lighter\, more versatile\, and often more durable than wood\, making them easier to transport and set up. \nWhat services does Snap Exhibitions offer in Palm Desert?\nIn Palm Desert\, we offer comprehensive turnkey booth rental services\, including design\, production\, installation\, and dismantling. \nWhat can I expect from participating in FIELD SERVICE 2026?\nVisitors can expect valuable insights\, networking opportunities\, and exposure to the latest trends in service and customer support. \nWant to make a concrete impact at FIELD SERVICE 2026? Choose our premium FIELD SERVICE 2026 booth rental services today and contact us for seamless execution!
URL:https://iwf2026.com/event/field-service-2026/
CATEGORIES:Decision Helping Tools & Management Services,Marketing & Selling,Quality & Maintenance,Retail & Shop Fitting Equipment & Service
END:VEVENT
END:VCALENDAR