BEGIN:VCALENDAR
VERSION:2.0
PRODID:-//IWF 2026 Atlanta — Local Booth Builder &amp; Rentals - ECPv6.15.20//NONSGML v1.0//EN
CALSCALE:GREGORIAN
METHOD:PUBLISH
X-WR-CALNAME:IWF 2026 Atlanta — Local Booth Builder &amp; Rentals
X-ORIGINAL-URL:https://iwf2026.com
X-WR-CALDESC:Events for IWF 2026 Atlanta — Local Booth Builder &amp; Rentals
REFRESH-INTERVAL;VALUE=DURATION:PT1H
X-Robots-Tag:noindex
X-PUBLISHED-TTL:PT1H
BEGIN:VTIMEZONE
TZID:UTC
BEGIN:STANDARD
TZOFFSETFROM:+0000
TZOFFSETTO:+0000
TZNAME:UTC
DTSTART:20240101T000000
END:STANDARD
END:VTIMEZONE
BEGIN:VEVENT
DTSTART;TZID=UTC:20250914T090000
DTEND;TZID=UTC:20250915T235959
DTSTAMP:20260425T173045
CREATED:20251022T220032Z
LAST-MODIFIED:20251022T220032Z
UID:25773-1757840400-1757980799@iwf2026.com
SUMMARY:PREMIERE COLUMBUS 2025
DESCRIPTION:PREMIERE COLUMBUS 2025 booth rental — Premium Exhibitor Guide & Custom Booth Options\nAbout PREMIERE COLUMBUS 2025\nPREMIERE COLUMBUS 2025 booth rental is your gateway to showcasing your brand at one of the most esteemed beauty events. This international beauty show gathers industry professionals eager to explore the hottest trends in hair color\, cut techniques\, fashion nail art\, and innovative day spa procedures. Exhibitors gain invaluable exposure\, networking opportunities\, and insights into emerging market trends. \n\nKey Details:\nDate: May 8–9\, 2025\, 9:00 AM–5:00 PM\nVenue: Greater Columbus Convention Center\nAddress: 400 North High Street\, Columbus\, OH 43215\nCountry: United States\nEvent Website\n\nIndustries & Audience: This event is specifically tailored for Beauty & Personal Care\, Perfumes & Cosmetics\, Fashion – Clothing\, Swimming Pool\, Sauna & Spa sectors. \nVenue & Location\nThe PREMIERE COLUMBUS 2025 will be held at the Greater Columbus Convention Center\, located at 400 North High Street\, Columbus\, OH 43215\, USA. This venue offers flexible logistics for exhibitors\, including access for setup and the dock area. No phone contact is available for this event but rest assured\, the venue is easily accessible. \nColumbus\, OH: Our Services\nIn Columbus\, we DESIGN\, PRODUCE\, INSTALL & DISMANTLE turnkey booth rentals. Our services cover the full spectrum\, providing concept development\, modular frames\, branded SEG graphics\, reception/storage areas\, TV mounts\, and expert on-site installation and dismantle services. \nCustom Booth Models\nAt Snap Exhibitions\, we offer various booth footprints\, including popular sizes like 10×10\, 10×20\, and 20×20. These options are ideal for attendees in the beauty and personal care sectors\, allowing you to maximize visibility and engagement. For a closer look at our offerings\, consider visiting our Snap Exhibitions Custom Booth Models page. \nAdditionally\, our clients benefit from full-service exhibit support\, ensuring a seamless experience from design to dismantle. If you’re eager to start planning your exhibit\, contact our team today! \nFAQ\nQ: What is PREMIERE COLUMBUS 2025 booth rental?A: PREMIERE COLUMBUS 2025 booth rental provides turnkey solutions for exhibitors looking to showcase their brands at the event. \nQ: What are the event hours and dates?A: The event is scheduled for May 8–9\, 2025\, from 9:00 AM to 5:00 PM. \nQ: What booth sizes do you recommend for beauty sectors?A: For beauty segments\, we recommend sizes like 10×10 for small displays and 10×20 for more visibility. \nQ: Why is an aluminum booth better than wood?A: Aluminum booths are lighter\, easier to set up\, and provide a modern look compared to traditional wood booths. \nQ: What services does Snap Exhibitions provide in Columbus?A: We offer a complete range of services for exhibitors\, including design\, production\, and on-site support. \nQ: How can Snap Exhibitions help ensure our booth is perfect?A: We manage every detail from design to installation to ensure an impactful presentation at PREMIERE COLUMBUS 2025. \nIn conclusion\, our PREMIERE COLUMBUS 2025 booth rental offerings are designed to provide you with all the necessary support and installations for a standout presentation. For all your exhibition needs\, contact us today!
URL:https://iwf2026.com/event/premiere-columbus-2025/
CATEGORIES:Beauty & Personal Care,Fashion - Clothing,Perfumes & Cosmetics,Sauna & Spa,Swimming Pool
END:VEVENT
BEGIN:VEVENT
DTSTART;TZID=UTC:20250928T090000
DTEND;TZID=UTC:20250929T235959
DTSTAMP:20260425T173045
CREATED:20251022T221444Z
LAST-MODIFIED:20251022T221444Z
UID:25797-1759050000-1759190399@iwf2026.com
SUMMARY:PREMIERE SAN ANTONIO 2025
DESCRIPTION:PREMIERE SAN ANTONIO 2025 booth rental — Essential Guide & Custom Booth Options\nAbout PREMIERE SAN ANTONIO 2025\nPREMIERE SAN ANTONIO 2025 booth rental is essential for exhibitors looking to make a mark in the beauty industry. This international beauty show showcases the hottest hair color trends\, cutting-edge techniques\, high-fashion nail art\, edgy barber designs\, and innovative spa procedures. Visitors and exhibitors will gain invaluable insights\, network with industry leaders\, and discover the latest products and services that define the future of beauty. \n\nKey Details: May 29–31\, 2025\, 9:00 AM–5:00 PM\nLocation: Henry B. Gonzalez Convention Center\nAddress: 200 E. Market St\, San Antonio\, Texas 78205\, USA\n\nJoin a diverse audience comprised of professionals from **Beauty & Personal Care**\, **Perfumes & Cosmetics**\, **Fashion – Clothing**\, and **Swimming Pool\, Sauna & Spa** industries. \nVenue & Location\nThe event will be held at the Henry B. Gonzalez Convention Center\, located at 200 E. Market St\, San Antonio\, Texas 78205\, USA. The venue provides excellent logistical access for exhibiting businesses\, ensuring a smooth setup experience for all participants. \nFor any inquiries\, feel free to reach us at the provided contact number. \nSan Antonio TX: Our Services\nWe DESIGN\, PRODUCE\, INSTALL & DISMANTLE turnkey booth rentals in San Antonio\, Texas. Our complete service encompasses concept design\, modular frames\, branded SEG graphics\, reception/storage areas\, TV mounts\, and on-site installation and dismantling (I&D) to simplify your exhibiting experience. \nCustom Booth Models\nExplore our Snap Exhibitions Custom Booth Models that cater to different footprints ideal for the beauty sector. Popular options include: \n\n10×10 booths: Perfect for small brands looking to enter the market and make impactful connections.\n10×20 booths: Designed for brands that want to display more products and garner attention effectively.\n20×20 booths: Excellent for larger brands aiming to showcase a comprehensive range of services and products.\n\nWe also provide full-service exhibit support to ensure that your presence at the show is seamless and impactful. \nFAQ\n\nWhat is the PREMIERE SAN ANTONIO 2025 booth rental?\nPREMIERE SAN ANTONIO 2025 booth rental provides exhibitors with everything needed to create an impressive presence at this important beauty trade show.\nWhat are the event hours and dates?\nThe event runs from May 29–31\, 2025\, from 9:00 AM to 5:00 PM.\nWhat booth sizes are recommended for the Beauty & Personal Care sector?\nTypically\, 10×10 and 10×20 booths work well for brands looking to maximize their exposure.\nWhy are aluminum booths better than wood?\nAluminum booths are lighter\, more durable\, and offer better customization options compared to traditional wood structures.\nWhat can I do in San Antonio while attending the event?\nSan Antonio is rich in culture; consider visiting local attractions and enjoying the renowned culinary scene.\nWhat is the best way to ensure everything is perfect for my booth?\nWe recommend working with our team to design and customize your booth\, so you can focus on engaging visitors.\n\nFor the best experience at the PREMIERE SAN ANTONIO 2025 booth rental\, contact our team today. Let us help you create a stunning booth that captures your brand’s essence!
URL:https://iwf2026.com/event/premiere-san-antonio-2025/
CATEGORIES:Beauty & Personal Care,Fashion - Clothing,Perfumes & Cosmetics,Sauna & Spa,Swimming Pool
END:VEVENT
END:VCALENDAR