BEGIN:VCALENDAR
VERSION:2.0
PRODID:-//IWF 2026 Atlanta — Local Booth Builder &amp; Rentals - ECPv6.15.20//NONSGML v1.0//EN
CALSCALE:GREGORIAN
METHOD:PUBLISH
X-WR-CALNAME:IWF 2026 Atlanta — Local Booth Builder &amp; Rentals
X-ORIGINAL-URL:https://iwf2026.com
X-WR-CALDESC:Events for IWF 2026 Atlanta — Local Booth Builder &amp; Rentals
REFRESH-INTERVAL;VALUE=DURATION:PT1H
X-Robots-Tag:noindex
X-PUBLISHED-TTL:PT1H
BEGIN:VTIMEZONE
TZID:UTC
BEGIN:STANDARD
TZOFFSETFROM:+0000
TZOFFSETTO:+0000
TZNAME:UTC
DTSTART:20240101T000000
END:STANDARD
END:VTIMEZONE
BEGIN:VEVENT
DTSTART;TZID=UTC:20251022T090000
DTEND;TZID=UTC:20251024T235959
DTSTAMP:20260425T161514
CREATED:20251022T205839Z
LAST-MODIFIED:20251022T205839Z
UID:25680-1761123600-1761350399@iwf2026.com
SUMMARY:INTERNATIONAL POOL SPA PATIO EXPO 2025
DESCRIPTION:INTERNATIONAL POOL SPA PATIO EXPO 2025 booth rental — Ultimate Guide\nAbout INTERNATIONAL POOL SPA PATIO EXPO 2025\nINTERNATIONAL POOL SPA PATIO EXPO 2025 booth rental offers exhibitors an essential opportunity to connect with a diverse audience interested in swimming pools\, spas\, and outdoor living. The expo features segments from pool\, spa\, patio\, decking\, and outdoor living industries\, ensuring that attendees stay well-informed about the latest market trends and innovative technologies.\nKey Details: April 4–6\, 2025\, 9:00 AM–5:00 PM\, Dallas\, TX\, USA. For more information\, visit EVENT WEBPAGE. \nIndustries & Audience: Swimming Pool\, Sauna & Spa\, Home Show\, Equipments for Amenity Areas\, Beauty & Personal Care. \nVenue & Location\nThe expo will take place at the Dallas\, TX in the USA. Logistics for move-in are in place\, ensuring easy access for exhibitors. If you have questions\, feel free to reach us at our phone number. \nDallas TX: Our Services\nWe DESIGN\, PRODUCE\, INSTALL & DISMANTLE turnkey booth rentals in Dallas TX. We focus on creating impactful concepts that include modular frames\, branded SEG graphics\, reception areas\, storage spaces\, and TV mounts to make exhibits stand out. Our service ensures a hassle-free experience for exhibitors\, emphasizing quality from design to execution. \nCustom Booth Models\nOur Snap Exhibitions Custom Booth Models are designed to cater to varying needs and preferences. Popular footprints include: \n\n10×10: Ideal for personal branding or small businesses within the pool and spa sector.\n10×20: Great for companies looking to showcase a range of amenities in a more extensive setup.\n20×20: Perfect for large brands wanting to create an impactful presence at the expo.\n\nAll models are tailored to enhance visitor engagement and provide ample space for meaningful interactions. For full-service exhibit support\, our team is ready to assist you. If you have any inquiries or need additional details\, do not hesitate to contact our team. \nFAQ\nQ: What is the INTERNATIONAL POOL SPA PATIO EXPO 2025 booth rental?\nA: The INTERNATIONAL POOL SPA PATIO EXPO 2025 booth rental provides a platform for exhibitors to showcase their products and connect with attendees in the pool and spa industry. \nQ: What are the event hours for the expo?\nA: The event runs from April 4–6\, 2025\, from 9:00 AM to 5:00 PM each day. \nQ: What booth sizes are recommended for the beauty and personal care sector?\nA: We usually recommend a 10×20 or 20×20 booth for maximum exposure in the beauty and personal care sectors. \nQ: Why is an aluminum booth better than a wood booth?\nA: Aluminum booths are more durable\, lightweight\, and easier to assemble compared to wooden booths. \nQ: What can I expect from the INTERNATIONAL POOL SPA PATIO EXPO 2025?\nA: Expect to see the latest trends and innovations\, network with industry professionals\, and gain insights into market directions. \nQ: How can SNAP EXHIBITIONS help make everything perfect about my booth?\nA: We offer comprehensive support from design to installation\, ensuring that every aspect of your booth meets your expectations. \nIn conclusion\, our INTERNATIONAL POOL SPA PATIO EXPO 2025 booth rental options provide an impactful way to engage with your target audience. For more information about how we can assist you\, please contact our team.
URL:https://iwf2026.com/event/international-pool-spa-patio-expo-2025/
CATEGORIES:Beauty & Personal Care,Equipments for Amenity Areas,Home Show,Sauna & Spa,Swimming Pool
END:VEVENT
BEGIN:VEVENT
DTSTART;TZID=UTC:20251022T090000
DTEND;TZID=UTC:20251024T235959
DTSTAMP:20260425T161514
CREATED:20251023T061014Z
LAST-MODIFIED:20251023T061014Z
UID:25933-1761123600-1761350399@iwf2026.com
SUMMARY:INTERNATIONAL POOL | SPA | PATIO EXPO 2025
DESCRIPTION:INTERNATIONAL POOL | SPA | PATIO EXPO 2025 booth rental — Premium Exhibitor Guide & Custom Booth Options\nAbout INTERNATIONAL POOL | SPA | PATIO EXPO 2025\nVenue & Location\nLas Vegas NV: Our Services\nCustom Booth Models\nFAQ\n\nAbout INTERNATIONAL POOL | SPA | PATIO EXPO 2025\nINTERNATIONAL POOL | SPA | PATIO EXPO 2025 booth rental provides an unmatched opportunity to connect with industry professionals in Las Vegas\, NV. This premier trade show showcases advancements and innovations in the realms of Swimming Pool\, Sauna & Spa\, and more. Attendees will gain invaluable insights as they engage with experts and learn about the latest trends in landscaping and outdoor living. \nThis essential event will be held from Sep 12–14\, 9:00 AM–5:00 PM\, at the **Las Vegas Convention Center**\, located at **3150 Paradise Road\, Las Vegas\, NV 89109\, United States**. As an outreach to all industry experts\, this expo is vital for building long-term business relationships and networking. \nKey Details: \n\nDate: Sep 12–14\, 9:00 AM–5:00 PM\nLocation: Las Vegas Convention Center\nAddress: 3150 Paradise Road\, Las Vegas\, NV 89109\nCountry: United States\n\nThe industries and audience include: Swimming Pool\, Sauna & Spa\, Home Show\, Building & Construction\, Beauty & Personal Care\, Architecture. \n\n\nVenue & Location\nLas Vegas Convention Center offers an ideal location for the INTERNATIONAL POOL | SPA | PATIO EXPO 2025 with convenient access for exhibitors. Move-in logistics are seamless\, fostering a conducive atmosphere for networking and engagement. \n\n\nLas Vegas NV: Our Services\nIn Las Vegas NV\, we DESIGN\, PRODUCE\, INSTALL & DISMANTLE turnkey booth rentals\, tailored to enhance your exhibition experience. From innovative concept and design to modular frames and branded SEG graphics\, we ensure your booth stands out. With options for reception/storage areas and TV mounts\, our all-encompassing service guarantees a successful presence at the event. \n\n\nCustom Booth Models\nExplore our Snap Exhibitions Custom Booth Models that cater perfectly to the diverse needs of exhibitors. Popular footprints such as 10×10\, 10×20\, and 20×20 are just a selection to consider; each is designed to maximize visibility and impact in your industry sector. \nTo learn more about how we can support your exhibition efforts with full-service exhibit support\, don’t hesitate to contact our team! \n\n\nFAQ\nWhat are the dates and times for the INTERNATIONAL POOL | SPA | PATIO EXPO 2025?\nThe expo will take place from Sep 12–14\, 9:00 AM–5:00 PM. \nWhat is an INTERNATIONAL POOL | SPA | PATIO EXPO 2025 booth rental?\nINTERNATIONAL POOL | SPA | PATIO EXPO 2025 booth rental is a tailored solution designed to meet your specific exhibition needs\, providing necessary equipment and support. \nWhat recommended booth sizes are ideal for the Swimming Pool\, Sauna & Spa industry?\nTypically\, a 10×20 or 20×20 booth works best for the Swimming Pool\, Sauna & Spa sector\, allowing for ample space to engage visitors. \nWhy is an aluminum booth better than wood?\nAluminum booths are lighter\, more durable\, and easier to transport compared to wood\, making them an ideal choice for exhibitions. \nWhat can I expect in Las Vegas during the expo?\nLas Vegas offers an array of dining\, entertainment\, and cultural experiences\, enhancing your stay while attending the expo. \nHow can SNAP EXHIBITIONS help make everything perfect about my booth?\nWe take pride in providing seamless solutions\, from concept through execution\, ensuring your booth stands out and achieves its goals. \n\nFor your next event\, consider an INTERNATIONAL POOL | SPA | PATIO EXPO 2025 booth rental to elevate your presence above the competition. Contact us today!
URL:https://iwf2026.com/event/international-pool-spa-patio-expo-2025-2/
CATEGORIES:Architecture,Beauty & Personal Care,Building & Construction,Home Show,Sauna & Spa,Swimming Pool
END:VEVENT
END:VCALENDAR