BEGIN:VCALENDAR
VERSION:2.0
PRODID:-//IWF 2026 Atlanta — Local Booth Builder &amp; Rentals - ECPv6.15.13.1//NONSGML v1.0//EN
CALSCALE:GREGORIAN
METHOD:PUBLISH
X-ORIGINAL-URL:https://iwf2026.com
X-WR-CALDESC:Events for IWF 2026 Atlanta — Local Booth Builder &amp; Rentals
REFRESH-INTERVAL;VALUE=DURATION:PT1H
X-Robots-Tag:noindex
X-PUBLISHED-TTL:PT1H
BEGIN:VTIMEZONE
TZID:UTC
BEGIN:STANDARD
TZOFFSETFROM:+0000
TZOFFSETTO:+0000
TZNAME:UTC
DTSTART:20250101T000000
END:STANDARD
END:VTIMEZONE
BEGIN:VEVENT
DTSTART;TZID=UTC:20260213T090000
DTEND;TZID=UTC:20260215T235959
DTSTAMP:20260419T155322
CREATED:20251022T214612Z
LAST-MODIFIED:20251022T214612Z
UID:25743-1770973200-1771199999@iwf2026.com
SUMMARY:SPRING HOME & REMODELING SHOW 2026
DESCRIPTION:SPRING HOME & REMODELING SHOW 2026 booth rental — Reliable Solutions\nAbout SPRING HOME & REMODELING SHOW 2026\nLooking for a premier booth rental for the SPRING HOME & REMODELING SHOW 2026? This event is your go-to destination for all home improvement needs. Taking place at the Fredericksburg Expo & Conference Center\, the show highlights the latest in home and garden innovations. Visitors can expect a comprehensive selection of exhibitors focusing on everything from renovations to gardening. \nThe Key Details: \nDates: Nov 14–16\, 2026 \nLocation: Fredericksburg Expo & Conference Center\, 2371 Carl D. Silver Parkway\, Fredericksburg\, VA\, United States. \nIndustries & Audience: This event is ideal for anyone involved in Home Show\, Building & Construction\, Decoration\, Home & Office Design\, and more! \nVenue & Location\nThe event will be held at the Fredericksburg Expo & Conference Center\, conveniently located at 2371 Carl D. Silver Parkway\, Fredericksburg\, VA\, USA. The venue features excellent logistics\, including ample space for move-in schedules and access for exhibitors. \nFredericksburg VA: Our Services\nWe offer turnkey booth rentals in Fredericksburg\, VA. Our services encompass every aspect — we DESIGN\, PRODUCE\, INSTALL & DISMANTLE booths tailored to your needs. Our team will ensure you have a booth with modular frames\, branded SEG graphics\, and necessary features such as reception areas and TV mounts. \nCustom Booth Models\nExplore popular booth sizes ideal for the SPRING HOME & REMODELING SHOW 2026\, including: \n\n10×10 ft – a compact yet impactful footprint for key exhibitors.\n10×20 ft – offering balanced visibility and floor space for detailed showcases.\n20×20 ft – perfect for brands aiming to make a bold statement.\n\nCheck out our Snap Exhibitions Custom Booth Models for more options. \nFor comprehensive support\, our full-service exhibit support equips you with everything you need for a spectacular exhibition experience. \nTo discuss your booth rental needs\, contact our team today! \nFAQ\nQ1: What is the SPRING HOME & REMODELING SHOW 2026 booth rental process?A1: We provide tailored booth rental solutions designed to meet your needs effectively. \nQ2: When does the event take place?A2: It runs from Nov 14–16\, 2026. \nQ3: What booth sizes are recommended for exhibitors in the Home Show sector?A3: Popular sizes include 10×10\, 10×20\, and 20×20 ft configurations. \nQ4: Why is using an aluminum booth better than wood?A4: Aluminum booths are lightweight\, durable\, and provide a more modern aesthetic compared to wood. \nQ5: What can I expect from Fredericksburg VA during the event?A5: Fredericksburg has a rich history and vibrant community\, perfect for networking. \nQ6: How can SNAP EXHIBITIONS help me make everything perfect about my booth?A6: We handle every aspect of booth creation\, ensuring a stress-free experience. \nQ7: Where can I find more information about the event?A7: For more details\, please visit our website or contact us directly. \nIn summary\, if you’re seeking a SPRING HOME & REMODELING SHOW 2026 booth rental\, we are here to assist you in creating an impactful presence. Contact us today for tailored solutions!
URL:https://iwf2026.com/event/spring-home-remodeling-show-2026/
CATEGORIES:Building & Construction,Decoration,Furniture,Gardening,Heating - Air Conditioning,Home & Office Design,Home Show,Kitchen & Bathroom,Lighting,Renewal - Renovations,Sauna & Spa,Swimming Pool
END:VEVENT
BEGIN:VEVENT
DTSTART;TZID=UTC:20260220T090000
DTEND;TZID=UTC:20260222T235959
DTSTAMP:20260419T155322
CREATED:20251022T211340Z
LAST-MODIFIED:20251022T211340Z
UID:25712-1771578000-1771804799@iwf2026.com
SUMMARY:SOUTHERN CONNECTICUT HOME & GARDEN SHOW 2026
DESCRIPTION:Southern Connecticut Home & Garden Show 2026 Booth Rental — Ultimate Guide\nAbout Southern Connecticut Home & Garden Show 2026\nVenue & Location\nUncasville CT: Our Services\nCustom Booth Models\nFAQ\nAbout Southern Connecticut Home & Garden Show 2026\nSouthern Connecticut Home & Garden Show 2026 booth rental is your gateway to capturing attention at this premier home improvement event. Scheduled from January 23–25\, 2026\, join us at the Earth Expo & Convention Center at Mohegan Sun located at 1 Mohegan Sun Boulevard Uncasville\, CT 06382\, USA. Attendees will gain invaluable insights and networking opportunities tailored for various industries including Home Show\, Decoration\, Home & Office Design\, Furniture\, Lighting\, Kitchen & Bathroom\, Renewal – Renovations\, Household Appliances – Domestic Appliance Technology\, Heating – Air Conditioning\, Gardening\, Swimming Pool\, Sauna & Spa. Don’t miss this chance to showcase your services and products effectively! \nKey Details:\nDate: January 23–25\, 2026\nLocation: Earth Expo & Convention Center at Mohegan Sun\nAddress: 1 Mohegan Sun Boulevard Uncasville\, CT 06382\, USA \nVenue & Location\nThe Earth Expo & Convention Center at Mohegan Sun is perfectly situated for convenient access\, equipped with essential event logistics. Exhibitors can benefit from ample move-in windows and dock access\, ensuring smooth setup for your displays. If you need assistance\, feel free to reach out through the provided contact options. \nUncasville CT: Our Services\nIn Uncasville CT\, we DESIGN\, PRODUCE\, INSTALL & DISMANTLE turnkey booth rentals. Our mission is to provide custom solutions tailored to your needs\, encompassing concept/design\, modular frames\, branded SEG graphics\, reception/storage\, TV mounts\, and on-site installation and dismantling. We aim to make your presence impactful and ensure that you leave a memorable impression. \nCustom Booth Models\nExplore our Snap Exhibitions Custom Booth Models\, specifically tailored for our clientele. We feature popular footprints\, including: \n\n10×10: Ideal for small spaces while making a big impact. Great for exhibitors who are focused on targeted interactions.\n10×20: This versatile option allows for enhanced visibility and engagement\, perfect for brands aiming for exposure in crowded settings.\n20×20: An expansive structure designed for larger exhibits\, suitable for comprehensive displays and product showcasing.\n\nEnhance your exhibition experience with our full-service exhibit support\, ensuring all elements of your exhibit come together seamlessly. For queries and personalized services\, contact our team. \nFAQ\n\nWhat is Southern Connecticut Home & Garden Show 2026 booth rental?\nSouthern Connecticut Home & Garden Show 2026 booth rental provides exhibitors with the opportunity to showcase their brands and engage with potential customers effectively during the event.\nWhat are the event hours of the Southern Connecticut Home & Garden Show 2026?\nThe event runs from January 23–25\, 2026\, from 10:00 AM to 6:00 PM. Be sure to check the schedule for any time changes.\nWhat are recommended booth sizes for home improvement sectors?\nWe recommend sizes such as 10×10 for smaller displays\, while 10×20 and 20×20 work great for those seeking more visibility and engagement space.\nWhy is an aluminum booth better than wood?\nAluminum is lighter\, more durable\, and offers a sleek modern aesthetic. It is easier to transport and install\, which is ideal for shows.\nWhat are some attractions of Uncasville?\nUncasville is home to various attractions\, including the Mohegan Sun Resort\, offering entertainment\, dining\, and shopping experiences.\nCan attendees expect networking opportunities at Southern Connecticut Home & Garden Show?\nAbsolutely! This event attracts professionals and decision-makers across relevant sectors\, making it an excellent venue for networking.\nHow can SNAP EXHIBITIONS help make everything perfect about their booth?\nWe provide expert guidance throughout the entire booth rental process\, ensuring that every detail is addressed to maximize your impact at the show.\n\nEnsure a successful presentation at the Southern Connecticut Home & Garden Show 2026 booth rental! Reach out to Snap Exhibitions today to contact our team.
URL:https://iwf2026.com/event/southern-connecticut-home-garden-show-2026/
CATEGORIES:Decoration,Furniture,Gardening,Heating - Air Conditioning,Home & Office Design,Home Show,Household Appliances - Domestic Appliance Technology,Kitchen & Bathroom,Lighting,Renewal - Renovations,Sauna & Spa,Swimming Pool
END:VEVENT
END:VCALENDAR