BEGIN:VCALENDAR
VERSION:2.0
PRODID:-//IWF 2026 Atlanta — Local Booth Builder &amp; Rentals - ECPv6.15.13.1//NONSGML v1.0//EN
CALSCALE:GREGORIAN
METHOD:PUBLISH
X-ORIGINAL-URL:https://iwf2026.com
X-WR-CALDESC:Events for IWF 2026 Atlanta — Local Booth Builder &amp; Rentals
REFRESH-INTERVAL;VALUE=DURATION:PT1H
X-Robots-Tag:noindex
X-PUBLISHED-TTL:PT1H
BEGIN:VTIMEZONE
TZID:UTC
BEGIN:STANDARD
TZOFFSETFROM:+0000
TZOFFSETTO:+0000
TZNAME:UTC
DTSTART:20250101T000000
END:STANDARD
END:VTIMEZONE
BEGIN:VEVENT
DTSTART;TZID=UTC:20260314T090000
DTEND;TZID=UTC:20260315T235959
DTSTAMP:20260419T155957
CREATED:20251023T170824Z
LAST-MODIFIED:20251023T170824Z
UID:26137-1773478800-1773619199@iwf2026.com
SUMMARY:WESTERN NE HOME SHOW 2026
DESCRIPTION:WESTERN NE HOME SHOW 2026 — Exhibitor Guide & Custom Booth Options\nAbout WESTERN NE HOME SHOW 2026\nVenue & Location\nDanbury CT: Our Services\nCustom Booth Models\nFAQ\nAre you looking for premium WESTERN NE HOME SHOW 2026 booth rental options? You’re in the right place! This comprehensive guide summarizes everything you need to create an impactful presence at the upcoming home improvement event. The Western New England Home Show\, taking place from Nov 11-13\, showcases leading products and services for those planning to remodel or renovate their homes. Attendees can discover innovative solutions in home design\, decor\, and improvements. \nAbout WESTERN NE HOME SHOW 2026\nThe WESTERN NE HOME SHOW 2026 focuses heavily on various categories such as Home Show\, Decoration\, Home & Office Design\, Furniture\, Lighting\, Kitchen & Bathroom\, Renewal – Renovations\, Household Appliances – Domestic Appliance Technology\, Heating – Air Conditioning\, Gardening\, Swimming Pool\, Sauna & Spa. Whether you are seeking new ideas or connections with top vendors\, this event is a must-attend. Key Details: \n\nDates: Nov 11-13\, 10:00 AM–6:00 PM\nLocation: OíNeill Center\, 43 Lake Ave Ext\, Danbury\, CT 06811\, USA\nCountry: United States\n\nVenue & Location\nThe OíNeill Center at 43 Lake Ave Ext is a prime venue for the WESTERN NE HOME SHOW 2026. Conveniently located in Danbury\, CT\, it offers essential logistics like loading docks and ample space for exhibitors. If you have inquiries\, feel free to reach out at any available contact number. \nDanbury CT: Our Services\nAt Snap Exhibitions\, we DESIGN\, PRODUCE\, INSTALL & DISMANTLE turnkey booth rentals in Danbury\, CT. Our services include concept design\, modular frames\, branded SEG graphics\, reception and storage solutions. With our innovative booth designs\, we ensure your presence stands out. \nCustom Booth Models\nWe offer a variety of footprint options tailored for the audience attending the WESTERN NE HOME SHOW 2026. Our most popular configurations include: \n\n10×10 booths: Ideal for individual vendors\, allowing enough space for product displays.\n10×20 booths: Perfect for those who need multiple product showcases.\n20×20 booths: Designed for businesses looking to create an expansive presence.\n\nDiscover our detailed options through our Snap Exhibitions Custom Booth Models page. \nIn addition\, we provide full-service exhibit support tailored to your needs. For more inquiries\, contact our team for personalized assistance. \nFAQ\nWhat is the WESTERN NE HOME SHOW 2026 booth rental?It is a superior option for exhibitors looking to make a significant impact at the event! \nWhat are the event hours on Nov 11-13?10:00 AM to 6:00 PM each day. \nWhat recommended booth sizes are ideal for home show exhibitors?Common sizes are 10×10 for intimate displays\, with 10×20 and 20×20 suites providing ample room for more extensive product showcases. \nWhy is an aluminum booth better than wood?Aluminum offers lightweight durability\, easier transport\, and a modern aesthetic compared to traditional wood booths. \nWhat resources are available in Danbury for attendees?This city boasts numerous amenities and services to enhance your visit during the event. \nHow can SNAP EXHIBITIONS ensure my booth stands out?We specialize in delivering high-quality\, customized booths that align with your vision and goals for exceptional exhibitor success. \nIn conclusion\, if you’re focused on securing a premium WESTERN NE HOME SHOW 2026 booth rental\, we at Snap Exhibitions are here to help! Visit us at contact our team for a consultation today!
URL:https://iwf2026.com/event/western-ne-home-show-2026/
CATEGORIES:Decoration,Furniture,Gardening,Heating - Air Conditioning,Home & Office Design,Home Show,Household Appliances - Domestic Appliance Technology,Kitchen & Bathroom,Lighting,Renewal - Renovations,Sauna & Spa,Swimming Pool
END:VEVENT
END:VCALENDAR