BEGIN:VCALENDAR
VERSION:2.0
PRODID:-//IWF 2026 Atlanta — Local Booth Builder &amp; Rentals - ECPv6.15.20//NONSGML v1.0//EN
CALSCALE:GREGORIAN
METHOD:PUBLISH
X-ORIGINAL-URL:https://iwf2026.com
X-WR-CALDESC:Events for IWF 2026 Atlanta — Local Booth Builder &amp; Rentals
REFRESH-INTERVAL;VALUE=DURATION:PT1H
X-Robots-Tag:noindex
X-PUBLISHED-TTL:PT1H
BEGIN:VTIMEZONE
TZID:UTC
BEGIN:STANDARD
TZOFFSETFROM:+0000
TZOFFSETTO:+0000
TZNAME:UTC
DTSTART:20240101T000000
END:STANDARD
END:VTIMEZONE
BEGIN:VEVENT
DTSTART;TZID=UTC:20251203T090000
DTEND;TZID=UTC:20251205T235959
DTSTAMP:20260423T223542
CREATED:20251022T211617Z
LAST-MODIFIED:20251022T211617Z
UID:25718-1764752400-1764979199@iwf2026.com
SUMMARY:INTERNATIONAL WORKBOAT SHOW 2025
DESCRIPTION:INTERNATIONAL WORKBOAT SHOW 2025 — Exhibitor Guide & Premium Booth Options\nAbout INTERNATIONAL WORKBOAT SHOW 2025\nINTERNATIONAL WORKBOAT SHOW 2025 booth rental is your gateway to engage directly with crucial decision-makers in the Shipping Engineering\, Port and Airport Industries\, Logistics & Transportation Engineering. Located at the famous Ernest N. Morial Convention Center in New Orleans\, this trade show promises to connect exhibitors with a diverse audience ranging from fleet owners to independent vessel operators and engineers. The event is designed for mutual benefit\, providing opportunities for collaboration\, sourcing\, and networking. \nThe event runs from December 2–4\, 2025\, daily from 9:00 AM to 5:00 PM. Location details include 900 Convention Center Blvd.\, New Orleans\, LA 70130\, USA. For more information\, visit the official website. \nIndustries & Audience: The show covers multiple sectors including Shipping Engineering\, Port and Airport Industries\, Logistics & Transportation Engineering. \nVenue & Location\nThe Ernest N. Morial Convention Center is centrally located in New Orleans\, providing ample space for exhibitors and smooth logistics for booth setup. While specific dock access and move-in windows are not provided\, the convention center is well-equipped for hosting large-scale events. \nNew Orleans\, LA: Our Services\nWe DESIGN\, PRODUCE\, INSTALL & DISMANTLE turnkey booth rentals in New Orleans\, LA. Our booth rental services include concept and design\, modular frames\, branded SEG graphics\, reception and storage areas\, TV mounts\, and on-site installation and dismantling. \nCustom Booth Models\nExplore our Snap Exhibitions Custom Booth Models. We offer popular booth sizes that cater to the needs of the industries represented at the INTERNATIONAL WORKBOAT SHOW 2025. Our solutions include: \n\n10×10 Booths: Ideal for startup exhibitors who want a compact footprint to showcase their services.\n10×20 Booths: Perfect for businesses looking to make a significant impact without overwhelming space.\n20×20 Booths: Suitable for larger teams wanting to display a wide array of products and services.\n\nImagine a booth designed specifically for the Shipping Engineering sector\, allowing attendees to engage deeply with your offerings. For full-service exhibit support\, visit this link. \nFAQ\n1. What is the INTERNATIONAL WORKBOAT SHOW 2025 booth rental?It is an opportunity to showcase your business at the premier event for marine trade professionals. \n2. When does the INTERNATIONAL WORKBOAT SHOW 2025 take place?The event runs from December 2–4\, 2025\, from 9:00 AM to 5:00 PM. \n3. What booth sizes do you recommend for the Shipping Engineering sector?Consider a 10×10 or 10×20 booth\, which effectively highlights your key offerings while allowing space for engagement. \n4. Why is an aluminum booth better than wood?Aluminum booths are more durable\, lightweight\, and easier to transport\, offering a modern aesthetic for exhibitions. \n5. What distinguishes New Orleans as a trade show venue?New Orleans combines vibrant culture with excellent facilities\, providing a unique backdrop for a trade show. \n6. How can SNAP EXHIBITIONS help ensure my booth is perfect?We tailor our services to meet your needs\, ensuring a seamless experience from design to installation. \n7. What should I know about the location of the INTERNATIONAL WORKBOAT SHOW 2025?New Orleans offers great accessibility and amenities to support both exhibitors and attendees. \nIn conclusion\, the INTERNATIONAL WORKBOAT SHOW 2025 booth rental is your chance to make a mark in your field. Don’t miss out on connecting with key players in the industry. For a seamless experience and to ensure everything is perfect about your setup\, contact our team today!
URL:https://iwf2026.com/event/international-workboat-show-2025/
CATEGORIES:Logistics & Transportation Engineering - Handling Operations - Storage,Port and Airport Industries,Shipping Engineering,Subcontracting,Suppliers & Partners
END:VEVENT
END:VCALENDAR