BEGIN:VCALENDAR
VERSION:2.0
PRODID:-//IWF 2026 Atlanta — Local Booth Builder &amp; Rentals - ECPv6.15.20//NONSGML v1.0//EN
CALSCALE:GREGORIAN
METHOD:PUBLISH
X-ORIGINAL-URL:https://iwf2026.com
X-WR-CALDESC:Events for IWF 2026 Atlanta — Local Booth Builder &amp; Rentals
REFRESH-INTERVAL;VALUE=DURATION:PT1H
X-Robots-Tag:noindex
X-PUBLISHED-TTL:PT1H
BEGIN:VTIMEZONE
TZID:UTC
BEGIN:STANDARD
TZOFFSETFROM:+0000
TZOFFSETTO:+0000
TZNAME:UTC
DTSTART:20240101T000000
END:STANDARD
END:VTIMEZONE
BEGIN:VEVENT
DTSTART;TZID=UTC:20260413T090000
DTEND;TZID=UTC:20260416T235959
DTSTAMP:20260424T092027
CREATED:20251023T082711Z
LAST-MODIFIED:20251023T082711Z
UID:26047-1776070800-1776383999@iwf2026.com
SUMMARY:SEATRADE CRUISE GLOBAL 2026
DESCRIPTION:Miami booth rental for SEATRADE CRUISE GLOBAL 2026 — Ultimate Exhibitor Guide\nAbout SEATRADE CRUISE GLOBAL 2026\nMiami booth rental for SEATRADE CRUISE GLOBAL 2026 is your entry point to a significant event in the cruise industry. Scheduled from Dec 7–10\, 2026\, 9:00 AM–5:00 PM at the Miami Beach Convention Center\, 1901 Convention Center Drive\, United States\, this international exhibition and conference focuses on networking\, sourcing\, and education. Visitors will connect with suppliers and buyers\, enhancing their business opportunities in the vibrant sector. \n\nKey Details:\nDate: Dec 7–10\, 2026\nLocation: Miami Beach Convention Center\nAddress: 1901 Convention Center Drive\, United States\n\nThis year\, attendees from diverse sectors like Tourism – Travel\, Catering & Hospitality Industries\, Shipping Engineering will experience innovative solutions and establish valuable connections. \nVenue & Location\nThe event will be hosted at the Miami Beach Convention Center\, located at 1901 Convention Center Drive\, United States. The venue is equipped for smooth logistics\, including convenient access for exhibitors and their displays. \nTo learn more about the event\, please visit the official site. \nMiami FL: Our Services\nIn Miami FL\, we DESIGN\, PRODUCE\, INSTALL & DISMANTLE turnkey booth rentals. Our offerings include concept/design\, modular frames\, branded SEG graphics\, reception/storage solutions\, and TV mounts\, ready for your next big exhibition! \nCustom Booth Models\nWe offer a range of Snap Exhibitions Custom Booth Models to cater to different needs. Popular booth footprints include: \n\n10×10 booth: Ideal for small exhibitors seeking to maximize exposure without overwhelming attendees.\n10×20 booth: Perfect for those looking to engage visitors in a concise space.\n20×20 booth: Provides ample space for larger presentations or interactive experiences\, ideal for attendees in multiple sectors.\n\nWe ensure our booths are tailored to fit the exhibitors’ needs while providing full-service exhibit support for a hassle-free experience. \nContact us to explore how we can assist with your booth setup: contact our team. \nFAQ\n\nWhat is Miami booth rental for SEATRADE CRUISE GLOBAL 2026? It is a rental service providing tailored booths for the SEATRADE CRUISE GLOBAL event in Miami.\nWhat are the hours for SEATRADE CRUISE GLOBAL 2026? The event takes place from Dec 7–10\, 2026\, from 9:00 AM to 5:00 PM.\nWhat booth sizes do you recommend for tourism sectors? We suggest starting with a 10×10 for small displays or a 20×20 for larger presentations to appeal to visitors.\nWhy are aluminum booths better than wood? Aluminum offers lighter weight\, easier transport\, and greater flexibility in design than wood booths.\nWhat unique features does the Miami Beach Convention Center offer? The venue is centrally located with extensive facilities catering to large exhibitions and conferences.\nHow can SNAP EXHIBITIONS assist in making a perfect booth? Our comprehensive services streamline the design and setup process\, ensuring a professional approach to exhibiting.\n\nFor Miami booth rental for SEATRADE CRUISE GLOBAL 2026\, choose us for an impactful presence at the event. Contact our team today to start planning your showcase!
URL:https://iwf2026.com/event/seatrade-cruise-global-2026/
CATEGORIES:Catering & Hospitality Industries,Shipping Engineering,Tourism - Travel
END:VEVENT
BEGIN:VEVENT
DTSTART;TZID=UTC:20260303T090000
DTEND;TZID=UTC:20260305T235959
DTSTAMP:20260424T092027
CREATED:20251022T211547Z
LAST-MODIFIED:20251022T211547Z
UID:25717-1772528400-1772755199@iwf2026.com
SUMMARY:SUBSEA TIEBACK FORUM 2026
DESCRIPTION:SUBSEA TIEBACK FORUM 2026 booth rental — Ultimate Exhibitor Guide & Custom Booth Options\nAbout SUBSEA TIEBACK FORUM 2026\nVenue & Location\nNew Orleans LA: Our Services\nCustom Booth Models\nFAQ\nAbout SUBSEA TIEBACK FORUM 2026\nSUBSEA TIEBACK FORUM 2026 booth rental provides a prime opportunity for exhibitors to showcase their innovations in subsea technology. This event attracts professionals from the Shipping Engineering\, Oil & Gas industries\, offering a platform for learning and networking. Attendees will gain insights into the latest advancements and engage with industry leaders. \n\nKey Details:\nDates: Mar 28–30\, 2026\nLocation: Ernest N. Morial Convention Center\, 900 Convention Center Blvd. New Orleans\, LA 70130\, USA\n\nThe SUBSEA TIEBACK FORUM 2026 is designed to cater to professionals eager to collaborate and grow in the field\, ensuring valuable takeaways for all participants. \nIndustries & Audience: Shipping Engineering\, Oil & Gas \nVenue & Location\nThe event will take place at the Ernest N. Morial Convention Center\, located at 900 Convention Center Blvd. New Orleans\, LA 70130\, USA. This venue offers excellent logistics for exhibitors\, allowing easy access and a spacious area to engage your audience. While specific details such as dock access are not provided\, we assure you that the venue is equipped to handle large-scale events. \nIf you have any questions\, feel free to reach out via the phone provided on the venue’s contact page. \nNew Orleans LA: Our Services\nWe proudly DESIGN\, PRODUCE\, INSTALL & DISMANTLE turnkey booth rentals in New Orleans. Our services encompass concept design\, modular frames\, branded SEG graphics\, reception/storage space\, TV mounts\, and on-site installation & dismantling to ensure a hassle-free experience. \nCustom Booth Models\nAt this event\, we offer various booth sizes to fit any exhibitor’s needs. Popular options include: \n\n10×10 booths — Ideal for small businesses wanting a compact presence.\n10×20 booths — Perfect for those needing additional space to display products.\n20×20 booths — Excellent for companies looking to make a bold statement.\n\nEach model is strategically designed to cater to the specific sectors of the Shipping Engineering and Oil & Gas industries. For comprehensive support\, explore our full-service exhibit support. \nFAQ\n\nWhat is SUBSEA TIEBACK FORUM 2026 booth rental?\nWe offer customizable booth options tailored to your company’s needs during the SUBSEA TIEBACK FORUM 2026.\nWhat are the dates and hours of the event?\nThe event will be held from Mar 28 to Mar 30\, 2026. Hours are generally from 9:00 AM to 5:00 PM\, but please check the official schedule closer to the event date.\nWhat booth size do you recommend for exhibitors in the Oil & Gas sector?\nWe recommend starting with a 10×20 booth for showcasing products effectively or a 20×20 booth if you require more extensive space.\nWhy is an aluminum booth better than wood?\nAluminum booths are more lightweight\, easy to assemble\, and offer modern aesthetics compared to traditional wood booths.\nWhat advantages does New Orleans offer for trade shows?\nNew Orleans has a vibrant atmosphere and diverse audience\, making it a great place for industry networking.\nWhat can I expect at SUBSEA TIEBACK FORUM 2026?\nExpect a comprehensive experience with opportunities to engage with leaders in subsea technology and gain valuable insights into industry advancements.\nHow can SNAP EXHIBITIONS help make everything perfect about my booth?\nWe provide complete support from concept to execution\, ensuring your booth stands out and meets all your needs. Feel free to contact our team for more information!\n\nFinal Thoughts\nSUBSEA TIEBACK FORUM 2026 booth rental offers a prime platform to showcase innovations within the subsea technology industry. Whether you seek to connect with potential clients or display your products innovatively\, we can provide the ultimate turnkey booth rentals to meet your needs. Don’t hesitate to contact our team today!
URL:https://iwf2026.com/event/subsea-tieback-forum-2026/
CATEGORIES:Oil & Gas,Shipping Engineering
END:VEVENT
BEGIN:VEVENT
DTSTART;TZID=UTC:20251203T090000
DTEND;TZID=UTC:20251205T235959
DTSTAMP:20260424T092027
CREATED:20251022T211617Z
LAST-MODIFIED:20251022T211617Z
UID:25718-1764752400-1764979199@iwf2026.com
SUMMARY:INTERNATIONAL WORKBOAT SHOW 2025
DESCRIPTION:INTERNATIONAL WORKBOAT SHOW 2025 — Exhibitor Guide & Premium Booth Options\nAbout INTERNATIONAL WORKBOAT SHOW 2025\nINTERNATIONAL WORKBOAT SHOW 2025 booth rental is your gateway to engage directly with crucial decision-makers in the Shipping Engineering\, Port and Airport Industries\, Logistics & Transportation Engineering. Located at the famous Ernest N. Morial Convention Center in New Orleans\, this trade show promises to connect exhibitors with a diverse audience ranging from fleet owners to independent vessel operators and engineers. The event is designed for mutual benefit\, providing opportunities for collaboration\, sourcing\, and networking. \nThe event runs from December 2–4\, 2025\, daily from 9:00 AM to 5:00 PM. Location details include 900 Convention Center Blvd.\, New Orleans\, LA 70130\, USA. For more information\, visit the official website. \nIndustries & Audience: The show covers multiple sectors including Shipping Engineering\, Port and Airport Industries\, Logistics & Transportation Engineering. \nVenue & Location\nThe Ernest N. Morial Convention Center is centrally located in New Orleans\, providing ample space for exhibitors and smooth logistics for booth setup. While specific dock access and move-in windows are not provided\, the convention center is well-equipped for hosting large-scale events. \nNew Orleans\, LA: Our Services\nWe DESIGN\, PRODUCE\, INSTALL & DISMANTLE turnkey booth rentals in New Orleans\, LA. Our booth rental services include concept and design\, modular frames\, branded SEG graphics\, reception and storage areas\, TV mounts\, and on-site installation and dismantling. \nCustom Booth Models\nExplore our Snap Exhibitions Custom Booth Models. We offer popular booth sizes that cater to the needs of the industries represented at the INTERNATIONAL WORKBOAT SHOW 2025. Our solutions include: \n\n10×10 Booths: Ideal for startup exhibitors who want a compact footprint to showcase their services.\n10×20 Booths: Perfect for businesses looking to make a significant impact without overwhelming space.\n20×20 Booths: Suitable for larger teams wanting to display a wide array of products and services.\n\nImagine a booth designed specifically for the Shipping Engineering sector\, allowing attendees to engage deeply with your offerings. For full-service exhibit support\, visit this link. \nFAQ\n1. What is the INTERNATIONAL WORKBOAT SHOW 2025 booth rental?It is an opportunity to showcase your business at the premier event for marine trade professionals. \n2. When does the INTERNATIONAL WORKBOAT SHOW 2025 take place?The event runs from December 2–4\, 2025\, from 9:00 AM to 5:00 PM. \n3. What booth sizes do you recommend for the Shipping Engineering sector?Consider a 10×10 or 10×20 booth\, which effectively highlights your key offerings while allowing space for engagement. \n4. Why is an aluminum booth better than wood?Aluminum booths are more durable\, lightweight\, and easier to transport\, offering a modern aesthetic for exhibitions. \n5. What distinguishes New Orleans as a trade show venue?New Orleans combines vibrant culture with excellent facilities\, providing a unique backdrop for a trade show. \n6. How can SNAP EXHIBITIONS help ensure my booth is perfect?We tailor our services to meet your needs\, ensuring a seamless experience from design to installation. \n7. What should I know about the location of the INTERNATIONAL WORKBOAT SHOW 2025?New Orleans offers great accessibility and amenities to support both exhibitors and attendees. \nIn conclusion\, the INTERNATIONAL WORKBOAT SHOW 2025 booth rental is your chance to make a mark in your field. Don’t miss out on connecting with key players in the industry. For a seamless experience and to ensure everything is perfect about your setup\, contact our team today!
URL:https://iwf2026.com/event/international-workboat-show-2025/
CATEGORIES:Logistics & Transportation Engineering - Handling Operations - Storage,Port and Airport Industries,Shipping Engineering,Subcontracting,Suppliers & Partners
END:VEVENT
BEGIN:VEVENT
DTSTART;TZID=UTC:20251104T090000
DTEND;TZID=UTC:20251106T235959
DTSTAMP:20260424T092027
CREATED:20251022T215001Z
LAST-MODIFIED:20251022T215001Z
UID:25750-1762246800-1762473599@iwf2026.com
SUMMARY:DEEPWATER OPERATIONS 2025
DESCRIPTION:Deepwater Operations 2025 Booth Rental — Essential Exhibitor Guide\nAbout Deepwater Operations 2025\nDeepwater Operations 2025 Booth Rental is your key to success. This premier event is designed for the Oil & Gas\, Shipping Engineering industries\, providing a unique platform to connect with key decision-makers worldwide. From September 1 to September 3\, explore essential offerings\, engage with other professionals\, and gain insights to enhance your business strategy. \n\nKey Details:\nSeptember 1–3\nGalveston Island Convention Center\nGalveston Island\, Texas\, USA\n\nAt the conference\, attendees will enjoy insightful discussions\, networking opportunities\, and opportunities to showcase their products and services. Don’t miss the chance to be a part of this impactful event. \nVenue & Location\nThe Galveston Island Convention Center in Galveston Island\, Texas\, provides an excellent venue for tradeshow events. With ample parking and easy access for both attendees and exhibitors\, the center is well-equipped for industry gatherings. Make the most of your move-in windows and enjoy seamless logistics as we handle the details for you. \nFor inquiries\, you can reach out via phone. \nGalveston Island: Our Services\nWe DESIGN\, PRODUCE\, INSTALL & DISMANTLE turnkey booth rentals in Galveston Island\, Texas. Our services encompass everything from concept and design to modular frames and branded SEG graphics\, ensuring your booth stands out. We also provide essential reception/storage options and TV mounts for an engaging exhibition experience. \nCustom Booth Models\nExplore our diverse offerings like the Snap Exhibitions Custom Booth Models. Popular footprints such as 10×10\, 10×20\, and 20×20 offer flexible solutions to fit various exhibit spaces. Each design aligns perfectly with the dynamic needs of attendees in the Oil & Gas\, Shipping Engineering sectors. Our full-service exhibit support ensures you maximize your presence and impact at the show. \nIf you are interested in enhancing your exhibition experience\, contact our team to discuss your requirements for the Deepwater Operations 2025 event! \nFAQ\n\nWhat is Deepwater Operations 2025 booth rental?\nDeepwater Operations 2025 booth rental provides exhibitors with customized spaces to showcase their offerings effectively at the convention.\nWhat are the event hours for Deepwater Operations 2025?\nThe event runs from September 1 to September 3\, typically from 9:00 AM to 5:00 PM.\nWhat recommended booth sizes suit the Oil & Gas sector?\nBooth sizes like 10×20 and 20×20 are popular for the Oil & Gas sector to ensure ample space for displays and engagement.\nWhy is an aluminum booth better than wood?\nAluminum booths are lighter\, more durable\, and easier to transport compared to wooden booths\, making them a practical choice for exhibitions.\nWhat should I know about Galveston Island?\nGalveston Island is known for its rich heritage and stunning waterfront\, making it an attractive destination for business and leisure.\nWhat benefits does Deepwater Operations 2025 offer exhibitors?\nThe event connects you with industry leaders\, provides insights\, and allows for dynamic networking opportunities.\nHow can Snap Exhibitions help me make everything perfect about my booth?\nWe are here to provide end-to-end support\, ensuring your exhibit not only meets but exceeds industry standards.\n\nDeepwater Operations 2025 booth rental gives you access to essential exhibitor resources. For a seamless experience at the event\, don’t hesitate to contact our team today!
URL:https://iwf2026.com/event/deepwater-operations-2025/
CATEGORIES:Oil & Gas,Shipping Engineering
END:VEVENT
BEGIN:VEVENT
DTSTART;TZID=UTC:20250908T090000
DTEND;TZID=UTC:20250911T235959
DTSTAMP:20260424T092027
CREATED:20251023T171910Z
LAST-MODIFIED:20251023T171910Z
UID:26158-1757322000-1757635199@iwf2026.com
SUMMARY:CAMX 2025
DESCRIPTION:CAMX 2025 booth rental — Essential Exhibitor Guide & Custom Booth Options\nTable of Contents\n\nAbout CAMX 2025\nVenue & Location\nOrlando FL: Our Services\nCustom Booth Models\nFAQ\n\nCAMX 2025 — About CAMX 2025\nCAMX 2025 booth rental is here to help exhibitors maximize their impact at the largest composites and advanced materials event in North America. This premier expo in Orlando is where innovators gather for networking and showcasing cutting-edge technologies. Attendees will gain insights into the latest trends across various sectors including Plastics\, Rubber\, Composites\, Mould & Die\, Advanced Materials\, Aeronautics – Space\, and Automotive Engineering. You won’t want to miss the opportunity to connect with industry leaders. \nKey Details:September 8–10\, 2025\, 9:00 AM–5:00 PM\, Orange County Convention Center\, 9800 International Drive\, Orlando\, FL 32819\, United States. More information can be found at CAMX website. \nVenue & Location\nCAMX 2025 will be held at the Orange County Convention Center\, located at 9800 International Drive\, Orlando\, FL. This venue is well-suited for logistics and features ample docking access for ease of setup. \nOrlando FL: Our Services\nIn Orlando FL\, we DESIGN\, PRODUCE\, INSTALL & DISMANTLE turnkey booth rentals. Our services cover the full scope of your exhibit needs\, including concept and design\, modular frames\, branded SEG graphics\, reception and storage areas\, TV mounts\, and on-site installation and dismantling. This ensures your booth stands out at CAMX 2025. \nCustom Booth Models\nExplore our various Snap Exhibitions Custom Booth Models tailored for industry sectors represented at CAMX 2025. Popular footprints include 10×10\, 10×20\, and 20×20 layouts\, which provide effective engagement opportunities for businesses in the exhibit hall. Our offerings are designed to fit within the requirements of the Plastics\, Composites\, and Automotive sectors while making a significant impact. \nWe also offer full-service exhibit support to ensure every aspect of your booth is covered. To get started on your perfect exhibition space\, contact our team today. \nFAQ\n\nWhat is CAMX 2025 booth rental?CAMX 2025 booth rental offers custom options for exhibitors looking to stand out at the event.\nWhat are the event hours for CAMX 2025?CAMX 2025 runs from September 8–10\, 2025\, from 9:00 AM to 5:00 PM each day.\nWhat booth sizes are recommended for exhibitors in the automotive and aerospace sectors?We recommend 10×20 or 20×20 booths for maximum engagement without overwhelming visitors.\nWhy is an aluminum booth better than wood?Aluminum booths are lighter\, more durable\, and provide a modern aesthetic\, reducing shipping costs and installation time.\nWhat should I know about Orlando when attending CAMX 2025?Orlando offers excellent amenities\, transport links\, and entertainment options\, making it a great city for professionals.\nWhat are the benefits of attending CAMX 2025?Attendees gain insights\, network with industry leaders\, and explore innovations in materials technology.\nHow can Snap Exhibitions help me perfect my booth?We offer a comprehensive suite of services ensuring your booth is designed\, built\, and managed seamlessly.\n\nIn conclusion\, if you are looking for a top-notch CAMX 2025 booth rental\, we provide essential solutions tailored to your needs. Contact us today to explore how we can elevate your presence at this major event!
URL:https://iwf2026.com/event/camx-2025/
CATEGORIES:Advanced Materials,Aeronautics - Space,Automotive Engineering - Systems & Components,Composites,Mould & Die,Plastics,Rubber,Shipping Engineering
END:VEVENT
END:VCALENDAR