BEGIN:VCALENDAR
VERSION:2.0
PRODID:-//IWF 2026 Atlanta — Local Booth Builder &amp; Rentals - ECPv6.15.13.1//NONSGML v1.0//EN
CALSCALE:GREGORIAN
METHOD:PUBLISH
X-WR-CALNAME:IWF 2026 Atlanta — Local Booth Builder &amp; Rentals
X-ORIGINAL-URL:https://iwf2026.com
X-WR-CALDESC:Events for IWF 2026 Atlanta — Local Booth Builder &amp; Rentals
REFRESH-INTERVAL;VALUE=DURATION:PT1H
X-Robots-Tag:noindex
X-PUBLISHED-TTL:PT1H
BEGIN:VTIMEZONE
TZID:UTC
BEGIN:STANDARD
TZOFFSETFROM:+0000
TZOFFSETTO:+0000
TZNAME:UTC
DTSTART:20250101T000000
END:STANDARD
END:VTIMEZONE
BEGIN:VEVENT
DTSTART;TZID=UTC:20260320T090000
DTEND;TZID=UTC:20260322T235959
DTSTAMP:20260419T155424
CREATED:20251022T205956Z
LAST-MODIFIED:20251022T205956Z
UID:25683-1773997200-1774223999@iwf2026.com
SUMMARY:WORCESTER SPRING HOME SHOW 2026
DESCRIPTION:WORCESTER SPRING HOME SHOW 2026 — Exhibitor Guide & Custom Booth Options\nAbout WORCESTER SPRING HOME SHOW 2026\nWORCESTER SPRING HOME SHOW 2026 booth rental is your gateway to showcasing the latest trends in home improvement. This event caters to homeowners looking to remodel or renovate their spaces\, promising valuable insights and connections. Visitors will discover everything from furniture to lighting innovations\, while exhibitors can capitalize on prime networking opportunities. \nKey Details: Mar 14–16\, 2026; DCU Center\, 50 Foster Street\, Worcester\, MA\, USA. \nIndustries & Audience: Home Show\, Decoration\, Home & Office Design\, Furniture\, Lighting\, Kitchen & Bathroom\, Renewal – Renovations\, Household Appliances\, Heating – Air Conditioning\, Gardening\, Swimming Pool\, Sauna & Spa. \nVenue & Location\nThe event takes place at the DCU Center\, located at 50 Foster Street\, Worcester\, MA\, USA. This venue offers convenient logistics for exhibitors\, including centralized access for move-in and dock access for deliveries. \nWorcester MA: Our Services\nWe DESIGN\, PRODUCE\, INSTALL & DISMANTLE turnkey booth rentals in Worcester\, MA. Our services include concept design\, modular frame installations\, and branded SEG graphics tailored to catch the eye of your target audience. \nCustom Booth Models\nExplore our Snap Exhibitions Custom Booth Models. We provide layouts for popular footprints such as: \n\n10×10 feet: An ideal choice for first-timers to establish a presence.\n10×20 feet: Perfect for brands that need a little more space to showcase a wider array of products.\n20×20 feet: Best suited for businesses targeting customers in multiple categories\, offering maximum visibility.\n\nOur full-service exhibit support ensures that your booth is not just functional\, but also a visual emphasis within the expo\, drawing attention from attendees across the categories mentioned. \nFAQ\n\nWhat is the WORCESTER SPRING HOME SHOW 2026 booth rental?\nWORCESTER SPRING HOME SHOW 2026 booth rental provides a perfect platform for exhibitors to showcase their latest products and services in home improvement.\nWhen does the event take place?\nThe event is scheduled for March 14–16\, 2026.\nWhat booth sizes are recommended for home improvement sectors?\nWe suggest a 10×10 or 10×20 booth for optimal visibility and engagement.\nWhy is an aluminum booth better than wood?\nAluminum booths are lighter\, more durable\, and offer more design flexibility compared to traditional wooden structures.\nWhat amenities are available in Worcester?\nWorcester offers ample lodging and dining options\, ensuring a comfortable stay for exhibitors and visitors alike.\nHow can I learn more about the WORCESTER SPRING HOME SHOW?\nFor specific inquiries\, we recommend reaching out via our site.\nHow can SNAP EXHIBITIONS help make everything perfect for my booth?\nWe handle every aspect of setup\, ensuring your booth is ready to shine without any hassle. Our commitment is to provide you with a seamless experience.\n\nDon’t miss out on the opportunity to boost your presence with WORCESTER SPRING HOME SHOW 2026 booth rental. Reach out today to contact our team and elevate your home improvement showcase!
URL:https://iwf2026.com/event/worcester-spring-home-show-2026/
CATEGORIES:Decoration,Furniture,Gardening,Heating - Air Conditioning,Home & Office Design,Home Show,Household Appliances - Domestic Appliance Technology,Kitchen & Bathroom,Lighting,Renewal - Renovations,Sauna & Spa,Swimming Pool
END:VEVENT
END:VCALENDAR