BEGIN:VCALENDAR
VERSION:2.0
PRODID:-//IWF 2026 Atlanta — Local Booth Builder &amp; Rentals - ECPv6.15.20//NONSGML v1.0//EN
CALSCALE:GREGORIAN
METHOD:PUBLISH
X-WR-CALNAME:IWF 2026 Atlanta — Local Booth Builder &amp; Rentals
X-ORIGINAL-URL:https://iwf2026.com
X-WR-CALDESC:Events for IWF 2026 Atlanta — Local Booth Builder &amp; Rentals
REFRESH-INTERVAL;VALUE=DURATION:PT1H
X-Robots-Tag:noindex
X-PUBLISHED-TTL:PT1H
BEGIN:VTIMEZONE
TZID:UTC
BEGIN:STANDARD
TZOFFSETFROM:+0000
TZOFFSETTO:+0000
TZNAME:UTC
DTSTART:20250101T000000
END:STANDARD
END:VTIMEZONE
BEGIN:VEVENT
DTSTART;TZID=UTC:20260310T090000
DTEND;TZID=UTC:20260311T235959
DTSTAMP:20260425T215920
CREATED:20251023T190933Z
LAST-MODIFIED:20251023T190933Z
UID:26237-1773133200-1773273599@iwf2026.com
SUMMARY:SINGLE-SERVE CAPSULES NORTH AMERICA 2026
DESCRIPTION:SINGLE-SERVE CAPSULES NORTH AMERICA 2026 — Exhibitor Guide & Ultimate Booth Options\nAbout SINGLE-SERVE CAPSULES NORTH AMERICA 2026\nVenue & Location\nTampa FL: Our Services\nCustom Booth Models\nFAQ\nAbout SINGLE-SERVE CAPSULES NORTH AMERICA 2026\nWelcome to SINGLE-SERVE CAPSULES NORTH AMERICA 2026\, a premier event dedicated to exploring the latest innovations in the single-serve capsule industry. This congress will delve into identifying opportunities and overcoming obstacles that exhibitors and visitors alike face in the rapidly evolving market. \n\nKey Details:\nDates: 2026 (exact dates)\nLocation: Renaissance Tampa International Plaza Hotel\nAddress: 4200 Jim Walter Blvd\, Tampa\, FL 33607\, USA\nIndustry: Plastics\, Rubber\, Composites\, Waste Management – Recycling\, Environmental Protection\, Coffee\, Tea & Chocolate\n\nVenue & Location\nThe SINGLE-SERVE CAPSULES NORTH AMERICA 2026 will be held at the Renaissance Tampa International Plaza Hotel\, located conveniently at 4200 Jim Walter Blvd\, Tampa\, FL 33607\, USA. The venue is equipped with excellent logistics\, providing easy access and move-in options for all exhibitors. \nIf you have questions\, you can reach out via phone. For more detailed information\, please feel free to visit the event website. \nTampa FL: Our Services\nIn Tampa\, we DESIGN\, PRODUCE\, INSTALL & DISMANTLE turnkey booth rentals. Our comprehensive services include concept design\, modular frames\, branded SEG graphics\, reception/storage areas\, and TV mounting options. We ensure that your exhibit stands out at events. \nCustom Booth Models\nWe offer various popular booth footprints such as: \n\n10×10 Booths: Ideal for startups looking to establish a presence.\n10×20 Booths: Perfect for medium-sized exhibitors wanting more space for interaction.\n20×20 Booths: Suitable for larger companies\, providing ample room for demonstrations.\n\nExplore our offerings ranging from the Snap Exhibitions Custom Booth Models to our full-service exhibit support. For tailored solutions\, contact our team. \nFAQ\n\nWhat is the focus of SINGLE-SERVE CAPSULES NORTH AMERICA 2026?This congress focuses on the latest developments in single-serve capsules.\nWhen is the show?The event will take place on the designated dates in 2026.\nWhat recommended booth sizes are suitable for the plastics industry?We recommend 10×10 and 10×20 booths for effective engagement.\nWhy are aluminum booths better than wood?Aluminum booths are lighter\, more durable\, and easier to transport compared to wood.\nWhat can you share about Tampa?Tampa is a vibrant city with numerous attractions\, making it an excellent location for trade shows.\nHow can SNAP EXHIBITIONS help with my booth?We provide comprehensive solutions to ensure your booth meets all your requirements.\nWhat options do I have for booth rental at SINGLE-SERVE CAPSULES NORTH AMERICA 2026?We offer a variety of turnkey booth rental services tailored to your needs.\n\nMake sure your participation at SINGLE-SERVE CAPSULES NORTH AMERICA 2026 is impactful. Reach out today for premium booth rental options tailored to your needs and contact our team to get started!
URL:https://iwf2026.com/event/single-serve-capsules-north-america-2026/
CATEGORIES:Coffee,Composites,Environmental Protection,Plastics,Rubber,Tea & Chocolate,Waste Management - Recycling
END:VEVENT
END:VCALENDAR