BEGIN:VCALENDAR
VERSION:2.0
PRODID:-//IWF 2026 Atlanta — Local Booth Builder &amp; Rentals - ECPv6.15.13.1//NONSGML v1.0//EN
CALSCALE:GREGORIAN
METHOD:PUBLISH
X-WR-CALNAME:IWF 2026 Atlanta — Local Booth Builder &amp; Rentals
X-ORIGINAL-URL:https://iwf2026.com
X-WR-CALDESC:Events for IWF 2026 Atlanta — Local Booth Builder &amp; Rentals
REFRESH-INTERVAL;VALUE=DURATION:PT1H
X-Robots-Tag:noindex
X-PUBLISHED-TTL:PT1H
BEGIN:VTIMEZONE
TZID:UTC
BEGIN:STANDARD
TZOFFSETFROM:+0000
TZOFFSETTO:+0000
TZNAME:UTC
DTSTART:20250101T000000
END:STANDARD
END:VTIMEZONE
BEGIN:VEVENT
DTSTART;TZID=UTC:20260507T090000
DTEND;TZID=UTC:20260509T235959
DTSTAMP:20260423T125504
CREATED:20251023T193029Z
LAST-MODIFIED:20251023T193029Z
UID:26289-1778144400-1778371199@iwf2026.com
SUMMARY:ALSMS ANNUAL CONFERENCE ON ENERGY-BASED MEDICINE & SCIENCE 2026
DESCRIPTION:ALSMS ANNUAL CONFERENCE ON ENERGY-BASED MEDICINE & SCIENCE 2026 — Exhibitor Guide & Essential Options\nAbout ALSMS ANNUAL CONFERENCE ON ENERGY-BASED MEDICINE & SCIENCE 2026\nALSMS ANNUAL CONFERENCE ON ENERGY-BASED MEDICINE & SCIENCE 2026 is the premier event for those engaged in biomedical application of lasers and energy-based technologies. This conference brings together leaders in medical and surgical equipment\, laboratory technologies\, and health professionals to delve into advancements that enhance patient care. Attendees gain valuable insights\, networking opportunities\, and access to the latest innovations that can transform their practices. \nKey Details: \n\nDates: January 31 – February 3\, 2026\nLocation: Savannah\, GA\, USA\n\nThe focus areas for this event include Equipments & Technologies for Medical and Surgery\, Laboratory Equipment & Technologies\, Health Professionals\, Optoelectronics. For more insights and details\, visit our website. \nVenue & Location\nThe ALSMS ANNUAL CONFERENCE will take place in Savannah\, GA\, in a venue easily accessible for exhibitors and attendees. Central access allows for seamless transition during the event\, with ample space for logistics and setup. If you have any questions\, feel free to call us at {Phone}. \nSavannah\, GA: Our Services\nWe DESIGN\, PRODUCE\, INSTALL & DISMANTLE turnkey booth rentals in Savannah\, GA. Our services cover everything from concept and design to modular frames\, branded SEG graphics\, reception/storage areas\, TV mounts\, and on-site installation and dismantling. We ensure that your participation at the ALSMS ANNUAL CONFERENCE is a success. \nCustom Booth Models\nIn line with your exhibition goals\, we provide various popular booth sizes that cater specifically to the audience within the health and medical sectors. Our most popular footprints include: \n\n10×10 — Ideal for individual practitioners showcasing innovative medical technologies.\n10×20 — Perfect for small teams to attract attention while providing ample information.\n20×20 — Allows larger organizations to heavily invest in their presence\, displaying comprehensive services.\n\nFor more options\, check our Snap Exhibitions Custom Booth Models. We offer full-service exhibit support and invite you to contact our team for tailored solutions. \nFAQ\n\nWhat is the focus of the ALSMS ANNUAL CONFERENCE ON ENERGY-BASED MEDICINE & SCIENCE 2026?\nHow can I find the dates and hours of this event?  The conference runs from January 31 to February 3\, 2026.\nWhat booth sizes are recommended for Exhibitions focusing on medical equipment and technology?  A 10×10 booth is great for individuals\, while 10×20 and 20×20 are good for broader representations.\nWhy is an aluminum booth better than wood?  Aluminum booths are lighter\, more durable\, and easier to assemble than wooden structures.\nWhat services does Savannah\, GA offer during the conference? \nWhat can I expect from the ALSMS ANNUAL CONFERENCE in Savannah? \nHow can SNAP EXHIBITIONS help make everything perfect about my booth?  We provide turnkey booth rentals ensuring every detail is managed with precision.\n\nJoin us at the ALSMS ANNUAL CONFERENCE ON ENERGY-BASED MEDICINE & SCIENCE 2026 for an impactful experience. With our turnkey booth rental services\, we will help you stand out and connect effectively. For details\, contact our team here!
URL:https://iwf2026.com/event/alsms-annual-conference-on-energy-based-medicine-science-2026/
CATEGORIES:Equipments & Technologies for Medical and Surgery,Health Professionals,Laboratory Equipment & Technologies,Optoelectronics
END:VEVENT
END:VCALENDAR