BEGIN:VCALENDAR
VERSION:2.0
PRODID:-//IWF 2026 Atlanta — Local Booth Builder &amp; Rentals - ECPv6.15.13.1//NONSGML v1.0//EN
CALSCALE:GREGORIAN
METHOD:PUBLISH
X-ORIGINAL-URL:https://iwf2026.com
X-WR-CALDESC:Events for IWF 2026 Atlanta — Local Booth Builder &amp; Rentals
REFRESH-INTERVAL;VALUE=DURATION:PT1H
X-Robots-Tag:noindex
X-PUBLISHED-TTL:PT1H
BEGIN:VTIMEZONE
TZID:UTC
BEGIN:STANDARD
TZOFFSETFROM:+0000
TZOFFSETTO:+0000
TZNAME:UTC
DTSTART:20250101T000000
END:STANDARD
END:VTIMEZONE
BEGIN:VEVENT
DTSTART;TZID=UTC:20260703T090000
DTEND;TZID=UTC:20260705T235959
DTSTAMP:20260421T183032
CREATED:20251023T052759Z
LAST-MODIFIED:20251023T052759Z
UID:25838-1783069200-1783295999@iwf2026.com
SUMMARY:ANIME MIDWEST ANIMATION CONVENTION 2026
DESCRIPTION:ANIME MIDWEST ANIMATION CONVENTION 2026 Booth Rental — Impactful\n#show\n#venue\n#city-services\n#booth-models\n#faq\nANIME MIDWEST ANIMATION CONVENTION 2026\nWelcome to ANIME MIDWEST ANIMATION CONVENTION 2026\, the ultimate event for fans of animation\, bringing a vibrant community together in Rosemont\, IL. This convention features exciting animation premieres\, behind-the-scenes looks into the making of animation shows\, thrilling anime competitions\, cosplay contests\, and various interactive activities spanning three unforgettable days. \nKey Details: 2026-07-01 to 2026-07-03\, Hyatt Regency O’Hare\, 9300 Bryn Mawr Avenue\, Rosemont\, IL\, United States. To find out more\, check out the official website. \nIndustries & Audience: Broadcasting\, Television & Entertainment\, Video Games – Interactive Entertainment\, Music\, Toys & Games. \nVenue & Location\nThe Hyatt Regency O’Hare is located at 9300 Bryn Mawr Avenue\, Rosemont\, IL\, United States. This venue offers convenient access for exhibitors and attendees\, with ample loading dock facilities for easy move-in and move-out logistics. \nRosemont\, IL: Our Services\nWe DESIGN\, PRODUCE\, INSTALL & DISMANTLE turnkey booth rentals in Rosemont\, IL. Our services include concept and design\, modular frames\, branded SEG graphics\, a reception/storage area\, TV mount options\, and on-site installation and dismantling support. \nCustom Booth Models\nAt Snap Exhibitions\, we offer innovative **booth rentals** tailored to meet your needs. Explore our Snap Exhibitions Custom Booth Models that provide various popular footprints: \n\n10×10 booths for compact companies looking to make a big impact.\n10×20 booths for medium-sized displays with more features.\n20×20 booths for larger exhibits offering ample space for attractions.\n\nThese sizes cater perfectly to the sectors present at the convention. Our full-service exhibit support ensures a seamless experience from start to finish. \nFAQ\nWhat is ANIME MIDWEST ANIMATION CONVENTION 2026 booth rental?\nANIME MIDWEST ANIMATION CONVENTION 2026 booth rental provides businesses with customizable spaces designed to showcase their products and engage the audience effectively. \nWhen does the event take place?\nThe event occurs from July 1 to July 3\, 2026. \nWhat booth sizes are recommended for the Broadcasting & Entertainment sectors?\nFor the Broadcasting & Entertainment sectors\, 10×20 and 20×20 booths are typically ideal\, providing ample space for equipment and displays. \nWhy is an aluminum booth better than wood?\nAn aluminum booth is more durable\, lighter\, and easier to transport than wood\, making it a more practical choice for frequent event use. \nWhat makes Rosemont an ideal location for this convention?\nRosemont provides a great venue with excellent amenities\, central access\, and proximity to major transportation hubs\, making it easy for attendees and exhibitors. \nHow can Snap Exhibitions help ensure a perfect booth setup?\nWe provide comprehensive turnkey booth rentals\, managing all aspects of customization\, production\, and installation\, so you can focus on engaging with your audience. \nJoin us at ANIME MIDWEST ANIMATION CONVENTION 2026 for an impactful experience. For more information on ANIME MIDWEST ANIMATION CONVENTION 2026 booth rental\, contact our team today!
URL:https://iwf2026.com/event/anime-midwest-animation-convention-2026/
CATEGORIES:Broadcasting,Music,Television & Entertainment,Toys & Games,Video Games - Interactive Entertainment
END:VEVENT
END:VCALENDAR