BEGIN:VCALENDAR
VERSION:2.0
PRODID:-//IWF 2026 Atlanta — Local Booth Builder &amp; Rentals - ECPv6.15.13.1//NONSGML v1.0//EN
CALSCALE:GREGORIAN
METHOD:PUBLISH
X-ORIGINAL-URL:https://iwf2026.com
X-WR-CALDESC:Events for IWF 2026 Atlanta — Local Booth Builder &amp; Rentals
REFRESH-INTERVAL;VALUE=DURATION:PT1H
X-Robots-Tag:noindex
X-PUBLISHED-TTL:PT1H
BEGIN:VTIMEZONE
TZID:UTC
BEGIN:STANDARD
TZOFFSETFROM:+0000
TZOFFSETTO:+0000
TZNAME:UTC
DTSTART:20250101T000000
END:STANDARD
END:VTIMEZONE
BEGIN:VEVENT
DTSTART;TZID=UTC:20260410T090000
DTEND;TZID=UTC:20260412T235959
DTSTAMP:20260419T172809
CREATED:20251022T200850Z
LAST-MODIFIED:20251022T200850Z
UID:25638-1775811600-1776038399@iwf2026.com
SUMMARY:CENTRAL KENTUCKY HOME & GARDEN SHOW 2026
DESCRIPTION:CENTRAL KENTUCKY HOME & GARDEN SHOW 2026 Booth Rental — Ultimate Guide\nAbout CENTRAL KENTUCKY HOME & GARDEN SHOW 2026\nCENTRAL KENTUCKY HOME & GARDEN SHOW 2026 booth rental offers you an incredible opportunity to showcase your products and services. This annual event\, held in the heart of Lexington\, features a vibrant audience interested in home improvement and decoration. Visitors will find everything from landscaping to interior design innovations\, making it essential for exhibitors looking to make a memorable impression. \nKey Details:April 1–3\, 2026\, 10:00 AM–5:00 PM\, Central Bank Center\, 430 W Vine St\, Lexington\, KY 40507\, United States. \nIndustries & Audience: Home Show\, Gardening\, Decoration\, Home & Office Design\, Furniture\, Lighting\, Renewal – Renovations\, Kitchen & Bathroom\, Household Appliances – Domestic Appliance Technology\, Heating – Air Conditioning. \nVenue & Location\nJoin us at the Central Bank Center located at 430 W Vine St\, Lexington\, KY 40507\, United States. This venue is known for its central access and accommodating layout\, ideal for exhibitors and attendees alike. \nIf you’re looking to reach a diverse audience of home and garden enthusiasts\, this space will serve you well. \nLexington KY: Our Services\nWe DESIGN\, PRODUCE\, INSTALL & DISMANTLE turnkey booth rentals in Lexington\, KY. Our comprehensive services include concept and design development\, modular framing\, branded SEG graphics\, reception/storage solutions\, and TV mounts. We ensure that your exhibition not only looks great but also functions seamlessly. \nCustom Booth Models\nAt Snap Exhibitions\, we provide Snap Exhibitions Custom Booth Models tailored to your needs. Our popular footprints such as 10×10\, 10×20\, and 20×20 are perfect for all sectors represented at the show. Each size is designed to maximize visibility and engagement for your target audience. \nWe also offer full-service exhibit support to ensure everything runs smoothly from concept to execution. If you need assistance\, contact our team today. \nFAQ\n\nWhat is CENTRAL KENTUCKY HOME & GARDEN SHOW 2026?It is the largest home and garden showcase in Lexington\, featuring various home improvement sectors.\nWhen does the event take place?The event occurs from April 1 to April 3\, 2026\, from 10:00 AM to 5:00 PM.\nWhat are the recommended booth sizes for home show exhibitors?Popular sizes include 10’x10′\, 10’x20′\, and 20’x20′\, all suitable for a variety of exhibits.\nWhy is an aluminum booth better than wood?Aluminum is more durable\, lightweight\, and customizable compared to wood\, making it ideal for reusable exhibits.\nWhat can I expect at the Central Kentucky Home & Garden Show?Attendees can explore the latest in home design\, gardening\, and renovation solutions.\nHow does SNAP EXHIBITIONS help make my booth perfect?We ensure a turnkey solution from design to setup\, making the process easy and efficient.\nWhy should I choose a booth rental for this event?Booth rentals allow flexibility\, ease of setup\, and a hassle-free exhibition experience.\n\nIn conclusion\, CENTRAL KENTUCKY HOME & GARDEN SHOW 2026 booth rental is your opportunity to shine at this major event. Ready to elevate your presence? Contact our team to secure your spot today!
URL:https://iwf2026.com/event/central-kentucky-home-garden-show-2026/
CATEGORIES:Decoration,Furniture,Gardening,Heating - Air Conditioning,Home & Office Design,Home Show,Household Appliances - Domestic Appliance Technology,Kitchen & Bathroom,Lighting,Renewal - Renovations
END:VEVENT
END:VCALENDAR