BEGIN:VCALENDAR
VERSION:2.0
PRODID:-//IWF 2026 Atlanta — Local Booth Builder &amp; Rentals - ECPv6.15.13.1//NONSGML v1.0//EN
CALSCALE:GREGORIAN
METHOD:PUBLISH
X-WR-CALNAME:IWF 2026 Atlanta — Local Booth Builder &amp; Rentals
X-ORIGINAL-URL:https://iwf2026.com
X-WR-CALDESC:Events for IWF 2026 Atlanta — Local Booth Builder &amp; Rentals
REFRESH-INTERVAL;VALUE=DURATION:PT1H
X-Robots-Tag:noindex
X-PUBLISHED-TTL:PT1H
BEGIN:VTIMEZONE
TZID:UTC
BEGIN:STANDARD
TZOFFSETFROM:+0000
TZOFFSETTO:+0000
TZNAME:UTC
DTSTART:20250101T000000
END:STANDARD
END:VTIMEZONE
BEGIN:VEVENT
DTSTART;TZID=UTC:20260709T090000
DTEND;TZID=UTC:20260711T235959
DTSTAMP:20260421T153324
CREATED:20251022T210504Z
LAST-MODIFIED:20251022T210504Z
UID:25695-1783587600-1783814399@iwf2026.com
SUMMARY:GLOBAL TRAVEL MARKETPLACE 2026
DESCRIPTION:GLOBAL TRAVEL MARKETPLACE 2026 booth rental — Essential Guide & Custom Options\nAbout GLOBAL TRAVEL MARKETPLACE 2026\nGLOBAL TRAVEL MARKETPLACE 2026 booth rental is key for exhibitors looking to stand out at one of the most important events in the tourism\, travel\, catering\, and hospitality industries. This trade fair in Hollywood presents unparalleled networking and business-growth opportunities for travel advisers and industry professionals alike. \nVisitors can expect a vibrant showcase featuring restaurateurs\, hoteliers\, resorts\, tour companies\, airlines\, cruise lines\, and ancillary travel products and services from around the globe. By participating\, exhibitors gain critical exposure to a cross-section of the travel industry. \nKey Details:Feb 30–Mar 2\, 9:00 AM–5:00 PMDiplomat Resort & Spa Hollywood3555 S Ocean Dr Hollywood\, FL 33019United StatesEvent Website \nIndustries & Audience: Tourism – Travel\, Catering & Hospitality Industries. \nVenue & Location\nThe GLOBAL TRAVEL MARKETPLACE 2026 will take place at the Diplomat Resort & Spa in Hollywood\, Florida. The venue offers convenient logistics for move-in and dock access\, enabling a smooth setup for exhibitors. For inquiries\, you can reach us at +1 (201) 902 2026. \nHollywood FL: Our Services\nWe design\, produce\, install\, and dismantle turnkey booth rentals in Hollywood\, FL. Our services encompass concept design\, modular frames\, branded SEG graphics\, reception/storage spaces\, and TV mounts\, ensuring a comprehensive exhibit solution tailored for each exhibitor. \nCustom Booth Models\nExplore our range of Snap Exhibitions Custom Booth Models. We offer popular footprints such as 10×10\, 10×20\, and 20×20\, ideal for connecting with targeted audiences in the tourism and hospitality sectors. These configurations optimize visitor engagement and effectively display your brand. \nFor full-service exhibit support\, learn more about our offerings here. We are committed to delivering an exceptional experience\, allowing exhibitors to focus solely on their business goals. To make the most of your presence\, contact our team for personalized service. \nFAQ\nWhat is GLOBAL TRAVEL MARKETPLACE 2026 booth rental?It’s an exhibitor option designed for impactful presentations at this essential trade fair for the travel industry. \nWhat are the event hours and dates?The event runs from Feb 30–Mar 2\, from 9:00 AM to 5:00 PM. \nWhat booth sizes are recommended for the tourism industry?Booths like 10×10 or 10×20 are often ideal for maximizing visitor interactions. \nWhy is an aluminum booth better than wood?Aluminum booths are lighter\, more durable\, and offer better design flexibility compared to wooden structures. \nWhat can I expect at GLOBAL TRAVEL MARKETPLACE 2026?You will meet key players in the travel and hospitality sectors and discover innovative products and solutions. \nHow can SNAP EXHIBITIONS help make everything perfect about my booth?We provide complete turnkey solutions for booth rental\, ensuring everything is hassle-free and professionally managed. \nIn conclusion\, GLOBAL TRAVEL MARKETPLACE 2026 booth rental is your pathway to success in showcasing your brand at this significant industry event. To elevate your exhibition experience\, make sure to contact us today!
URL:https://iwf2026.com/event/global-travel-marketplace-2026/
CATEGORIES:Catering & Hospitality Industries,Tourism - Travel
END:VEVENT
END:VCALENDAR