BEGIN:VCALENDAR
VERSION:2.0
PRODID:-//IWF 2026 Atlanta — Local Booth Builder &amp; Rentals - ECPv6.15.20//NONSGML v1.0//EN
CALSCALE:GREGORIAN
METHOD:PUBLISH
X-ORIGINAL-URL:https://iwf2026.com
X-WR-CALDESC:Events for IWF 2026 Atlanta — Local Booth Builder &amp; Rentals
REFRESH-INTERVAL;VALUE=DURATION:PT1H
X-Robots-Tag:noindex
X-PUBLISHED-TTL:PT1H
BEGIN:VTIMEZONE
TZID:UTC
BEGIN:STANDARD
TZOFFSETFROM:+0000
TZOFFSETTO:+0000
TZNAME:UTC
DTSTART:20240101T000000
END:STANDARD
END:VTIMEZONE
BEGIN:VEVENT
DTSTART;TZID=UTC:20251118T090000
DTEND;TZID=UTC:20251120T235959
DTSTAMP:20260424T104914
CREATED:20251023T054210Z
LAST-MODIFIED:20251023T054210Z
UID:25873-1763456400-1763683199@iwf2026.com
SUMMARY:ISC EAST 2025
DESCRIPTION:ISC EAST 2025 booth rental — Essential Exhibitor Guide & Custom Booth Options\nAbout ISC EAST 2025\nVenue & Location\nNew York NY: Our Services\nCustom Booth Models\nFAQ\nISC EAST 2025 — Your Premier Trade Show Experience\nISC EAST 2025 booth rental is your pathway to connect with thousands of security and public safety professionals at this renowned event. Set to take place from Nov 14–16\, 2025\, at the Jacob K. Javits Convention Center\, 655 West 34th Street\, New York\, NY 10001\, USA\, this conference is the leading comprehensive & converged security trade event in the United States. Attendees will benefit from networking opportunities\, ground-breaking innovations\, and insights straight from industry experts. \n\nKey Details:\nDates: Nov 14–16\, 9:00 AM–5:00 PM\nLocation: Jacob K. Javits Convention Center\nAddress: 655 West 34th Street\, New York\, NY 10001\nCountry: United States\n\nThe categories represented include Security – Risk Management\, Urban Equipment & Engineering\, Building & Construction\, Industrial Building. Make sure to be part of this dynamic exchange! \nVenue & Location\nThe ISC EAST 2025 will take place at the Jacob K. Javits Convention Center\, located at 655 West 34th Street\, New York\, NY 10001\, USA. This modern venue is well-equipped to facilitate an excellent flow of exhibitors and attendees\, ensuring easy logistics and central access. (Note: Move-in windows and dock access will be provided to exhibitors\, further enhancing the ease of setup.) For more information\, reach out via phone. \nNew York NY: Our Services\nWe DESIGN\, PRODUCE\, INSTALL & DISMANTLE turnkey booth rentals in New York NY. Our offerings include concept/design\, modular frames\, branded SEG graphics\, reception/storage solutions\, and TV mounts\, ensuring a complete booth experience. \nCustom Booth Models\nExplore our Snap Exhibitions Custom Booth Models. Our popular footprints include: \n\n10×10: Ideal for small-scale exhibitors targeting niche sectors.\n10×20: Perfect for a more significant presence\, allowing for interaction without overwhelming the audience.\n20×20: Our largest option suitable for major industry leaders looking to make a bold statement.\n\nNo matter your size or scope\, we provide full-service exhibit support tailored to your requirements. \nFAQ\nWhat is ISC EAST 2025 booth rental?ISC EAST 2025 booth rental provides exhibitors a chance to showcase their innovations and solutions in security while connecting with key industry professionals. \nWhat are the event hours/dates for ISC EAST 2025?ISC EAST 2025 is scheduled for Nov 14–16\, 2025\, from 9:00 AM to 5:00 PM each day. \nWhat booth sizes do you recommend for the Security – Risk Management sector?For the Security sector\, we recommend 10×20 or 20×20 booth sizes to maximize attendee engagement. \nWhy is an aluminum booth better than wood?Aluminum booths are more lightweight\, easier to assemble\, and provide a modern aesthetic compared to traditional wood booths. \nWhat services does Snap Exhibitions offer in New York?We offer design\, installation\, and dismantling services for trade shows in New York\, ensuring seamless execution. \nHow can Snap Exhibitions help perfect my booth?We handle everything from design to teardown\, allowing you to focus on what matters most — connecting with your audience. Contact our team today to get started! \nIn conclusion\, don’t miss out on the ISC EAST 2025 booth rental opportunity to shine at this essential trade event. We are here to help you with a seamless experience!
URL:https://iwf2026.com/event/isc-east-2025/
CATEGORIES:Building & Construction,Industrial Building,Security - Risk Management,Urban Equipment & Engineering
END:VEVENT
END:VCALENDAR