BEGIN:VCALENDAR
VERSION:2.0
PRODID:-//IWF 2026 Atlanta — Local Booth Builder &amp; Rentals - ECPv6.15.20//NONSGML v1.0//EN
CALSCALE:GREGORIAN
METHOD:PUBLISH
X-WR-CALNAME:IWF 2026 Atlanta — Local Booth Builder &amp; Rentals
X-ORIGINAL-URL:https://iwf2026.com
X-WR-CALDESC:Events for IWF 2026 Atlanta — Local Booth Builder &amp; Rentals
REFRESH-INTERVAL;VALUE=DURATION:PT1H
X-Robots-Tag:noindex
X-PUBLISHED-TTL:PT1H
BEGIN:VTIMEZONE
TZID:UTC
BEGIN:STANDARD
TZOFFSETFROM:+0000
TZOFFSETTO:+0000
TZNAME:UTC
DTSTART:20240101T000000
END:STANDARD
END:VTIMEZONE
BEGIN:VEVENT
DTSTART;TZID=UTC:20251010T090000
DTEND;TZID=UTC:20251013T235959
DTSTAMP:20260424T104528
CREATED:20251023T065629Z
LAST-MODIFIED:20251023T065629Z
UID:26037-1760086800-1760399999@iwf2026.com
SUMMARY:JIS FALL 2025
DESCRIPTION:JIS FALL 2025 booth rental — Exhibitor Guide & Custom Booth Options\nAbout JIS FALL 2025\nThe JIS FALL 2025 booth rental options present exhibitors with a fantastic opportunity to connect with key players in the jewelry industry during this essential trade show. Scheduled from September 9–11\, 2025\, at the Miami Beach Convention Center\, Florida\, this event attracts a diverse audience of manufacturers\, wholesalers\, and brands preparing for the holiday season\, a critical time for restocking. \n\nKey Details:\nDate: September 9–11\, 2025\nLocation: Miami Beach Convention Center\, 1901 Convention Center Drive\, Miami Beach\, United States\n\nIndustries & Audience: The event is focused on the Jewelry\, Luxury Industry\, Gifts & Souvenirs sectors\, ensuring a high concentration of potential clients and partners. \nVenue & Location\nLocated at the Miami Beach Convention Center\, the venue offers good access for logistics with move-in windows and dock options suitable for exhibitors. For any inquiries\, you can reach them via phone. \nMiami Beach FL: Our Services\nWe DESIGN\, PRODUCE\, INSTALL & DISMANTLE turnkey booth rentals in this city\, ensuring you have everything from concept and design to on-site installation and dismantle. Our offerings include modular frames\, branded SEG graphics\, reception/storage solutions\, and TV mount options. Our expert team ensures a seamless process for exhibitors\, making your experience stress-free and impactful. \nCustom Booth Models\nLooking for inspiration? Check out our Snap Exhibitions Custom Booth Models. We cater to popular footprints like: \n\n10×10: Ideal for smaller budgets\, great visibility.\n10×20: Offers additional space for products and interactions.\n20×20: Maximizes exposure\, suitable for a broader range of activities.\n\nEach model is tailored to meet the diverse needs of attendees in the Jewelry\, Luxury Industry\, Gifts & Souvenirs sectors. \nFor full-service exhibit support\, click here. To get started\, contact our team for a personalized consultation. \nFAQ\n\nWhat options are available for JIS FALL 2025 booth rental? We offer various customizable booth sizes to fit your needs.\nWhen is JIS FALL 2025? The show is from September 9 to 11\, 2025\, during general exhibition hours.\nWhat booth sizes are recommended for the Jewelry industry? Popular choices are 10×10 and 10×20\, depending on your product range.\nWhy is an aluminum booth better than wood? Aluminum booths are lighter\, more durable\, and easier to transport compared to traditional wood\, providing a modern look.\nWhat makes Miami Beach a prime location for trade shows? Miami Beach is known for its vibrant culture and accessibility\, attracting diverse attendees.\nWhat should I bring to JIS FALL 2025? Bring marketing materials\, business cards\, and any products you intend to showcase.\nHow can SNAP EXHIBITIONS help ensure everything is perfect about my booth? We manage everything from design to installation\, ensuring a hassle-free experience.\n\nJoin us for the JIS FALL 2025 booth rental\, and let us help you create a stunning presence. For inquiries\, please contact our team today!
URL:https://iwf2026.com/event/jis-fall-2025/
CATEGORIES:Gifts & Souvenirs,Jewelry,Luxury Industry
END:VEVENT
END:VCALENDAR