BEGIN:VCALENDAR
VERSION:2.0
PRODID:-//IWF 2026 Atlanta — Local Booth Builder &amp; Rentals - ECPv6.15.13.1//NONSGML v1.0//EN
CALSCALE:GREGORIAN
METHOD:PUBLISH
X-ORIGINAL-URL:https://iwf2026.com
X-WR-CALDESC:Events for IWF 2026 Atlanta — Local Booth Builder &amp; Rentals
REFRESH-INTERVAL;VALUE=DURATION:PT1H
X-Robots-Tag:noindex
X-PUBLISHED-TTL:PT1H
BEGIN:VTIMEZONE
TZID:UTC
BEGIN:STANDARD
TZOFFSETFROM:+0000
TZOFFSETTO:+0000
TZNAME:UTC
DTSTART:20250101T000000
END:STANDARD
END:VTIMEZONE
BEGIN:VEVENT
DTSTART;TZID=UTC:20260505T090000
DTEND;TZID=UTC:20260507T235959
DTSTAMP:20260419T115537
CREATED:20251023T063055Z
LAST-MODIFIED:20251023T063055Z
UID:25985-1777971600-1778198399@iwf2026.com
SUMMARY:DISPLAY WEEK - SID 2026
DESCRIPTION:DISPLAY WEEK – SID 2026 booth rental — Essential Exhibitor Guide\nAbout DISPLAY WEEK – SID 2026\nVenue & Location\nLos Angeles CA: Our Services\nCustom Booth Models\nFAQ\nAbout DISPLAY WEEK – SID 2026\nDISPLAY WEEK – SID 2026 booth rental offers unique opportunities for exhibitors to showcase the latest innovations in the display industry. Held in Los Angeles\, CA\, this premier event celebrates cutting-edge display technologies including OLED displays\, Advanced LCDs\, HD & 4K TV technologies\, digital signage\, e-Paper\, and flexible displays. Attendees gain insight into industry advancements and network with leading professionals.\nKey Details: Start Date: Jan 31–Feb 2\, 9:00 AM–5:00 PM\, Location: Los Angeles\, CA\, Country: United States.\nIndustries & Audience: sound & image technologies\, optoelectronics\, electronic design & components\, and consumer electronics are all represented at this impactful event. \nVenue & Location\nThe event will take place at the Los Angeles\, CA venue. With ample space for exhibitors\, there are facilities that ensure smooth logistics including loading docks and registration areas for easy access. While specific phone details aren’t provided\, you can expect a supportive environment for exhibitors to thrive. \nLos Angeles CA: Our Services\nIn Los Angeles\, CA\, we DESIGN\, PRODUCE\, INSTALL & DISMANTLE turnkey booth rentals. Our services cover concept and design\, modular frames\, branded SEG graphics\, reception/storage areas\, TV mounts\, and on-site installation & dismantling. Our teams work diligently to ensure your attendance at DISPLAY WEEK – SID 2026 is a success. \nCustom Booth Models\nWe offer a variety of popular booth footprints that cater to your specific needs at DISPLAY WEEK – SID 2026. Options like 10×10\, 10×20\, and 20×20 booths are popular among exhibitors for their impactful presence. Check out our Snap Exhibitions Custom Booth Models for inspiration. Each booth is designed to ensure you stand out amidst your competitors\, tailored specifically for the sound & image technologies sectors. Our full-service exhibit support ensures a seamless experience\, from initial design to final installation. If you need assistance\, be sure to contact our team for all your exhibit needs. \nFAQ\nQ1: What is DISPLAY WEEK – SID 2026 booth rental?  A1: DISPLAY WEEK – SID 2026 booth rental provides exhibitors with essential tools and professional designs to maximize their visibility and opportunity at the show. \nQ2: What are the event dates and hours for DISPLAY WEEK – SID 2026?  A2: The event runs from Jan 31 to Feb 2\, 2026\, from 9:00 AM to 5:00 PM each day. \nQ3: What booth sizes do you recommend for the sound & image technologies sectors?  A3: Commonly\, we recommend 10×20 foot booths for increased visibility without overwhelming space\, perfect for showcasing product innovations. \nQ4: Why is an aluminum booth better than wood?  A4: Aluminum booths are more durable\, lighter\, and can be more easily customized than wood\, making them ideal for flexible layouts and modern aesthetic demands. \nQ5: What services does SNAP EXHIBITIONS provide for Los Angeles-based exhibitors?  A5: We offer a comprehensive range of services\, including designing and building custom booths specifically tailored to the needs of exhibitors attending events like DISPLAY WEEK – SID 2026. \nQ6: What is the primary purpose of DISPLAY WEEK – SID 2026?  A6: At this event\, exhibitors seek to showcase their latest technologies and innovations\, attracting a diverse audience eager to learn about advancements in the display industry. \nQ7: How can SNAP EXHIBITIONS assist you in perfecting your booth?  A7: We specialize in turnkey booth rentals that simplify the entire process\, from design to execution\, ensuring your booth stands out and meets all your presentation needs. \nIn conclusion\, DISPLAY WEEK – SID 2026 booth rental provides exhibitors with a unique chance to enhance their visibility and engagement at this prominent event. Let’s ensure your success at this showcase; contact our team today!
URL:https://iwf2026.com/event/display-week-sid-2026/
CATEGORIES:Consumers Electronics,Electronic Design & Components,Optoelectronics,Sound & Image Technologies
END:VEVENT
BEGIN:VEVENT
DTSTART;TZID=UTC:20260517T090000
DTEND;TZID=UTC:20260520T235959
DTSTAMP:20260419T115537
CREATED:20251023T063119Z
LAST-MODIFIED:20251023T063119Z
UID:25986-1779008400-1779321599@iwf2026.com
SUMMARY:ATD INTERNATIONAL CONFERENCE & EXPOSITION 2026
DESCRIPTION:ATD INTERNATIONAL CONFERENCE & EXPOSITION 2026 — Exhibitor Guide & Essential Booth Options\nAbout ATD INTERNATIONAL CONFERENCE & EXPOSITION 2026\nATD INTERNATIONAL CONFERENCE & EXPOSITION 2026 booth rental provides an invaluable opportunity for businesses to showcase their services and products dedicated to training and development. The event spans various aspects of the industry\, targeting practitioners at every level\, from CEO to specialist\, dean to student. This is a must-attend event for gaining insights and building connections in the training sector. \n\nKey Details:\nDate: Feb 19–22\, 2026\nLocation: Los Angeles\, CA\nCountry: United States\n\nThis year\, the event is focused on Decision Helping Tools & Management Services\, Education & Training\, Computers\, Telecommunications\, Computers Networks\, Internet & Intranet\, Sciences for Engineers – Research & Development. Visitors can look forward to innovative approaches and solutions that enhance professional training. \nVenue & Location\nLos Angeles\, CA is a vibrant location that will host the ATD International Conference & Exposition 2026. The venue will accommodate a range of logistics ideal for exhibitors including move-in windows and dock access. We recommend connecting with the venue ahead of time for smooth set-up and operations. \nLos Angeles: Our Services\nWe DESIGN\, PRODUCE\, INSTALL & DISMANTLE turnkey booth rentals in this city. Our offerings include creative concept design\, modular frames\, branded SEG graphics\, reception/storage spaces\, TV mounts\, and on-site installation and dismantling services. \nCustom Booth Models\nExplore our Snap Exhibitions Custom Booth Models. We suggest booth sizes like 10×10\, 10×20\, and 20×20 for this event\, ideal for attracting attendees from the listed categories. Each footprint is designed to maximize visibility and engagement\, ensuring your presence is impactful. \nFor a comprehensive support package\, check our full-service exhibit support. If you have any questions or need to discuss specific requirements\, please contact our team. \nFAQ\nQ: What is the ATD INTERNATIONAL CONFERENCE & EXPOSITION 2026?A: It is a premier conference focused on training and development\, catering to various industry professionals. \nQ: What are the event hours/dates?A: The event will take place from Feb 19–22\, 2026. \nQ: What are recommended booth sizes for the computers and education sectors?A: Booth sizes like 10×10 and 10×20 are recommended for effective engagement. \nQ: Why are aluminum booths preferred over wood?A: Aluminum booths are lighter\, more durable\, and often provide a more modern look. \nQ: What services are available in Los Angeles for trade shows?A: Various services including venue logistics\, catering\, and technical support are available in Los Angeles. \nQ: How can SNAP EXHIBITIONS help perfect my trade show booth?A: We create tailored solutions for booths\, ensuring an impactful presence through custom designs and comprehensive support. \nBy choosing ATD INTERNATIONAL CONFERENCE & EXPOSITION 2026 booth rental\, you are ensuring a dynamic and engaging presence at one of the premier training and development expos. Contact us today for more information on how we can assist in showcasing your brand effectively!
URL:https://iwf2026.com/event/atd-international-conference-exposition-2026/
CATEGORIES:Computers,Computers Networks,Decision Helping Tools & Management Services,Education & Training,Internet & Intranet,Sciences for Engineers - Research & Development,Telecommunications
END:VEVENT
END:VCALENDAR