BEGIN:VCALENDAR
VERSION:2.0
PRODID:-//IWF 2026 Atlanta — Local Booth Builder &amp; Rentals - ECPv6.15.13.1//NONSGML v1.0//EN
CALSCALE:GREGORIAN
METHOD:PUBLISH
X-ORIGINAL-URL:https://iwf2026.com
X-WR-CALDESC:Events for IWF 2026 Atlanta — Local Booth Builder &amp; Rentals
REFRESH-INTERVAL;VALUE=DURATION:PT1H
X-Robots-Tag:noindex
X-PUBLISHED-TTL:PT1H
BEGIN:VTIMEZONE
TZID:UTC
BEGIN:STANDARD
TZOFFSETFROM:+0000
TZOFFSETTO:+0000
TZNAME:UTC
DTSTART:20250101T000000
END:STANDARD
END:VTIMEZONE
BEGIN:VEVENT
DTSTART;TZID=UTC:20260304T090000
DTEND;TZID=UTC:20260305T235959
DTSTAMP:20260423T144129
CREATED:20251023T065300Z
LAST-MODIFIED:20251023T065300Z
UID:26035-1772614800-1772755199@iwf2026.com
SUMMARY:EARTHQUAKE EXPO USA - CALIFORNIA 2026
DESCRIPTION:EARTHQUAKE EXPO USA – CALIFORNIA 2026 booth rental — Essential Guide\nAbout EARTHQUAKE EXPO USA – CALIFORNIA 2026\nVenue & Location\nMiami Beach: Our Services\nCustom Booth Models\nFAQ\nEARTHQUAKE EXPO USA – CALIFORNIA 2026\nEARTHQUAKE EXPO USA – CALIFORNIA 2026 booth rental will provide exhibitors with an unmatched platform to connect with industry leaders and gain insights into the latest seismic preparation and management strategies. This premier event caters to professionals from sectors such as **Security – Risk Management**\, **Urban Equipment & Engineering**\, **Building & Construction**\, and **Health Professionals**. Visitors and exhibitors will benefit from showcasing the latest tools and strategies to navigate seismic challenges. \n\nKey Details:\nDates: Nov 30–Dec 2\, 9:00 AM–5:00 PM\nVenue: Miami Beach Convention Center\nAddress: 1901 Convention Center Drive\, Miami Beach\, USA\nCountry: United States\n\nJoin visionary leaders and innovators at this critical convergence. The event promises to deliver valuable insights necessary for preparing for and managing seismic activities. \nVenue & Location\nThe Miami Beach Convention Center is strategically located at 1901 Convention Center Drive\, Miami Beach\, USA. The venue is equipped to handle large-scale events\, providing essential logistics\, including access for set-up and dismantling of booths. Attendees can expect a suitable environment for networking and collaboration. \nFor any inquiries\, feel free to contact us. \nMiami Beach: Our Services\nIn this city\, we DESIGN\, PRODUCE\, INSTALL & DISMANTLE turnkey booth rentals for EARTHQUAKE EXPO USA – CALIFORNIA 2026. Our services include concept creation\, modular frame setups\, branded SEG graphics\, reception desks\, storage solutions\, and mounting for TVs. We aim to provide a comprehensive finish that reflects your brand’s vision and goals. \nCustom Booth Models\nWe offer a variety of booth footprints including 10×10\, 10×20\, and 20×20 options. These setups are ideal for exhibitors in the **Security – Risk Management**\, **Building & Construction**\, and **Health Professionals** sectors\, as they are both functional and attractive to attendees. Explore our Snap Exhibitions Custom Booth Models to find the perfect fit for your needs and vision. \nFor a full-service exhibit support experience\, we guide you every step of the way. Ready to enhance your presence? Contact our team today! \nFAQ\nWhat does the EARTHQUAKE EXPO USA – CALIFORNIA 2026 booth rental include?\nOur booth rentals include complete design\, installation\, and dismantling services to ensure an impactful exhibition experience. \nWhen do the EARTHQUAKE EXPO USA – CALIFORNIA 2026 event hours start and end?\nThe event runs from November 30 to December 2\, from 9:00 AM to 5:00 PM. \nWhat booth sizes do you recommend for the Security – Risk Management category?\nWe recommend a 10×20 or 20×20 booth for more impactful presence in the Security – Risk Management category. \nWhy is an aluminum booth better than wood?\nAluminum booths offer a more durable and lightweight solution\, providing better design flexibility and ease of mobility compared to traditional wood options. \nWhat attractions does Miami Beach have for visitors to explore during the event?\nMiami Beach is known for its vibrant culture\, beautiful beaches\, and numerous dining options that attendees can enjoy. \nHow can SNAP EXHIBITIONS help make everything perfect about my booth?\nWe ensure every detail is covered through our turnkey booth rentals. Our customized solutions enable you to present your brand effectively. \nOur EARTHQUAKE EXPO USA – CALIFORNIA 2026 booth rental is designed for your success. Don’t miss out on this opportunity—contact us to elevate your exhibition experience!
URL:https://iwf2026.com/event/earthquake-expo-usa-california-2026/
CATEGORIES:Building & Construction,Health Professionals,Security - Risk Management,Solidarity - Social Assistance - Volunteering,Urban Equipment & Engineering
END:VEVENT
BEGIN:VEVENT
DTSTART;TZID=UTC:20260304T090000
DTEND;TZID=UTC:20260305T235959
DTSTAMP:20260423T144129
CREATED:20251023T065324Z
LAST-MODIFIED:20251023T065324Z
UID:26036-1772614800-1772755199@iwf2026.com
SUMMARY:FLOOD EXPO USA - CALIFORNIA 2026
DESCRIPTION:FLOOD EXPO USA – CALIFORNIA 2026 booth rental — Essential Exhibitor Guide & Custom Booth Options\nAbout FLOOD EXPO USA – CALIFORNIA 2026\nVenue & Location\nMiami Beach FL: Our Services\nCustom Booth Models\nFAQ\nAbout FLOOD EXPO USA – CALIFORNIA 2026\nFLOOD EXPO USA – CALIFORNIA 2026 booth rental provides cutting-edge solutions at one of the most anticipated events in flood preparedness and management. From global industry leaders to innovative tools\, attendees will gain insights and strategies critical for effective flood response and recovery. Our event spans Feb 26-28\, 2026\, from 9:00 AM–5:00 PM\, hosted at the Miami Beach Convention Center\, 1901 Convention Center Dr\, Miami Beach\, USA. Join us and network with top professionals in Security\, Water Management\, Urban Engineering\, Health Professionals\, and Social Volunteering. \nKey Details:Feb 26-28\, 2026\, 9:00 AM–5:00 PMMiami Beach Convention Center\, 1901 Convention Center Drive\, Miami Beach\, USA \nVenue & Location\nThe Miami Beach Convention Center offers a premier venue for FLOOD EXPO USA – CALIFORNIA 2026\, ideally located at 1901 Convention Center Drive\, Miami Beach\, USA. Exhibitors can benefit from ample logistics support\, making move-in easy and accessible. \nMiami Beach FL: Our Services\nIn Miami Beach FL\, we DESIGN\, PRODUCE\, INSTALL & DISMANTLE turnkey booth rentals. Our services include comprehensive concept development\, modular frames\, and customized branding with SEG graphics\, ensuring a seamless setup with options for reception\, storage\, and TV mounts. Our expertise caters specifically to clients seeking impactful presentations at such significant events. \nCustom Booth Models\nWe offer a range of popular footprints including 10×10\, 10×20\, and 20×20 booth designs. These layouts are ideal for exhibitors in the security and treatment sectors\, focusing on maximizing visibility and visitor engagement. For tailored solutions\, explore our Snap Exhibitions Custom Booth Models and our full-service exhibit support. \nFAQ\nQ: What does FLOOD EXPO USA – CALIFORNIA 2026 booth rental include?A: Our booth rental offers a complete setup including design\, production\, installation\, and dismantling tailored for the event. \nQ: What are the event hours for FLOOD EXPO USA – CALIFORNIA 2026?A: The event runs from Feb 26 to 28\, 2026\, from 9:00 AM to 5:00 PM each day. \nQ: What booth sizes are recommended for security and health sectors?A: We recommend sizes like 10×20 for enhanced visibility in crowded areas\, which is beneficial for these sectors. \nQ: Why is an aluminum booth better than wood?A: Aluminum booths offer durability\, lightweight construction\, and easier handling\, making them perfect for trade shows. \nQ: What makes Miami Beach a good venue?A: Miami Beach is a vibrant location that attracts diverse audiences\, making it ideal for networking and engaging with industry leaders. \nQ: How can SNAP EXHIBITIONS make everything perfect regarding their booth?A: We provide expert services covering every aspect from design to execution\, ensuring that your booth stands out and meets all your needs. \nDon’t miss out on this premier opportunity! Reach out today to discuss your FLOOD EXPO USA – CALIFORNIA 2026 booth rental needs and contact our team for more information.
URL:https://iwf2026.com/event/flood-expo-usa-california-2026/
CATEGORIES:Health Professionals,Security - Risk Management,Solidarity - Social Assistance - Volunteering,Urban Equipment & Engineering,Water Management and Treatment
END:VEVENT
BEGIN:VEVENT
DTSTART;TZID=UTC:20260304T090000
DTEND;TZID=UTC:20260305T235959
DTSTAMP:20260423T144129
CREATED:20251023T083007Z
LAST-MODIFIED:20251023T083007Z
UID:26054-1772614800-1772755199@iwf2026.com
SUMMARY:STORM EXPO USA - CALIFORNIA 2026
DESCRIPTION:STORM EXPO USA – CALIFORNIA 2026 booth rental — Essential Guide\nAbout STORM EXPO USA – CALIFORNIA 2026\nSTORM EXPO USA – CALIFORNIA 2026 booth rental is a unique opportunity for exhibitors in storm and hurricane preparedness\, showcasing tools and strategies that could save lives and property. This event\, taking place from Jan 31–Feb 3\, 2026\, is essential for anyone in the industry\, whether you are a security professional\, engineer\, or involved in social assistance initiatives. Attendees can expect valuable networking opportunities and insightful presentations from industry leaders. Here are the Key Details:\nDates: Jan 31–Feb 3\, 2026\, Location: Miami Beach Convention Center\, 1901 Convention Center Drive\, Miami Beach\, United States. For more information\, visit the official website. \nIndustries & Audience: Security – Risk Management\, Urban Equipment & Engineering\, Building & Construction\, Health Professionals\, Solidarity – Social Assistance – Volunteering. \nVenue & Location\nThe event will be held at the Miami Beach Convention Center\, located at 1901 Convention Center Drive\, Miami Beach\, United States. The venue features excellent access and logistics for exhibitors\, including move-in windows and dock access for seamless setup. \nMiami Beach: Our Services\nWe DESIGN\, PRODUCE\, INSTALL & DISMANTLE turnkey booth rentals in Miami Beach\, Florida. Our scope includes concept/design\, modular frames\, branded SEG graphics\, reception/storage\, TV mount\, and on-site installation & dismantling (I&D). \nCustom Booth Models\nOur popular booth sizes include: \n\n10×10: Ideal for personal engagements and impactful branding.\n10×20: Great for mid-size exhibitors with multiple product features.\n20×20: Perfect for large companies aiming to make a bold statement.\n\nTo explore our various options\, check out our Snap Exhibitions Custom Booth Models. We also offer full-service exhibit support to streamline your exhibiting experience. For further assistance\, contact our team. \nFAQ\nQ: What is the STORM EXPO USA – CALIFORNIA 2026 booth rental schedule? \nA: The event occurs from Jan 31–Feb 3\, 2026. \nQ: What are the recommended booth sizes for the Security and Risk Management sectors? \nA: We recommend a 10×20 or 20×20 booth for larger displays in this sector. \nQ: Why choose a STORM EXPO USA – CALIFORNIA 2026 booth rental? \nA: A booth rental offers flexibility\, cost-effectiveness\, and ease of setup compared to purchasing a booth. \nQ: Why is an aluminum booth better than wood? \nA: Aluminum is lighter\, more durable\, and offers a sleek appearance\, making it ideal for modern exhibits. \nQ: What services are available in Miami Beach for exhibitors? \nA: We offer comprehensive booth rental services\, including design\, installation\, and dismantling. \nQ: How can SNAP EXHIBITIONS help perfect my booth setup? \nA: We ensure everything is seamless\, from design to dismantling\, allowing you to focus on your presentation. \nIn conclusion\, the STORM EXPO USA – CALIFORNIA 2026 booth rental offers a unique opportunity to connect with industry leaders and showcase your innovations in storm preparedness. For the best in STORM EXPO USA – CALIFORNIA 2026 booth rental\, contact us today!
URL:https://iwf2026.com/event/storm-expo-usa-california-2026/
CATEGORIES:Building & Construction,Health Professionals,Security - Risk Management,Solidarity - Social Assistance - Volunteering,Urban Equipment & Engineering
END:VEVENT
END:VCALENDAR