BEGIN:VCALENDAR
VERSION:2.0
PRODID:-//IWF 2026 Atlanta — Local Booth Builder &amp; Rentals - ECPv6.15.13.1//NONSGML v1.0//EN
CALSCALE:GREGORIAN
METHOD:PUBLISH
X-ORIGINAL-URL:https://iwf2026.com
X-WR-CALDESC:Events for IWF 2026 Atlanta — Local Booth Builder &amp; Rentals
REFRESH-INTERVAL;VALUE=DURATION:PT1H
X-Robots-Tag:noindex
X-PUBLISHED-TTL:PT1H
BEGIN:VTIMEZONE
TZID:UTC
BEGIN:STANDARD
TZOFFSETFROM:+0000
TZOFFSETTO:+0000
TZNAME:UTC
DTSTART:20250101T000000
END:STANDARD
END:VTIMEZONE
BEGIN:VEVENT
DTSTART;TZID=UTC:20260505T090000
DTEND;TZID=UTC:20260507T235959
DTSTAMP:20260423T113224
CREATED:20251023T165926Z
LAST-MODIFIED:20251023T165926Z
UID:26122-1777971600-1778198399@iwf2026.com
SUMMARY:NBAA MAINTENANCE CONFERENCE 2026
DESCRIPTION:NBAA MAINTENANCE CONFERENCE 2026 booth rental — Ultimate Exhibitor Guide & Custom Booth Options\nAbout NBAA MAINTENANCE CONFERENCE 2026\nNBAA MAINTENANCE CONFERENCE 2026 booth rental is ideal for those seeking valuable insights and networking opportunities in New Orleans. This event\, designed for everyone linked to business aircraft maintenance\, features education from technicians to directors of maintenance. Visitors will gain knowledge and build connections that are essential for growth in the aeronautics sector. \nKey Details: Feb 28–Mar 2\, 2026\, New Orleans\, LA\, United States. \nIndustries & Audience: Aeronautics – Space\, Quality & Maintenance\, Security – Risk Management\, Subcontracting\, Suppliers & Partners. \nVenue & Location\nThe NBAA MAINTENANCE CONFERENCE 2026 will be held in New Orleans\, LA\, United States. Attendees can look forward to logistics catered for smooth entry and setup. Although specific move-in windows and dock details aren’t provided\, rest assured that the venue offers accessibility for exhibitors. \nNew Orleans\, LA: Our Services\nWe DESIGN\, PRODUCE\, INSTALL & DISMANTLE turnkey booth rentals in New Orleans. Our extensive service includes concept designs\, modular frames\, branded SEG graphics\, and on-site installation and dismantling. You can trust us to handle everything with precision and care\, ensuring your booth reflects your brand impeccably. \nCustom Booth Models\nAt Snap Exhibitions\, we provide Snap Exhibitions Custom Booth Models tailored to fit your needs. Our popular footprints—10×10\, 10×20\, 20×20—are perfect options for showcasing your offerings effectively at NBAA MAINTENANCE CONFERENCE 2026. \nExplore our full-service exhibit support to ensure everything runs smoothly from design to dismantling. For inquiries\, contact our team to discuss your booth rental needs. \nFAQ\n1. What is NBAA MAINTENANCE CONFERENCE 2026 booth rental?NBAA MAINTENANCE CONFERENCE 2026 booth rental provides exhibitors with the opportunity to showcase their products and services at this significant event. \n2. When is NBAA MAINTENANCE CONFERENCE 2026?The event takes place from Feb 28 to Mar 2\, 2026. \n3. What booth sizes are recommended for aeronautics sectors?For aeronautics sectors\, we suggest using 10×20 or 20×20 booths to adequately display your offerings and engage with attendees effectively. \n4. Why is an aluminum booth better than wood?Aluminum booths are lighter\, more durable\, and easier to assemble compared to wooden booths\, providing a more efficient option for event logistics. \n5. How can Snap Exhibitions help me make everything perfect about my booth?We guide you from design to execution\, ensuring your booth meets all your goals and attracts visitors effectively. \n6. What can I expect from the NBAA MAINTENANCE CONFERENCE?You can expect insightful sessions\, networking opportunities\, and interactions with industry leaders. \n7. Why choose to rent a booth in New Orleans?New Orleans is a vibrant hub for the aeronautics sector\, making it an ideal location for engaging with professionals in the industry. \nNBAA MAINTENANCE CONFERENCE 2026 booth rental is your chance to stand out at this pivotal event and make connections that matter. For custom solutions tailored to your needs\, contact our team today!
URL:https://iwf2026.com/event/nbaa-maintenance-conference-2026/
CATEGORIES:Aeronautics - Space,Quality & Maintenance,Security - Risk Management,Subcontracting,Suppliers & Partners
END:VEVENT
END:VCALENDAR