BEGIN:VCALENDAR
VERSION:2.0
PRODID:-//IWF 2026 Atlanta — Local Booth Builder &amp; Rentals - ECPv6.15.13.1//NONSGML v1.0//EN
CALSCALE:GREGORIAN
METHOD:PUBLISH
X-ORIGINAL-URL:https://iwf2026.com
X-WR-CALDESC:Events for IWF 2026 Atlanta — Local Booth Builder &amp; Rentals
REFRESH-INTERVAL;VALUE=DURATION:PT1H
X-Robots-Tag:noindex
X-PUBLISHED-TTL:PT1H
BEGIN:VTIMEZONE
TZID:UTC
BEGIN:STANDARD
TZOFFSETFROM:+0000
TZOFFSETTO:+0000
TZNAME:UTC
DTSTART:20250101T000000
END:STANDARD
END:VTIMEZONE
BEGIN:VEVENT
DTSTART;TZID=UTC:20260823T090000
DTEND;TZID=UTC:20260827T235959
DTSTAMP:20260423T094105
CREATED:20251023T192008Z
LAST-MODIFIED:20251023T192008Z
UID:26262-1787475600-1787875199@iwf2026.com
SUMMARY:OPTICS + PHOTONICS 2025
DESCRIPTION:OPTICS + PHOTONICS 2025 booth rental — Essential Guide\nTable of Contents\n\nAbout OPTICS + PHOTONICS 2025\nVenue & Location\nSan Diego CA: Our Services\nCustom Booth Models\nFAQ\n\nAbout OPTICS + PHOTONICS 2025\nOPTICS + PHOTONICS 2025 booth rental offers a great opportunity for exhibitors to showcase their products and innovations at the renowned conference and expo for optical engineering and related fields. This event is crucial for professionals in optics and photonics\, as it gathers leading researchers and scientists to share advancements in various topics including nanotechnology and quantum science. \nKey Details: \n\nDate: May 22–26\, times TBD\nLocation: San Diego Convention Center\nAddress: 111 W. Harbor Drive\, San Diego\, CA 92101\, United States\nEvent Website\n\nThis conference targets sectors in Optics – Eyewear\, Optoelectronics\, Sciences for Engineers – Research & Development\, Micro & Nanotechnologies\, Measurement\, Control & Testing. \nVenue & Location\nThe event will take place at the San Diego Convention Center\, located at 111 W. Harbor Drive\, San Diego\, CA 92101\, United States. With expansive exhibition halls and accessible facilities\, this venue is well-equipped to host an exceptional event. Attendees will find it easy to access the venue with central transport options available. \nSan Diego CA: Our Services\nWe DESIGN\, PRODUCE\, INSTALL & DISMANTLE turnkey booth rentals in San Diego CA. Our booth rental services include concept design\, modular frame setups\, segmented graphics\, storage solutions\, and on-site installation and dismantling services tailored to meet every exhibitor’s needs. \nCustom Booth Models\nWe offer various popular booth footprints that cater to the needs of exhibitors attending the OPTICS + PHOTONICS 2025 conference. Some of the ideal options include: \n\n10×10 Booth: Perfect for small exhibitors looking to maximize impact in a limited space.\n10×20 Booth: Ideal for medium-sized businesses wishing to showcase more products and engage with attendees.\n20×20 Booth: Provides ample space for larger presentations and networking opportunities.\n\nOur Snap Exhibitions Custom Booth Models can enhance your presence\, while our full-service exhibit support ensures a seamless experience from conception to execution. \nFor inquiries or to learn more\, contact our team. \nFAQ\n\nWhat are the dates and hours for OPTICS + PHOTONICS 2025? The event runs from May 22–26. Specific hours will be announced closer to the event.\nWhat is included with an OPTICS + PHOTONICS 2025 booth rental? Our turnkey booth rentals include design\, production\, installation\, and dismantling services\, all crafted to your specifications.\nWhy is an OPTICS + PHOTONICS 2025 booth rental the best choice? A booth rental allows you to showcase advanced technology and solutions while minimizing your event logistics concerns.\nWhat is the recommended booth size for displaying optics products? We typically recommend a 10×20 or 20×20 booth for optimal spacing and interaction depending on your marketing needs.\nWhy is aluminum a better choice than wood for booth rentals? Aluminum booths offer enhanced durability\, are lighter for transport\, and allow for more innovative designs compared to traditional wood structures.\nWhat other events can I expect in San Diego? San Diego is home to various technology and industry-related events throughout the year\, showcasing innovation and advancements.\nHow can SNAP EXHIBITIONS help make everything perfect for your booth? We manage all aspects of the booth rental process\, ensuring that you can focus on engaging with attendees while we handle the logistics!\n\nAs you prepare for your participation in OPTICS + PHOTONICS 2025 booth rental\, make sure to contact us for any inquiries or to get started with your booth design today!
URL:https://iwf2026.com/event/optics-photonics-2025/
CATEGORIES:Control & Testing,Measurement,Micro & Nanotechnologies,Optics - Eyewear,Optoelectronics,Sciences for Engineers - Research & Development
END:VEVENT
END:VCALENDAR