BEGIN:VCALENDAR
VERSION:2.0
PRODID:-//IWF 2026 Atlanta — Local Booth Builder &amp; Rentals - ECPv6.15.13.1//NONSGML v1.0//EN
CALSCALE:GREGORIAN
METHOD:PUBLISH
X-ORIGINAL-URL:https://iwf2026.com
X-WR-CALDESC:Events for IWF 2026 Atlanta — Local Booth Builder &amp; Rentals
REFRESH-INTERVAL;VALUE=DURATION:PT1H
X-Robots-Tag:noindex
X-PUBLISHED-TTL:PT1H
BEGIN:VTIMEZONE
TZID:UTC
BEGIN:STANDARD
TZOFFSETFROM:+0000
TZOFFSETTO:+0000
TZNAME:UTC
DTSTART:20250101T000000
END:STANDARD
END:VTIMEZONE
BEGIN:VEVENT
DTSTART;TZID=UTC:20260409T090000
DTEND;TZID=UTC:20260412T235959
DTSTAMP:20260423T142727
CREATED:20251023T191548Z
LAST-MODIFIED:20251023T191548Z
UID:26252-1775725200-1776038399@iwf2026.com
SUMMARY:PINTASTIC PINBALL & GAME ROOM EXPO 2026
DESCRIPTION:PINTASTIC PINBALL & GAME ROOM EXPO 2026 Booth Rental — Premium Opportunities\nAbout PINTASTIC PINBALL & GAME ROOM EXPO 2026\nVenue & Location\nMarlborough MA: Our Services\nCustom Booth Models\nFAQ\nAbout PINTASTIC PINBALL & GAME ROOM EXPO 2026\nPINTASTIC PINBALL & GAME ROOM EXPO 2026 booth rental provides an exceptional opportunity for exhibitors looking to engage with enthusiasts in the toys & games sector. This event is perfect for brands wanting to showcase their pinball and game room offerings. Attendees can enjoy caricature artists\, face painting\, magic shows\, pinball games\, and much more. With activities designed for families and adolescents\, exhibitors can maximize their visibility and impact at this vibrant gathering. \nKey Details:\nJune 30 – July 2\, 2026\, 10:00 AM – 6:00 PM\nRoyal Plaza Hotel & Trade Center\n181 Boston Post Rd West Marlborough\, MA 01752 USA\nVisit Event Website \nThe event predominantly attracts audiences from the Toys & Games\, Video Games – Interactive Entertainment\, Family – Childs & Adolescents sectors. \nVenue & Location\nJoin us at the Royal Plaza Hotel & Trade Center\, located at 181 Boston Post Rd West in Marlborough\, MA. This venue offers excellent logistics for exhibitors\, with ample space for booth setups. It is conveniently accessible\, ensuring a smooth experience for all attendees. \nMarlborough MA: Our Services\nWe DESIGN\, PRODUCE\, INSTALL & DISMANTLE turnkey booth rentals in Marlborough MA. Our services include concept design\, modular frames\, branded SEG graphics\, reception and storage areas\, and TV mounts\, each tailored to enhance your presence at PINTASTIC PINBALL & GAME ROOM EXPO 2026. \nCustom Booth Models\nAt Snap Exhibitions\, we offer a variety of popular booth footprints suitable for your needs\, including 10×10\, 10×20\, and 20×20 configurations. Each design is optimized for engagement\, ensuring they resonate with attendees in the toys & games and family sectors. Enjoy our full-service exhibit support to ensure a successful show. \nFAQ\nWhat is PINTASTIC PINBALL & GAME ROOM EXPO 2026 booth rental?\nPINTASTIC PINBALL & GAME ROOM EXPO 2026 booth rental offers space to showcase your products and connect with a passionate audience. \nWhat are the event hours for the expo?\nThe event runs from June 30 to July 2\, 2026\, from 10:00 AM to 6:00 PM. \nWhat booth size is recommended for the Toys & Games sector?\nA 10×20 booth is often recommended for exhibitors in the Toys & Games sector to maximize visibility and engagement. \nWhy is an aluminum booth better than wood?\nAluminum booths are lighter and more durable\, offering a modern look that enhances transport and setup efficiency. \nWhat should I know about Marlborough\, MA?\nMarlborough offers great access and a vibrant community that embraces events like the PINTASTIC PINBALL & GAME ROOM EXPO. \nWhat can I expect at the PINTASTIC PINBALL & GAME ROOM EXPO?\nExpect a lively atmosphere filled with pinball games\, family-friendly activities\, and numerous opportunities to connect with fellow enthusiasts. \nHow can SNAP EXHIBITIONS help make everything perfect about my booth?\nWe provide end-to-end solutions from design to installation\, ensuring your booth reflects your brand’s personality effectively. \nFor exceptional PINTASTIC PINBALL & GAME ROOM EXPO 2026 booth rental options\, we invite you to contact our team today!
URL:https://iwf2026.com/event/pintastic-pinball-game-room-expo-2026/
CATEGORIES:Family - Childs & Adolescents,Toys & Games,Video Games - Interactive Entertainment
END:VEVENT
END:VCALENDAR