BEGIN:VCALENDAR
VERSION:2.0
PRODID:-//IWF 2026 Atlanta — Local Booth Builder &amp; Rentals - ECPv6.15.13.1//NONSGML v1.0//EN
CALSCALE:GREGORIAN
METHOD:PUBLISH
X-ORIGINAL-URL:https://iwf2026.com
X-WR-CALDESC:Events for IWF 2026 Atlanta — Local Booth Builder &amp; Rentals
REFRESH-INTERVAL;VALUE=DURATION:PT1H
X-Robots-Tag:noindex
X-PUBLISHED-TTL:PT1H
BEGIN:VTIMEZONE
TZID:UTC
BEGIN:STANDARD
TZOFFSETFROM:+0000
TZOFFSETTO:+0000
TZNAME:UTC
DTSTART:20250101T000000
END:STANDARD
END:VTIMEZONE
BEGIN:VEVENT
DTSTART;TZID=UTC:20260310T090000
DTEND;TZID=UTC:20260312T235959
DTSTAMP:20260419T172746
CREATED:20251023T190559Z
LAST-MODIFIED:20251023T190559Z
UID:26229-1773133200-1773359999@iwf2026.com
SUMMARY:TECHCONNECT WORLD INNOVATION 2026
DESCRIPTION:TECHCONNECT WORLD INNOVATION 2026 Booth Rental — Premium Solutions\nAbout TECHCONNECT WORLD INNOVATION 2026\nVenue & Location\nRaleigh NC: Our Services\nCustom Booth Models\nFAQ\nAbout TECHCONNECT WORLD INNOVATION 2026\nTECHCONNECT WORLD INNOVATION 2026 booth rental in Raleigh is an excellent opportunity for exhibitors looking to showcase their innovations. For over 20 years\, the TechConnect World Innovation Conference and Expo has connected top applied research and early-stage innovations from universities\, labs\, and startups with industry end-users and prospectors. This event is crucial for those involved in Micro & Nanotechnologies\, Real Time Systems & Embedded Systems\, Telecommunications\, Computers Networks\, Electronic Design & Components\, Advanced Materials\, Knowledge Based Systems & Artificial Intelligence\, Robotics\, and Sciences for Engineers – Research & Development. \nKey Details:\nJan 20–23\, 2026 9:00 AM–5:00 PM\nRaleigh Convention Center\n500 South Salisbury Street\, Raleigh\, NC 27601\nUnited States\nLearn more about the event here. \nVenue & Location\nJoin us at Raleigh Convention Center\, located at 500 South Salisbury Street\, Raleigh\, NC. This venue offers excellent logistics for move-in and dock access\, facilitating a smooth setup for your exhibition. Although there’s no specific phone contact provided\, the venue’s accessibility is central for all exhibitors. \nRaleigh NC: Our Services\nIn Raleigh NC\, we DESIGN\, PRODUCE\, INSTALL & DISMANTLE turnkey booth rentals tailored to meet your specific needs. Our services include comprehensive scope: concept design\, modular frames\, branded SEG graphics\, reception/storage spaces\, TV mounts\, and on-site installation and dismantling (I&D). Our approach ensures a seamless exhibiting experience for you. \nCustom Booth Models\nWe offer a variety of booth options suitable for your exhibiting needs. Popular footprints include: \n\n10×10: Ideal for startups and smaller businesses looking to maximize impact in a compact space.\n10×20: Perfect for those needing a larger presence without overwhelming the venue.\n20×20: Suited for larger brands or those wanting to create a significant impact and attract more visitors.\n\nFor more tailored options\, consider our Snap Exhibitions Custom Booth Models. We pride ourselves on offering full-service exhibit support\, ensuring your event is a success. \nIf you’re interested in a customized booth that elevates your presence at the TECHCONNECT WORLD INNOVATION 2026\, contact our team today! \nFAQ\n\nWhat is TECHCONNECT WORLD INNOVATION 2026 booth rental?\nIt’s an opportunity to rent a space for exhibiting innovations at the event held in Raleigh\, NC.\nWhat are the event hours for TECHCONNECT WORLD INNOVATION 2026?\nThe event will be open from Jan 20–23\, 2026\, from 9:00 AM to 5:00 PM.\nWhat booth sizes are recommended for Micro & Nanotechnologies?\nA 10×10 or 10×20 booth size is typically recommended for showcasing innovations in this category effectively.\nWhy is an aluminum booth better than wood?\nAluminum booths are lighter\, more durable\, and offer better design flexibility than wooden alternatives.\nWhat can I expect from Raleigh\, NC?\nRaleigh offers a vibrant tech community and excellent networking opportunities for innovators.\nHow does SNAP EXHIBITIONS help make everything perfect about my booth?\nWe provide end-to-end support including design\, production\, installation\, and dismantling services tailored to your needs.\nWhat makes TECHCONNECT WORLD INNOVATION 2026 essential for exhibitors?\nExhibitors gain direct access to industry decision-makers and the opportunity to showcase their latest innovations.\n\nWith our focus on TECHCONNECT WORLD INNOVATION 2026 booth rental\, you can ensure a premium exhibiting experience that connects you with valuable industry leaders. Contact us today to secure your booth rental and maximize your impact!
URL:https://iwf2026.com/event/techconnect-world-innovation-2026/
CATEGORIES:Advanced Materials,Computers Networks,Electronic Design & Components,Knowledge Based Systems & Artificial Intelligence,Micro & Nanotechnologies,Real Time Systems & Embedded Systems,Robotics,Sciences for Engineers - Research & Development,Telecommunications
END:VEVENT
END:VCALENDAR