BEGIN:VCALENDAR
VERSION:2.0
PRODID:-//IWF 2026 Atlanta — Local Booth Builder &amp; Rentals - ECPv6.15.13.1//NONSGML v1.0//EN
CALSCALE:GREGORIAN
METHOD:PUBLISH
X-ORIGINAL-URL:https://iwf2026.com
X-WR-CALDESC:Events for IWF 2026 Atlanta — Local Booth Builder &amp; Rentals
REFRESH-INTERVAL;VALUE=DURATION:PT1H
X-Robots-Tag:noindex
X-PUBLISHED-TTL:PT1H
BEGIN:VTIMEZONE
TZID:UTC
BEGIN:STANDARD
TZOFFSETFROM:+0000
TZOFFSETTO:+0000
TZNAME:UTC
DTSTART:20250101T000000
END:STANDARD
END:VTIMEZONE
BEGIN:VEVENT
DTSTART;TZID=UTC:20260503T090000
DTEND;TZID=UTC:20260504T235959
DTSTAMP:20260423T144104
CREATED:20251023T065148Z
LAST-MODIFIED:20251023T065148Z
UID:26032-1777798800-1777939199@iwf2026.com
SUMMARY:THE MAKEUP SHOW - NYC 2026
DESCRIPTION:THE MAKEUP SHOW – NYC 2026 booth rental — Essential Guide\nAbout THE MAKEUP SHOW – NYC 2026\nVenue & Location\nNew York: Our Services\nCustom Booth Models\nFAQ\nWelcome to THE MAKEUP SHOW – NYC 2026 booth rental. Join us from Dec 2–3\, 9:00 AM–5:00 PM at the Metropolitan Pavilion\, 125 West 18 TH Street\, New York\, NY 10011\, United States. This event caters to the Beauty & Personal Care\, Fashion – Clothing industries\, where attendees can engage with top makeup artists and beauty experts\, learning the latest trends\, techniques\, and insider secrets to a successful career. \nDuring these two exciting days\, you will have educational opportunities through seminars and demo stages\, ensuring your booth remains at the forefront of industry innovation. Don’t miss out on this chance! For more details\, visit our event website. \nKey Details\n\nDate: Dec 2–3\, 2026 \nLocation: Metropolitan Pavilion\nAddress: 125 West 18 TH Street\, New York\, NY 10011\, USA\nCountry: United States\n\nVenue & Location\nThe Metropolitan Pavilion at 125 West 18 TH Street\, New York\, NY 10011\, USA serves as an ideal venue for this event. Attendees can expect a smooth logistics process\, with ample access for setup and dismantling. If you have questions\, feel free to reach out. \nNew York: Our Services\nWe DESIGN\, PRODUCE\, INSTALL & DISMANTLE turnkey booth rentals in New York. Our services encompass concept/design\, modular frames\, branded SEG graphics\, reception/storage areas\, and TV mounts\, ensuring your exhibition needs are fully met. \nCustom Booth Models\nWe offer various booth sizes tailored to the Beauty & Personal Care sectors\, including: \n\n10×10 booths—perfect for focused engagements.\n10×20 booths—spacious enough for demonstrations.\n20×20 booths—ideal for a larger presence.\n\nCheck out our Snap Exhibitions Custom Booth Models and our full-service exhibit support for comprehensive options. To get started\, contact our team today! \nFAQ\nQ: What are the hours for THE MAKEUP SHOW – NYC 2026 booth rental?\nA: THE MAKEUP SHOW – NYC 2026 runs from Dec 2–3\, 9:00 AM to 5:00 PM. \nQ: What size booth should I choose for the Beauty & Personal Care sector?\nA: A 10×10 booth is ideal for quick interactions\, while a 20×20 booth allows for a more significant engagement and display options. \nQ: Why should I consider aluminum booth rental over wood?\nA: Aluminum booths are lighter and more durable than wood\, allowing for easier transport and setup while ensuring a modern look. \nQ: What services does Snap Exhibitions provide in New York?\nA: We offer a full range of services\, including design\, production\, installation\, and dismantling of booths in New York. \nQ: How can I make my booth standout at THE MAKEUP SHOW – NYC 2026?\nA: By utilizing our custom designs and making use of strong visuals\, we help ensure your booth captures attention. \nQ: Can I contact Snap Exhibitions for further assistance with my booth rental?\nA: Absolutely\, feel free to contact our team for expert assistance! \nIn conclusion\, if you’re looking for THE MAKEUP SHOW – NYC 2026 booth rental options\, we are here to help you create an impactful experience that will draw attendees to your booth. Don’t hesitate to get in touch with us for more information on how we can assist you!
URL:https://iwf2026.com/event/the-makeup-show-nyc-2026/
CATEGORIES:Beauty & Personal Care,Fashion - Clothing
END:VEVENT
END:VCALENDAR