BEGIN:VCALENDAR
VERSION:2.0
PRODID:-//IWF 2026 Atlanta — Local Booth Builder &amp; Rentals - ECPv6.15.13.1//NONSGML v1.0//EN
CALSCALE:GREGORIAN
METHOD:PUBLISH
X-WR-CALNAME:IWF 2026 Atlanta — Local Booth Builder &amp; Rentals
X-ORIGINAL-URL:https://iwf2026.com
X-WR-CALDESC:Events for IWF 2026 Atlanta — Local Booth Builder &amp; Rentals
REFRESH-INTERVAL;VALUE=DURATION:PT1H
X-Robots-Tag:noindex
X-PUBLISHED-TTL:PT1H
BEGIN:VTIMEZONE
TZID:UTC
BEGIN:STANDARD
TZOFFSETFROM:+0000
TZOFFSETTO:+0000
TZNAME:UTC
DTSTART:20250101T000000
END:STANDARD
END:VTIMEZONE
BEGIN:VEVENT
DTSTART;TZID=UTC:20260619T090000
DTEND;TZID=UTC:20260621T235959
DTSTAMP:20260423T144018
CREATED:20251023T085627Z
LAST-MODIFIED:20251023T085627Z
UID:26095-1781859600-1782086399@iwf2026.com
SUMMARY:THE WOODENBOAT SHOW CONNECTICUT 2026
DESCRIPTION:THE WOODENBOAT SHOW CONNECTICUT 2026 — Exhibitor Guide & Premium Options\nAbout THE WOODENBOAT SHOW CONNECTICUT 2026\nJoin us at the THE WOODENBOAT SHOW CONNECTICUT 2026\, held at the enchanting Mystic Seaport\, where boating and marine enthusiasts gather to explore an outstanding array of products from the boat industry. This event showcases the best in boating\, sailing\, and water sports\, including wooden\, aluminum\, and PVC products from top marine vendors. Exhibitors gain access to a targeted audience who are passionate about marine activities\, providing an invaluable opportunity for networking and product showcasing. \n\nKey Details:\nDate: Jun 18–19\, 2026\, 9:00 AM–5:00 PM\nLocation: Mystic Seaport\nAddress: 75 Greenmanville Ave\, Mystic\, CT 06355\, USA\nEvent Website\n\nIndustries & Audience: Boating\, Sailing & Water Sports\, Wood Working Industries\, Sports. \nVenue & Location\nLocated in the historic Mystic Seaport at 75 Greenmanville Ave\, Mystic\, CT 06355\, USA\, this venue offers excellent logistical access for exhibitors. With various move-in windows and facilities for easy dock access\, showcasing at the show is a seamless process. For inquiries\, you can reach out at +1 (207) 359-7751. \nMystic CT: Our Services\nWe DESIGN\, PRODUCE\, INSTALL & DISMANTLE turnkey booth rentals in this city\, ensuring an exceptional exhibition experience tailored for our clients. Our services encompass concept and design\, modular frames\, branded SEG graphics\, reception/storage solutions\, TV mounts\, and on-site installation and dismantle assistance. \nCustom Booth Models\nExplore our popular booth footprint options: the 10×10\, 10×20\, and 20×20. These sizes cater perfectly to exhibitors from the boating and woodworking sectors\, showcasing products effectively while providing an engaging atmosphere. For a deeper dive into our offerings\, check out our Snap Exhibitions Custom Booth Models page and discover our comprehensive full-service exhibit support. \nFor personalized assistance\, contact our team today! \nFAQ\nQ: What is THE WOODENBOAT SHOW CONNECTICUT 2026 booth rental?A: Our booth rental service provides a seamless experience with fully designed and equipped spaces tailored for your showcasing needs. \nQ: When does the event take place?A: The event is scheduled for Jun 18–19\, 2026\, from 9:00 AM to 5:00 PM. \nQ: What booth sizes do you recommend for the boating and woodworking sectors?A: We suggest 10×20 and 20×20 options\, which allow for ample space to display products effectively and engage with your audience. \nQ: Why is an aluminum booth better than wood?A: Aluminum booths are lighter\, more durable\, and easier to transport compared to wood\, making them ideal for frequent setups. \nQ: What can I explore in Mystic\, CT?A: Mystic is rich in maritime history and boasts attractions that cater to boat enthusiasts and families alike\, providing an excellent experience outside the show. \nQ: How can SNAP EXHIBITIONS help make everything perfect about their booth?A: We ensure a stress-free process by managing every detail\, from booth design to setup\, ensuring your exhibitions stand out. \nAs you prepare for THE WOODENBOAT SHOW CONNECTICUT 2026 booth rental\, remember that we are here to assist you in creating an impactful presence. Contact us today to kickstart your exhibition journey!
URL:https://iwf2026.com/event/the-woodenboat-show-connecticut-2026/
CATEGORIES:Boating,Sailing & Water Sports,Sports,Wood Working Industries
END:VEVENT
END:VCALENDAR