BEGIN:VCALENDAR
VERSION:2.0
PRODID:-//IWF 2026 Atlanta — Local Booth Builder &amp; Rentals - ECPv6.15.13.1//NONSGML v1.0//EN
CALSCALE:GREGORIAN
METHOD:PUBLISH
X-ORIGINAL-URL:https://iwf2026.com
X-WR-CALDESC:Events for IWF 2026 Atlanta — Local Booth Builder &amp; Rentals
REFRESH-INTERVAL;VALUE=DURATION:PT1H
X-Robots-Tag:noindex
X-PUBLISHED-TTL:PT1H
BEGIN:VTIMEZONE
TZID:UTC
BEGIN:STANDARD
TZOFFSETFROM:+0000
TZOFFSETTO:+0000
TZNAME:UTC
DTSTART:20250101T000000
END:STANDARD
END:VTIMEZONE
BEGIN:VEVENT
DTSTART;TZID=UTC:20260331T090000
DTEND;TZID=UTC:20260402T235959
DTSTAMP:20260419T172706
CREATED:20251023T062145Z
LAST-MODIFIED:20251023T062145Z
UID:25963-1774947600-1775174399@iwf2026.com
SUMMARY:TPE 2026
DESCRIPTION:TPE 2026 booth rental — Exhibitor Guide & Ultimate Options\nAbout TPE 2026\nTPE 2026 booth rental offers exhibitors an incredible opportunity to showcase their brand at the renowned Las Vegas Convention Center. As a prominent trade show\, TPE 2026 caters to a diverse audience\, allowing exhibitors to maximize their visibility and engagement. Attendees will gain insights into industry trends and establish valuable connections. \nKey Details\n\nDates: Feb 24–26\, 9:00 AM–5:00 PM\nLocation: Las Vegas Convention Center\nAddress: 3150 Paradise Road\, Las Vegas\, NV 89109\, USA\nCountry: United States\n\nIndustries & Audience: This event will attract professionals from various sectors\, highlighting a **bold** approach to your business opportunities. \nVenue & Location\nThe TPE 2026 will be held at the Las Vegas Convention Center\, located at 3150 Paradise Road\, Las Vegas\, NV 89109\, USA. The venue offers central access and convenient logistics for exhibitors\, ensuring a smooth experience for setting up and dismantling booths. \nLas Vegas NV: Our Services\nWe DESIGN\, PRODUCE\, INSTALL & DISMANTLE turnkey booth rentals in Las Vegas NV. Our offerings include concept and design services\, modular frames\, branded SEG graphics\, storage solutions\, and on-site installation and dismantling. \nCustom Booth Models\nDiscover our Snap Exhibitions Custom Booth Models\, which are tailored to meet the specific needs of attendees from various sectors. We provide popular booth footprints such as: \n\n10×10: Ideal for smaller displays that still grab attention.\n10×20: A perfect size for those looking to make a stronger impact.\n20×20: Spacious designs that allow for engaging interactions.\n\nFor ideas on full-service support\, check out our full-service exhibit support. To connect with our team\, please contact our team. \nFAQ\n\nWhat options do we have for a TPE 2026 booth rental?\nAt TPE 2026\, we offer a range of customizable booth rentals to suit your needs. \n\nWhen is TPE 2026 held?\nThe event takes place from Feb 24–26\, 9:00 AM–5:00 PM. \n\nWhat booth sizes are recommended for the trade sectors?\nWe recommend 10×10\, 10×20\, and 20×20 booth sizes based on your interaction needs. \n\nWhy choose aluminum booths over wood?\nAluminum booths are lighter\, more durable\, and easier to transport and set up. \n\nWhat attractions in Las Vegas can we explore?\nLas Vegas offers a vibrant nightlife\, world-class dining\, and exciting entertainment options. \n\nHow can SNAP EXHIBITIONS ensure the perfect booth?\nWe provide comprehensive services\, from design to dismantle\, ensuring seamless execution. \n\n\nIf you are looking for a TPE 2026 booth rental that stands out\, reach out to us at Snap Exhibitions today!
URL:https://iwf2026.com/event/tpe-2026/
CATEGORIES:NULL
END:VEVENT
END:VCALENDAR